BEGIN:VCALENDAR
VERSION:2.0
PRODID:-//Rigpa Australia - ECPv6.15.20//NONSGML v1.0//EN
CALSCALE:GREGORIAN
METHOD:PUBLISH
X-ORIGINAL-URL:https://rigpa.org.au
X-WR-CALDESC:Events for Rigpa Australia
REFRESH-INTERVAL;VALUE=DURATION:PT1H
X-Robots-Tag:noindex
X-PUBLISHED-TTL:PT1H
BEGIN:VTIMEZONE
TZID:Australia/Melbourne
BEGIN:STANDARD
TZOFFSETFROM:+1100
TZOFFSETTO:+1000
TZNAME:AEST
DTSTART:20230401T160000
END:STANDARD
BEGIN:DAYLIGHT
TZOFFSETFROM:+1000
TZOFFSETTO:+1100
TZNAME:AEDT
DTSTART:20230930T160000
END:DAYLIGHT
BEGIN:STANDARD
TZOFFSETFROM:+1100
TZOFFSETTO:+1000
TZNAME:AEST
DTSTART:20240406T160000
END:STANDARD
BEGIN:DAYLIGHT
TZOFFSETFROM:+1000
TZOFFSETTO:+1100
TZNAME:AEDT
DTSTART:20241005T160000
END:DAYLIGHT
BEGIN:STANDARD
TZOFFSETFROM:+1100
TZOFFSETTO:+1000
TZNAME:AEST
DTSTART:20250405T160000
END:STANDARD
BEGIN:DAYLIGHT
TZOFFSETFROM:+1000
TZOFFSETTO:+1100
TZNAME:AEDT
DTSTART:20251004T160000
END:DAYLIGHT
END:VTIMEZONE
BEGIN:VTIMEZONE
TZID:Australia/Brisbane
BEGIN:STANDARD
TZOFFSETFROM:+1000
TZOFFSETTO:+1000
TZNAME:AEST
DTSTART:20220101T000000
END:STANDARD
END:VTIMEZONE
BEGIN:VEVENT
DTSTART;TZID=Australia/Melbourne:20240807T190000
DTEND;TZID=Australia/Melbourne:20240807T204500
DTSTAMP:20260423T225803
CREATED:20240507T140019Z
LAST-MODIFIED:20240611T041547Z
UID:10002820-1723057200-1723063500@rigpa.org.au
SUMMARY:Warm Heart\, Wise Mind: A deep dive into our own compassionate nature
DESCRIPTION:A new course offered by Rigpa Brisbane | Wednesday evenings | 7:00pm – 8:45pm \nFor 10 sessions at Rigpa Brisbane \nStarting 5 June 2024 \nWith Jan van der Breggen \n\nThis course explores the transformative power of compassion\, and how to respond to the challenges of our lives in an open hearted\, compassionate way. In the Buddhist tradition compassion is treasured as a powerful source of healing and inner strength\, and the key to building meaningful relationships. \nWe will take our life experiences as the starting point of our 10-week journey. They are the ‘raw materials’ for developing compassion. We will explore how opening our mind and heart to our own and others’ experiences of happiness and suffering helps us connect with our innate capacity for empathy.  Compassion\, then\, arises when we take this natural capacity for empathy—that love and affection we all feel for one another— and combine it with wisdom. The basis of this wisdom is a deep understanding of suffering and its causes\, and a realisation that our own happiness and the happiness of others are deeply connected and dependent on each other. \nThe course will draw on a variety of sources\, ranging from insights of contemporary science and philosophy to the direct teachings of Buddha recorded in ancient texts called sutra and abhidharma\, to contemporary masters who hold the living and unbroken transmission of the Buddha’s wisdom mind and are able to guide us from the depth of their insight and compassion. \n  \n \nAbout Jan van der Breggen \nJan has studied and practised the Dharma since the mid-1990s\, learning from many great masters\, but principally from Sogyal Rinpoche and Dzongsar Khyentse Rinpoche. From 2006 to 2009\, he participated in a three-year meditation retreat in France. \nIn 2022\, Jan was entrusted by Khenchen Namdrol Rinpoche and Mindrolling Jetsün Khandro Rinpoche as one of the twenty-five\, worldwide Rigpa Senior Teachers. In 2017 he was selected to be a participant of the Milinda program\, a 10-year\, international Buddhist teacher training program under the guidance of Dzongsar Khyentse Rinpoche. \nJan grew up in the Netherlands where he earnt his masters degree in Historical Anthropology. He is fluent in English and Dutch\, and lives in Brisbane where he works as a data analytics professional whilst being involved in the Rigpa Brisbane and National Centre as a dharma teacher. \n  \nThis course is suitable for:  Beginners and experienced students alike \nWhen: 10 weekly classes\, Wednesday 5 June to 7 August 2024\, 7 to 8.45pm AEST \nWhere: In person at Rigpa Brisbane\, 19 Enoggera Tce\, Red Hill (online attendance only available if you do not live in Brisbane) \nCost: $200 full fee or $110 concession \nFor Rigpa subscribers: The course is included in your subscription fees (registration is still required\, just close the payment page that comes up after registration.)
URL:https://rigpa.org.au/event/warm-heart-wise-mind-a-deep-dive-into-our-own-compassionate-nature/2024-08-07/
LOCATION:Rigpa Brisbane\, Unit 2/19 Enoggera Terrace\, Brisbane\, Queensland\, Australia
CATEGORIES:Brisbane Everyone,For Everyone,Newcastle,Newcastle - All welcome,Online
ATTACH;FMTTYPE=image/png:https://rigpa.org.au/wp-content/uploads/2024/05/Warm-Heart-Wise-Mind-.png
ORGANIZER;CN="Rigpa Brisbane":MAILTO:brisbane@rigpa.org.au
END:VEVENT
BEGIN:VEVENT
DTSTART;TZID=Australia/Brisbane:20240220T190000
DTEND;TZID=Australia/Brisbane:20240220T203000
DTSTAMP:20260423T225803
CREATED:20240317T111115Z
LAST-MODIFIED:20240317T113410Z
UID:10001151-1708455600-1708461000@rigpa.org.au
SUMMARY:Tuesday Book Group
DESCRIPTION:We will discuss Tsoknyi Rinpoche’s book Open Heart\, Open Mind in the Book Group. \nTsoknyi Rinpoche’s story is an unusual one – as a rebellious young man\, he fled a monastery to marry and raise a family\, then returned to Nepal and has since become a preeminent Tibetan Buddhist teacher. As a married man raising two daughters\, Tsoknyi Rinpoche has interesting views on how to balance a life dedicated to Buddhist practice with the demands of a husband and father. In addition\, he has a keen interest in the ongoing dialogue between Eastern philosophy and Western research\, especially in neuroscience. His writing reflects this awareness of the Western psyche while also imparting the earliest tenets of Buddhism. \nOpen Heart\, Open Mind offers Rinpoche’s extraordinary history as an example of how to lead a compassionate life\, regardless of status\, tradition or circumstances. Accessible and relevant to every variety of reader\, this is an illuminating guide from a man who truly is a bridge between ancient wisdom and the modern mind. \nIt is a wonderful opportunity to share insights and reflections with like-minded Dharma friends. \nA small plate of food to share and a donation to our Centre is most appreciated. \nAll are welcome. \nPre-booking is not required. \nEnquiries: Contact Liz at brisbane@rigpa.org.au
URL:https://rigpa.org.au/event/tuesday-book-group-2/2024-02-20/
LOCATION:Rigpa Brisbane\, Unit 2/19 Enoggera Terrace\, Brisbane\, Queensland\, Australia
CATEGORIES:Brisbane Everyone
ATTACH;FMTTYPE=image/png:https://rigpa.org.au/wp-content/uploads/2024/03/Open-Heart-Open-Mind-header.png
ORGANIZER;CN="Rigpa Brisbane":MAILTO:brisbane@rigpa.org.au
END:VEVENT
BEGIN:VEVENT
DTSTART;TZID=Australia/Brisbane:20231213T190000
DTEND;TZID=Australia/Brisbane:20231213T204500
DTSTAMP:20260423T225803
CREATED:20230916T105001Z
LAST-MODIFIED:20230916T233241Z
UID:10001046-1702494000-1702500300@rigpa.org.au
SUMMARY:Finding Inner Strength\, Wisdom\, and Compassion
DESCRIPTION:
URL:https://rigpa.org.au/event/finding-inner-strength-wisdom-and-compassion/2023-12-13/
LOCATION:Rigpa Brisbane\, Unit 2/19 Enoggera Terrace\, Brisbane\, Queensland\, Australia
CATEGORIES:Brisbane Everyone
ATTACH;FMTTYPE=image/jpeg:https://rigpa.org.au/wp-content/uploads/2023/09/Gold_Buddha_banner_event_TSHE_2023.jpg
ORGANIZER;CN="Rigpa Brisbane":MAILTO:brisbane@rigpa.org.au
END:VEVENT
BEGIN:VEVENT
DTSTART;TZID=Australia/Brisbane:20231125T090000
DTEND;TZID=Australia/Brisbane:20231125T100000
DTSTAMP:20260423T225803
CREATED:20230701T124649Z
LAST-MODIFIED:20230727T040125Z
UID:10000708-1700902800-1700906400@rigpa.org.au
SUMMARY:Saturday Drop-in meditation
DESCRIPTION:These drop-in meditation sessions are a good opportunity to practice meditation in a supportive environment. \nAll are welcome and basic guidance is given. \nPre-booking is not required. \nEnquiries: brisbane@rigpa.org.au
URL:https://rigpa.org.au/event/saturday-drop-in-meditation/2023-11-25/
LOCATION:Rigpa Brisbane\, Unit 2/19 Enoggera Terrace\, Brisbane\, Queensland\, Australia
CATEGORIES:Brisbane Everyone
ATTACH;FMTTYPE=image/jpeg:https://rigpa.org.au/wp-content/uploads/2023/07/Event-RB-Sat-Drop-In.jpg
ORGANIZER;CN="Rigpa Brisbane":MAILTO:brisbane@rigpa.org.au
END:VEVENT
BEGIN:VEVENT
DTSTART;TZID=Australia/Brisbane:20231105T090000
DTEND;TZID=Australia/Brisbane:20231105T094500
DTSTAMP:20260423T225803
CREATED:20230701T121454Z
LAST-MODIFIED:20230727T040341Z
UID:10000702-1699174800-1699177500@rigpa.org.au
SUMMARY:Sunday Drop-in Loving Kindness practice
DESCRIPTION:All are welcome. The practice of Loving Kindness is a guided contemplation based on the teaching of the Buddha. It is a method for awakening Love and Compassion within ourselves to enable us to be genuinely loving and compassionate to others. \nAll are welcome and basic guidance is given. \nPre-booking is not required. \nEnquiries: brisbane@rigpa.org.au
URL:https://rigpa.org.au/event/sunday-loving-kindness/2023-11-05/
LOCATION:Rigpa Brisbane\, Unit 2/19 Enoggera Terrace\, Brisbane\, Queensland\, Australia
CATEGORIES:Brisbane Everyone
ATTACH;FMTTYPE=image/jpeg:https://rigpa.org.au/wp-content/uploads/2023/07/Event-RB-Sun-Drop-In-1.jpg
ORGANIZER;CN="Rigpa Brisbane":MAILTO:brisbane@rigpa.org.au
END:VEVENT
BEGIN:VEVENT
DTSTART;TZID=Australia/Brisbane:20230910T100000
DTEND;TZID=Australia/Brisbane:20230910T120000
DTSTAMP:20260423T225803
CREATED:20230701T125244Z
LAST-MODIFIED:20231016T050226Z
UID:10000709-1694340000-1694347200@rigpa.org.au
SUMMARY:Sunday Open Day
DESCRIPTION:These open days are a wonderful opportunity for us – old and new students – to gather physically in our centres for reflection on the Dharma\, discussion and support. We hope you can join us. \nNew students are welcome. \nPre-booking is not required. \nEnquiries: brisbane@rigpa.org.au
URL:https://rigpa.org.au/event/sunday-open-day/2023-09-10/
LOCATION:Rigpa Brisbane\, Unit 2/19 Enoggera Terrace\, Brisbane\, Queensland\, Australia
CATEGORIES:Brisbane Everyone
ATTACH;FMTTYPE=image/jpeg:https://rigpa.org.au/wp-content/uploads/2023/07/Event-RB-Sun-Open-Day.jpg
ORGANIZER;CN="Rigpa Brisbane":MAILTO:brisbane@rigpa.org.au
END:VEVENT
BEGIN:VEVENT
DTSTART;TZID=Australia/Brisbane:20230721T190000
DTEND;TZID=Australia/Brisbane:20230721T210000
DTSTAMP:20260423T225803
CREATED:20230702T050137Z
LAST-MODIFIED:20230702T051653Z
UID:10000740-1689966000-1689973200@rigpa.org.au
SUMMARY:Celebrate the Turning of the Wheel of Dharma
DESCRIPTION:Celebrate the Turning of the Wheel of Dharma \nOn Friday 21 July\, dharma practitioners around the world will celebrate Chökhor Düchen\, the ‘Festival of Turning the Wheel of Dharma’ — one of the four major Buddhist holidays celebrating the life of Shakyamuni Buddha. It occurs on the fourth day of the sixth Tibetan lunar month. For seven weeks after his enlightenment\, Buddha did not teach. Finally\, encouraged by Indra and Brahma\, he turned the Wheel of Dharma for the first time\, at Sarnath\, by teaching the ‘Four Noble Truths’. The effects of our actions are said to multiply 10 million times on this day. \nAll are welcome. \nPre-booking is not required. \nEnquiries: brisbane@rigpa.org.au
URL:https://rigpa.org.au/event/celebrate-the-turning-of-the-wheel-of-dharma/
LOCATION:Rigpa Brisbane\, Unit 2/19 Enoggera Terrace\, Brisbane\, Queensland\, Australia
CATEGORIES:Brisbane Everyone
ATTACH;FMTTYPE=image/jpeg:https://rigpa.org.au/wp-content/uploads/2023/07/Event-Practice-21Jul23.jpg
ORGANIZER;CN="Rigpa Brisbane":MAILTO:brisbane@rigpa.org.au
END:VEVENT
END:VCALENDAR