BEGIN:VCALENDAR
VERSION:2.0
PRODID:-//Rigpa Australia - ECPv6.15.20//NONSGML v1.0//EN
CALSCALE:GREGORIAN
METHOD:PUBLISH
X-ORIGINAL-URL:https://rigpa.org.au
X-WR-CALDESC:Events for Rigpa Australia
REFRESH-INTERVAL;VALUE=DURATION:PT1H
X-Robots-Tag:noindex
X-PUBLISHED-TTL:PT1H
BEGIN:VTIMEZONE
TZID:Australia/Melbourne
BEGIN:STANDARD
TZOFFSETFROM:+1100
TZOFFSETTO:+1000
TZNAME:AEST
DTSTART:20230401T160000
END:STANDARD
BEGIN:DAYLIGHT
TZOFFSETFROM:+1000
TZOFFSETTO:+1100
TZNAME:AEDT
DTSTART:20230930T160000
END:DAYLIGHT
BEGIN:STANDARD
TZOFFSETFROM:+1100
TZOFFSETTO:+1000
TZNAME:AEST
DTSTART:20240406T160000
END:STANDARD
BEGIN:DAYLIGHT
TZOFFSETFROM:+1000
TZOFFSETTO:+1100
TZNAME:AEDT
DTSTART:20241005T160000
END:DAYLIGHT
BEGIN:STANDARD
TZOFFSETFROM:+1100
TZOFFSETTO:+1000
TZNAME:AEST
DTSTART:20250405T160000
END:STANDARD
BEGIN:DAYLIGHT
TZOFFSETFROM:+1000
TZOFFSETTO:+1100
TZNAME:AEDT
DTSTART:20251004T160000
END:DAYLIGHT
END:VTIMEZONE
BEGIN:VTIMEZONE
TZID:Australia/Sydney
BEGIN:STANDARD
TZOFFSETFROM:+1100
TZOFFSETTO:+1000
TZNAME:AEST
DTSTART:20230401T160000
END:STANDARD
BEGIN:DAYLIGHT
TZOFFSETFROM:+1000
TZOFFSETTO:+1100
TZNAME:AEDT
DTSTART:20230930T160000
END:DAYLIGHT
BEGIN:STANDARD
TZOFFSETFROM:+1100
TZOFFSETTO:+1000
TZNAME:AEST
DTSTART:20240406T160000
END:STANDARD
BEGIN:DAYLIGHT
TZOFFSETFROM:+1000
TZOFFSETTO:+1100
TZNAME:AEDT
DTSTART:20241005T160000
END:DAYLIGHT
BEGIN:STANDARD
TZOFFSETFROM:+1100
TZOFFSETTO:+1000
TZNAME:AEST
DTSTART:20250405T160000
END:STANDARD
BEGIN:DAYLIGHT
TZOFFSETFROM:+1000
TZOFFSETTO:+1100
TZNAME:AEDT
DTSTART:20251004T160000
END:DAYLIGHT
END:VTIMEZONE
BEGIN:VEVENT
DTSTART;TZID=Australia/Melbourne:20240922T160000
DTEND;TZID=Australia/Melbourne:20240922T180000
DTSTAMP:20260426T104709
CREATED:20240714T054436Z
LAST-MODIFIED:20240918T082719Z
UID:10003292-1727020800-1727028000@rigpa.org.au
SUMMARY:Faith\, Religion and Peace
DESCRIPTION:Do religions cause wars? Can faith bring peace to individuals and the world? \nIf faith can lead to inner peace\, why are faith and religion often linked in our minds to war and conflict? \nLeaders from local faith communities will speak\, and Patricia Garcia AO from the Institute for Economics and Peace will present the results of their research into religion and war. \nThis event celebrates the United Nations International Day of Peace\, and is part of the annual Raising Peace Festival
URL:https://rigpa.org.au/event/faith-religion-and-peace/
LOCATION:Rigpa Sydney\, 158 Australia St\, Newtown\, Sydney\, NSW\, 2042\, Australia
CATEGORIES:For Everyone,Newcastle - All welcome,Online,Sydney - Everyone
ORGANIZER;CN="Rigpa Sydney":MAILTO:sydney@rigpa.org.au
END:VEVENT
BEGIN:VEVENT
DTSTART;TZID=Australia/Melbourne:20240907T150000
DTEND;TZID=Australia/Melbourne:20240907T170000
DTSTAMP:20260426T104709
CREATED:20240626T060014Z
LAST-MODIFIED:20240808T085446Z
UID:10003191-1725721200-1725728400@rigpa.org.au
SUMMARY:Overcoming the Conceptual Mind through Meditation
DESCRIPTION:When we meditate\, calling upon three key principles of calm abiding (mindfulness\, awareness and abiding spaciously) can transform our meditation practice to take us beyond being trapped in our ordinary conceptual mind\, to a deep experience of what our mind is truly capable of. Applying mindfulness\, awareness and abiding spaciously as we go about our everyday activities\, means that every moment can become an opportunity for transformation and awakening. \n  \n🗓️ Saturday 7 September \n⏰ 3-5pm AEST 7-9am CEST \n📍Online & Sydney
URL:https://rigpa.org.au/event/overcoming-the-conceptual-mind-through-meditation/
LOCATION:Rigpa Sydney\, 158 Australia St\, Newtown\, Sydney\, NSW\, 2042\, Australia
CATEGORIES:For Everyone,Newcastle,Newcastle - All welcome,Online,Sydney - Everyone
ORGANIZER;CN="Rigpa Sydney":MAILTO:sydney@rigpa.org.au
END:VEVENT
BEGIN:VEVENT
DTSTART;TZID=Australia/Melbourne:20240901T093000
DTEND;TZID=Australia/Melbourne:20240901T130000
DTSTAMP:20260426T104709
CREATED:20240623T103247Z
LAST-MODIFIED:20240808T090835Z
UID:10003156-1725183000-1725195600@rigpa.org.au
SUMMARY:Following the Path with the Aid of a Spiritual Friend
DESCRIPTION:The relationship between a student and a living teacher is an integral part of the Tibetan Buddhist tradition. In this session we’ll look at some important aspects of this element of the spiritual path.
URL:https://rigpa.org.au/event/following-the-path-with-the-aid-of-a-spiritual-friend/
LOCATION:Rigpa Sydney\, 158 Australia St\, Newtown\, Sydney\, NSW\, 2042\, Australia
CATEGORIES:For Everyone,Newcastle,Newcastle - All welcome,Online,Sydney - Everyone
ORGANIZER;CN="Rigpa Sydney":MAILTO:sydney@rigpa.org.au
END:VEVENT
BEGIN:VEVENT
DTSTART;TZID=Australia/Melbourne:20240820T190000
DTEND;TZID=Australia/Melbourne:20240820T210000
DTSTAMP:20260426T104709
CREATED:20240805T011401Z
LAST-MODIFIED:20240805T011420Z
UID:10003196-1724180400-1724187600@rigpa.org.au
SUMMARY:Experiencing the Awakened Mind and Unconditional Love
DESCRIPTION:We all have a limitless resource of love\, compassion and wisdom within us. \nThis five-week course presents : \n\npenetrating Buddhist analysis of the impermanence and interdependence of our lives\, to give us a clear-eyed view of ourselves and the world around us\na deep understanding that to act compassionately is to act in accord with the truth of how the world is\, and\nhow Buddhist practices\, that remind us of these truths\, open the path to our own long-lasting happiness and the benefit of all beings\n\nHeld over five Tuesday evenings from 7 – 9pm\, from 23 July to 20 August\, 2024. \nMelbourne: 803 Nicholson St\, Carlton North\nSydney: 158 Australia St\, Newtown\nOnline via Zoom \nNote – this course is also known as Module 3A of the Wisdom of Compassion full year course. New students are welcome to join this module. \nLed by western meditation instructors with many years of experience\, each session consists of: \n\nVideo teachings from Tibetan and Western Buddhist masters including Sogyal Rinpoche\, Jetsün Khandro Rinpoche\, Ringu Tulku Rinpoche\, Mingyur Rinpoche\, Pema Chödrön and Sharon Salzberg ;\nMeditation practice ;\nTime for contemplation ;\nGroup discussions and Q&A\, offering each student the opportunity to explore the teachings and practices in an open supportive environment and to connect with a community of practitioners\n\nFree for Rigpa members/subscribers using a discount code. Please email sydney@rigpa.org.au for the code.
URL:https://rigpa.org.au/event/experiencing-the-awakened-mind-and-unconditional-love-2/2024-08-20/
LOCATION:Rigpa Sydney\, 158 Australia St\, Newtown\, Sydney\, NSW\, 2042\, Australia
CATEGORIES:For Everyone,Melbourne - Everyone,Online,Sydney - Everyone
ORGANIZER;CN="Rigpa Sydney":MAILTO:sydney@rigpa.org.au
END:VEVENT
BEGIN:VEVENT
DTSTART;TZID=Australia/Melbourne:20240804T093000
DTEND;TZID=Australia/Melbourne:20240804T130000
DTSTAMP:20260426T104709
CREATED:20240623T101834Z
LAST-MODIFIED:20240623T101834Z
UID:10003154-1722763800-1722776400@rigpa.org.au
SUMMARY:Liberation: Is it possible in this life?
DESCRIPTION:No matter who we are\, we all share the same wish to be happy and free from suffering. But when we are immersed in the responsibilities of this life and in all our frenetic daily activity\, it may seem impossible to achieve liberation\, that is only for special beings. But nothing could be further from the truth: when we realize the suffering caused by our way of living in samsara\, a desire arises within us to be free from it\, and the practice of the dharma offers us the possibility of liberation in this life. \n\nThis session is part of our Monthly Sangha Gathering series presenting highlights from: The Way of the Great Perfection \, a new cycle of the All-Encompassing Path to Enlightenment
URL:https://rigpa.org.au/event/liberation-is-it-possible-in-this-life/
LOCATION:Rigpa Sydney\, 158 Australia St\, Newtown\, Sydney\, NSW\, 2042\, Australia
CATEGORIES:For Everyone,Sydney - Everyone
ORGANIZER;CN="Rigpa Sydney":MAILTO:sydney@rigpa.org.au
END:VEVENT
BEGIN:VEVENT
DTSTART;TZID=Australia/Melbourne:20240803T150000
DTEND;TZID=Australia/Melbourne:20240803T170000
DTSTAMP:20260426T104709
CREATED:20240626T055427Z
LAST-MODIFIED:20240708T092414Z
UID:10003190-1722697200-1722704400@rigpa.org.au
SUMMARY:Overcoming Fear and Anxiety
DESCRIPTION:Fear is one of the strongest emotions we may face\, and anxiety can be utterly paralysing. \nThe Buddhist teachings illuminate the deepest source of our fears\, and offer a rich array of tools to help us pacify and ultimately conquer those fears. Invoking protection from small heartedness\, we can access the courage to heal ourselves\, transform our fear\, and develop as expansive confidence that empowers us to help others. \n🗓️ Saturday 3 August \n⏰ 3-5pm AEST 7-9am CEST \n📍Online & Sydney
URL:https://rigpa.org.au/event/overcoming-fear-and-anxiety/
LOCATION:Rigpa Sydney\, 158 Australia St\, Newtown\, Sydney\, NSW\, 2042\, Australia
CATEGORIES:For Everyone,Newcastle,Newcastle - All welcome,Sydney - Everyone
ORGANIZER;CN="Rigpa Sydney":MAILTO:sydney@rigpa.org.au
END:VEVENT
BEGIN:VEVENT
DTSTART;TZID=Australia/Sydney:20240726T093000
DTEND;TZID=Australia/Sydney:20240726T113000
DTSTAMP:20260426T104709
CREATED:20240526T083415Z
LAST-MODIFIED:20240627T030949Z
UID:10003160-1721986200-1721993400@rigpa.org.au
SUMMARY:Turning Suffering and Happiness into Enlightenment/Term 3/Online
DESCRIPTION:The Buddhist teachings show us a way to find a deep sense of fulfillment that does not depend on outer circumstances and is naturally ours. Through a process of reflection and meditation\, we find inner strength\, which allows us to fully and fearlessly engage with everything we experience in our lives. Then\, all our experiences – happy or sad\, good or bad – will become a source of personal growth and spiritual awakening: they have the potential to open our eyes and our heart\, and make us grow wiser and more compassionate. \nTurning Suffering and Happiness into Enlightenment will present teachings that offer commentary of the classic\, short and pithy text\, Taking Happiness and Suffering on our Path\, by the great Dzogchen master Dodrupchen Jigme Tenpe Nyima. This text presents the Buddha’s teachings on how to transform suffering and happiness in a manner that is easy to understand and put into practice. \nDetails for Term 3 \nWhere: Online \nWhen: Friday mornings\, eight sessions\, 26 July to 27 September with a break from  16th August to Friday 23rd August \nTime: 9.30am – 11:30 am\, Australian Eastern Time \n(Thursday 11.30pm Central European Time; Thursday 5.30pm US East Coast Time) \nThis is the third term of a year-long course. If you wish to join after the first two weeks of a term then please register and pay a pro rata amount by sending  an email enquiry to newcastle@rigpa.org.au. If you are a newer student and would like to study this text please email Rigpa Newcastle   newcastle@rigpa.org.au. \nCost for Term 3: \nEight sessions: Full $160\, Concession $80 \nIf you are experiencing financial hardship please email us at newcastle@rigpa.org.au to request a further concession. \nFREE for Rigpa members/subscribers. Please email newcastle@rigpa.org.au to request the discount code.
URL:https://rigpa.org.au/event/turning-suffering-and-happiness-into-enlightenment-term-3-online-2/
LOCATION:Online via Zoom\, Australia
CATEGORIES:Established Students,Newcastle,Newcastle - Established Students,Online
ATTACH;FMTTYPE=image/png:https://rigpa.org.au/wp-content/uploads/2023/11/Turning-Suffering-and-Happiness-into-Enlightenment.png
ORGANIZER;CN="Rigpa Newcastle":MAILTO:newcastle@rigpa.org.au
END:VEVENT
BEGIN:VEVENT
DTSTART;TZID=Australia/Melbourne:20240707T093000
DTEND;TZID=Australia/Melbourne:20240707T130000
DTSTAMP:20260426T104709
CREATED:20240623T102555Z
LAST-MODIFIED:20240623T102555Z
UID:10003155-1720344600-1720357200@rigpa.org.au
SUMMARY:Sorting out what karma really is - a teaching by Philippe Cornu
DESCRIPTION:We often have misleading ideas about what karma is. We confuse it with a destiny to which we are bound and cannot change. In fact\, when we really understand what karma is\, it gives us greater freedom and hope on our spiritual path.
URL:https://rigpa.org.au/event/sorting-out-what-karma-really-is-a-teaching-by-philippe-cornu/
LOCATION:Rigpa Sydney\, 158 Australia St\, Newtown\, Sydney\, NSW\, 2042\, Australia
CATEGORIES:For Everyone,Sydney - Everyone
ORGANIZER;CN="Rigpa Sydney":MAILTO:sydney@rigpa.org.au
END:VEVENT
BEGIN:VEVENT
DTSTART;TZID=Australia/Melbourne:20240706T150000
DTEND;TZID=Australia/Melbourne:20240706T170000
DTSTAMP:20260426T104709
CREATED:20240528T051742Z
LAST-MODIFIED:20240615T044337Z
UID:10003145-1720278000-1720285200@rigpa.org.au
SUMMARY:Loneliness: The Solution Within
DESCRIPTION:All of us\, at some stage of our life\, experience loneliness one way or another. Loneliness does not discriminate\, people across all genders and ages experience it — both wealthy and poor. So often in seeking for an answer to this we look for comfort outside of ourselves – we endlessly distract ourselves away from the core of our problems. The Buddhist teachings take a different approach. They remind us that ultimately the solution lies within ourselves. Through working with our mind and heart\, loneliness can be softened\, transformed and ultimately completely overcome. \nSaturday’s Loneliness: The Solution Within session is part of our monthly program: Finding Peace and Joy in Troubled Times. This series of Saturday afternoon sessions offer an introduction to meditation and practical advice from some of the foremost Tibetan Buddhist teachers of our age. \nApplying these teachings can help us meet the challenges of these difficult times\, to heal ourselves\, and to bring us to the core of our own peace\, compassion and wisdom.
URL:https://rigpa.org.au/event/loneliness-the-solution-within/
LOCATION:Rigpa Sydney\, 158 Australia St\, Newtown\, Sydney\, NSW\, 2042\, Australia
CATEGORIES:For Everyone,Newcastle,Newcastle - All welcome,Online,Sydney - Everyone
ATTACH;FMTTYPE=image/png:https://rigpa.org.au/wp-content/uploads/2024/05/Loneliness-image-only.png
ORGANIZER;CN="Rigpa Sydney":MAILTO:sydney@rigpa.org.au
END:VEVENT
BEGIN:VEVENT
DTSTART;TZID=Australia/Melbourne:20240623T190000
DTEND;TZID=Australia/Melbourne:20240623T230000
DTSTAMP:20260426T104709
CREATED:20240604T042608Z
LAST-MODIFIED:20240614T060842Z
UID:10003146-1719169200-1719183600@rigpa.org.au
SUMMARY:Being Bodhi
DESCRIPTION:Explore what awakening looks like in today’s world. \nAt BEING BODHI\, our highly experienced meditation teachers will guide us through an exploration of mindfulness and awareness through a series of talks and interactive workshops on… \n🌺 Love & Compassion \n🌺 Mind & Awareness \n🌺 Death & Impermanence \n🌺 Connection & Interdependence \n🌺 Meditation & Inner Wisdom \nThis event is for you if… \n✨you are interested in mindfulness and meditation but aren’t sure where to start \n✨you practice meditation\, but want to connect with other people who meditate \n✨you want to connect with new and interesting people from all walks of life \n✨you want to connect to the present moment \nBEING BODHI is FREE to join live \n🗓️ Sunday 23 June \n⏰7.00pm AEST\, 11.00am CEST
URL:https://rigpa.org.au/event/being-bodhi/
LOCATION:Online via Zoom\, Australia
CATEGORIES:For Everyone,Newcastle - All welcome,Online
ATTACH;FMTTYPE=image/png:https://rigpa.org.au/wp-content/uploads/2024/06/Less-detail.png
END:VEVENT
BEGIN:VEVENT
DTSTART;TZID=Australia/Melbourne:20240601T150000
DTEND;TZID=Australia/Melbourne:20240601T170000
DTSTAMP:20260426T104709
CREATED:20240514T012200Z
LAST-MODIFIED:20240525T072614Z
UID:10002879-1717254000-1717261200@rigpa.org.au
SUMMARY:How We Can Work with Anger
DESCRIPTION:Harming others out of anger brings suffering\, both to ourselves and others. Yet\, so often\, we don’t think of the consequences and instead find ourselves provoked and reacting impulsively\, only to regret it later. On the other hand\, if we just try to block or suppress anger when it arises\, it is very difficult to manage. So what can we do to deal with anger when it arises\, as it inevitably will? \nThe Buddhist teachings offer a rich toolkit to help us short circuit\, pacify\, and transform our anger. Join us for an afternoon investigating how we can apply those tools each and every day. \nSaturday’s Why Do We Suffer? session is part of our monthly program: Finding Peace and Joy in Troubled Times. This series of Saturday afternoon sessions offer an introduction to meditation and practical advice from some of the foremost Tibetan Buddhist teachers of our age. \nApplying these teachings can help us meet the challenges of these difficult times\, to heal ourselves\, and to bring us to the core of our own peace\, compassion and wisdom.
URL:https://rigpa.org.au/event/how-we-can-work-with-anger/
LOCATION:Rigpa Sydney\, 158 Australia St\, Newtown\, Sydney\, NSW\, 2042\, Australia
CATEGORIES:For Everyone,Newcastle,Newcastle - All welcome,Online,Sydney - Everyone
ORGANIZER;CN="Rigpa Sydney":MAILTO:sydney@rigpa.org.au
END:VEVENT
BEGIN:VEVENT
DTSTART;TZID=Australia/Melbourne:20240322T093000
DTEND;TZID=Australia/Melbourne:20240322T113000
DTSTAMP:20260426T104709
CREATED:20231101T003817Z
LAST-MODIFIED:20231101T003817Z
UID:10001097-1711099800-1711107000@rigpa.org.au
SUMMARY:Turning Suffering and Happiness into Enlightenment | Online
DESCRIPTION:The Buddhist teachings show us a way to find a deep sense of fulfillment that does not depend on outer circumstances and is naturally ours. Through a process of reflection and meditation\, we find inner strength\, which allows us to fully and fearlessly engage with everything we experience in our lives. Then\, all our experiences – happy or sad\, good or bad – will become a source of personal growth and spiritual awakening: they have the potential to open our eyes and our heart\, and make us grow wiser and more compassionate. \nTurning Suffering and Happiness into Enlightenment will present teachings that offer commentary of the classic\, short and pithy text\, Taking Happiness and Suffering on our Path\, by the great Dzogchen master Dodrupchen Jigme Tenpe Nyima. This text presents the Buddha’s teachings on how to transform suffering and happiness in a manner that is easy to understand and put into practice.
URL:https://rigpa.org.au/event/turning-suffering-and-happiness-into-enlightenment-online/2024-03-22/
LOCATION:Online via Zoom\, Australia
CATEGORIES:For Everyone,Online
ATTACH;FMTTYPE=image/png:https://rigpa.org.au/wp-content/uploads/2023/11/Turning-Suffering-and-Happiness-into-Enlightenment.png
ORGANIZER;CN="Rigpa Newcastle":MAILTO:newcastle@rigpa.org.au
END:VEVENT
END:VCALENDAR