BEGIN:VCALENDAR
VERSION:2.0
PRODID:-//Rigpa Australia - ECPv6.15.20//NONSGML v1.0//EN
CALSCALE:GREGORIAN
METHOD:PUBLISH
X-WR-CALNAME:Rigpa Australia
X-ORIGINAL-URL:https://rigpa.org.au
X-WR-CALDESC:Events for Rigpa Australia
REFRESH-INTERVAL;VALUE=DURATION:PT1H
X-Robots-Tag:noindex
X-PUBLISHED-TTL:PT1H
BEGIN:VTIMEZONE
TZID:Australia/Adelaide
BEGIN:STANDARD
TZOFFSETFROM:+1030
TZOFFSETTO:+0930
TZNAME:ACST
DTSTART:20250405T163000
END:STANDARD
BEGIN:DAYLIGHT
TZOFFSETFROM:+0930
TZOFFSETTO:+1030
TZNAME:ACDT
DTSTART:20251004T163000
END:DAYLIGHT
BEGIN:STANDARD
TZOFFSETFROM:+1030
TZOFFSETTO:+0930
TZNAME:ACST
DTSTART:20260404T163000
END:STANDARD
BEGIN:DAYLIGHT
TZOFFSETFROM:+0930
TZOFFSETTO:+1030
TZNAME:ACDT
DTSTART:20261003T163000
END:DAYLIGHT
BEGIN:STANDARD
TZOFFSETFROM:+1030
TZOFFSETTO:+0930
TZNAME:ACST
DTSTART:20270403T163000
END:STANDARD
BEGIN:DAYLIGHT
TZOFFSETFROM:+0930
TZOFFSETTO:+1030
TZNAME:ACDT
DTSTART:20271002T163000
END:DAYLIGHT
END:VTIMEZONE
BEGIN:VEVENT
DTSTART;TZID=Australia/Adelaide:20260331T183000
DTEND;TZID=Australia/Adelaide:20260428T203000
DTSTAMP:20260423T224235
CREATED:20260305T031314Z
LAST-MODIFIED:20260305T031314Z
UID:10009278-1774981800-1777408200@rigpa.org.au
SUMMARY:The Wisdom of Compassion
DESCRIPTION:Presenting key Buddhist teachings on the powerful logic of compassion and practical methods for developing a kinder relationship with ourselves\, those around us and ultimately all beings.\nOur innate capacity for empathy is the source of the very best of human qualities: love\, kindness\, generosity\, warm-heartedness\, courage\, compassion. Although we are born with a vast capacity to love\, we may not know how to do so unconditionally\, or how to express that love in practice.\nWhen our heart and mind are filled with love\, we find the greatest inner healing\, tranquillity and well-being. Modern research shows that with empathy and compassion we can be more fully ourselves\, connect more easily with others\, improve self-worth and reduce self-criticism\, and lead healthier lives. \nRegister here.
URL:https://rigpa.org.au/event/the-wisdom-of-compassion-4/2026-03-31/
LOCATION:Rigpa Adelaide\, 310 South Terrace\, Adelaide\, South Australia\, 5000\, Australia
CATEGORIES:Adelaide Everyone,For Everyone
ORGANIZER;CN="Rigpa Adelaide":MAILTO:adelaide@rigpa.org.au
END:VEVENT
BEGIN:VEVENT
DTSTART;TZID=Australia/Adelaide:20260331T183000
DTEND;TZID=Australia/Adelaide:20260428T203000
DTSTAMP:20260423T224235
CREATED:20260305T031420Z
LAST-MODIFIED:20260305T031544Z
UID:10009282-1774981800-1777408200@rigpa.org.au
SUMMARY:The Wisdom of Compassion
DESCRIPTION:Presenting key Buddhist teachings on the powerful logic of compassion and practical methods for developing a kinder relationship with ourselves\, those around us and ultimately all beings.\nOur innate capacity for empathy is the source of the very best of human qualities: love\, kindness\, generosity\, warm-heartedness\, courage\, compassion. Although we are born with a vast capacity to love\, we may not know how to do so unconditionally\, or how to express that love in practice.\nWhen our heart and mind are filled with love\, we find the greatest inner healing\, tranquillity and well-being. Modern research shows that with empathy and compassion we can be more fully ourselves\, connect more easily with others\, improve self-worth and reduce self-criticism\, and lead healthier lives.\nRegister here.
URL:https://rigpa.org.au/event/the-wisdom-of-compassion-4-2/2026-03-31/
LOCATION:Rigpa Adelaide\, 310 South Terrace\, Adelaide\, South Australia\, 5000\, Australia
CATEGORIES:Adelaide Everyone,For Everyone
ATTACH;FMTTYPE=image/jpeg:https://rigpa.org.au/wp-content/uploads/2026/01/The-Wisdom-of-Compassion-banner.jpg
ORGANIZER;CN="Rigpa Adelaide":MAILTO:adelaide@rigpa.org.au
END:VEVENT
BEGIN:VEVENT
DTSTART;TZID=Australia/Adelaide:20260421T183000
DTEND;TZID=Australia/Adelaide:20260519T203000
DTSTAMP:20260423T224235
CREATED:20260404T004721Z
LAST-MODIFIED:20260404T004721Z
UID:10009440-1776796200-1779222600@rigpa.org.au
SUMMARY:The Wisdom of Compassion
DESCRIPTION:The Wisdom of Compassion\nPresenting key Buddhist teachings on the powerful logic of compassion and practical methods for developing a kinder relationship with ourselves\, those around us and ultimately all beings. \nOur innate capacity for empathy is the source of the very best of human qualities: love\, kindness\, generosity\, warm-heartedness\, courage\, compassion. Although we are born with a vast capacity to love\, we may not know how to do so unconditionally\, or how to express that love in practice. \nWhen our heart and mind are filled with love\, we find the greatest inner healing\, tranquillity and well-being. Modern research shows that with empathy and compassion we can be more fully ourselves\, connect more easily with others\, improve self-worth and reduce self-criticism\, and lead healthier lives. \nRegistration: https://registration.rigpa.org.au/civicrm/event/info?reset=1&id=1371
URL:https://rigpa.org.au/event/the-wisdom-of-compassion-5/
LOCATION:Rigpa Adelaide\, 310 South Terrace\, Adelaide\, South Australia\, 5000\, Australia
CATEGORIES:Adelaide Everyone,For Everyone
ATTACH;FMTTYPE=image/jpeg:https://rigpa.org.au/wp-content/uploads/2026/04/The-Wisdom-of-Compassion-for-Registration-page-2.jpg
ORGANIZER;CN="Rigpa Adelaide":MAILTO:adelaide@rigpa.org.au
END:VEVENT
BEGIN:VEVENT
DTSTART;TZID=Australia/Adelaide:20260502T093000
DTEND;TZID=Australia/Adelaide:20260502T120000
DTSTAMP:20260423T224235
CREATED:20260217T002657Z
LAST-MODIFIED:20260317T052350Z
UID:10009019-1777714200-1777723200@rigpa.org.au
SUMMARY:Meditation and Wisdom to Transform Everyday Life
DESCRIPTION:Calming the Mind and Overcoming Anxiety\nSaturday 2 May | 9.30am – 12.00 noon\n  \nThese Saturday morning sessions offer an introduction to meditation and practical advice from some of the foremost Tibetan Buddhist teachers of our age.\nFear and anxiety disempower us. In this session we’ll present a short teaching by Sogyal Rinpoche that will help us look into the underlying source of our fears so that we can find a firm basis for confidence and contentment.\nFeel free to come along to any session that suits you. No need to register\, just drop in.\nFee: Standard $15\, Concession/Student $10\nWe do not have credit card facilities\, please bring cash.\nCost negotiable depending on your financial circumstances.\n 
URL:https://rigpa.org.au/event/meditation-and-wisdom-to-transform-everyday-life-2/
LOCATION:Rigpa Adelaide\, 310 South Terrace\, Adelaide\, South Australia\, 5000\, Australia
CATEGORIES:Adelaide Everyone,For Everyone
ATTACH;FMTTYPE=image/jpeg:https://rigpa.org.au/wp-content/uploads/2026/03/MaWtTEL-05-Calming-the-Mind-New.jpg
ORGANIZER;CN="Rigpa Adelaide":MAILTO:adelaide@rigpa.org.au
END:VEVENT
BEGIN:VEVENT
DTSTART;TZID=Australia/Adelaide:20260704T093000
DTEND;TZID=Australia/Adelaide:20260704T120000
DTSTAMP:20260423T224235
CREATED:20260305T033034Z
LAST-MODIFIED:20260317T052048Z
UID:10009285-1783157400-1783166400@rigpa.org.au
SUMMARY:Meditation and Wisdom to Transform Everyday Life
DESCRIPTION:Where can we find lasting happiness?\nSaturday 4 July | 9.30am – 12.00 noon\nThese Saturday morning sessions offer an introduction to meditation and practical advice from some of the foremost Tibetan Buddhist teachers of our age.\nMany of us experience dissatisfaction or feeling that something is missing in our lives\, even when on the surface things seem quite good. This session presents teachings by Dzogchen Ponlop Rinpoche and Sogyal Rinpoche that show us how turning our mind inwards\, through reflection and meditation\, offers us a path out of endless dissatisfaction to finding true\, lasting happiness. \nFeel free to come along to any session that suits you. No need to register\, just drop in. \nFee: Standard $15\, Concession/Student $10\nWe do not have credit card facilities\, please bring cash.\nCost negotiable depending on your financial circumstances.
URL:https://rigpa.org.au/event/meditation-and-wisdom-to-transform-everyday-life-4/
LOCATION:Rigpa Adelaide\, 310 South Terrace\, Adelaide\, South Australia\, 5000\, Australia
CATEGORIES:Adelaide Everyone,For Everyone
ATTACH;FMTTYPE=image/jpeg:https://rigpa.org.au/wp-content/uploads/2026/03/MaWtTEL-07-Where-can-we-find-lasting-happiness-New.jpg
ORGANIZER;CN="Rigpa Adelaide":MAILTO:adelaide@rigpa.org.au
END:VEVENT
END:VCALENDAR