BEGIN:VCALENDAR
VERSION:2.0
PRODID:-//Rigpa Australia - ECPv6.15.20//NONSGML v1.0//EN
CALSCALE:GREGORIAN
METHOD:PUBLISH
X-WR-CALNAME:Rigpa Australia
X-ORIGINAL-URL:https://rigpa.org.au
X-WR-CALDESC:Events for Rigpa Australia
REFRESH-INTERVAL;VALUE=DURATION:PT1H
X-Robots-Tag:noindex
X-PUBLISHED-TTL:PT1H
BEGIN:VTIMEZONE
TZID:Australia/Melbourne
BEGIN:STANDARD
TZOFFSETFROM:+1100
TZOFFSETTO:+1000
TZNAME:AEST
DTSTART:20250405T160000
END:STANDARD
BEGIN:DAYLIGHT
TZOFFSETFROM:+1000
TZOFFSETTO:+1100
TZNAME:AEDT
DTSTART:20251004T160000
END:DAYLIGHT
BEGIN:STANDARD
TZOFFSETFROM:+1100
TZOFFSETTO:+1000
TZNAME:AEST
DTSTART:20260404T160000
END:STANDARD
BEGIN:DAYLIGHT
TZOFFSETFROM:+1000
TZOFFSETTO:+1100
TZNAME:AEDT
DTSTART:20261003T160000
END:DAYLIGHT
BEGIN:STANDARD
TZOFFSETFROM:+1100
TZOFFSETTO:+1000
TZNAME:AEST
DTSTART:20270403T160000
END:STANDARD
BEGIN:DAYLIGHT
TZOFFSETFROM:+1000
TZOFFSETTO:+1100
TZNAME:AEDT
DTSTART:20271002T160000
END:DAYLIGHT
END:VTIMEZONE
BEGIN:VEVENT
DTSTART;TZID=Australia/Melbourne:20260305T183000
DTEND;TZID=Australia/Melbourne:20260305T203000
DTSTAMP:20260424T050837
CREATED:20260121T005202Z
LAST-MODIFIED:20260302T012115Z
UID:10009141-1772735400-1772742600@rigpa.org.au
SUMMARY:Inspiring a Revolution in Your Heart and Mind | Newcastle | Evening Class
DESCRIPTION:Join us on an experiential journey through The Tibetan Book of Living and Dying. Discover a deep and universal wisdom explored in the major themes of the book\, and learn about their practical implications for living well. Suitable for people of any religion or of none\, this course encourages you to reflect on the Buddhist teachings\, to see what makes sense to you and to experiment with applying these teachings in your daily life. \nThe Tibetan Book of Living and Dying is widely regarded as one of the most complete and authoritative presentations of Tibetan Buddhism. A manual for life and death and a source of sacred inspiration from the heart of the Tibetan tradition\, The Tibetan Book of Living and Dying provides a lucid and inspiring introduction to the practice of meditation\, to the nature of mind\, to karma and rebirth\, and to the trials and rewards of the spiritual path. The teachings\, meditation and contemplations from this authentic tradition reveal how each of us can live a more meaningful\, connected and fulfilling life. \nParticipants in this course will learn: \n\nHow to meditate\nHow an acceptance of impermanence can help us understand death and change our attitude towards life\nHow meditation can transform our perception\, increase our confidence and fully connect us to the world around us\nThat mind is much more than just thoughts and emotions\nHow understanding the interdependency of all things and the principle of karma (that every action has an effect) gives us a logical basis for ethics and personal responsibility\n\nLed by Western meditation instructors with many years of experience\, each session consists of: \n\nVideo teachings from Tibetan and Western Buddhist masters including Sogyal Rinpoche\, Jetsün Khandro Rinpoche\, Ringu Tulku Rinpoche\, Mingyur Rinpoche\, Pema Chödrön and Sharon Salzberg.\nMeditation practice\nTime for contemplation\nGroup discussions and Q&A\, offering you the opportunity to explore the teachings and practices in an open supportive environment.\n\nThis is module one of a year-long course that students can join at any stage. Each module focusses on a different topic. \nDetails \nThis first module will give participants a taste of the main themes of The Tibetan Book of Living and Dying\, including meditation\, finding inner peace and contentment and the true nature of our own mind. \n“In this book I endeavoured to share some of the wisdom of the tradition I grew up in. I sought to show the practical nature of its ancient teachings and how they can help us at every stage of living and dying. Many people\, over the years\, had urged me to write this book. They said it would help relieve some of the intense sufferings that so many of us go through in the modern world.” \n– Sogyal Rinpoche \nWhere: In person at Rigpa Newcastle\, 2/2 Smith Street\, Charlestown. \nWhen: Thursday evenings\, 5 sessions\, 26 February to 26 March \nTime: 6:30pm-8:30pm AEDT \nWho: All welcome \nCost: 5 session module: Full $100\, Concession $50 \nFREE for Rigpa members/subscribers who may email newcastle@rigpa.org.au to request the discount code. If you wish to join the class after the first session of a module then please contact us via email to register. \nIf you are experiencing financial hardship please email us at newcastle@rigpa.org.au to request a further concession.
URL:https://rigpa.org.au/event/inspiring-a-revolution-in-your-heart-and-mind-newcastle-evening-class-2-2/2026-03-05/
LOCATION:nsw
CATEGORIES:For Everyone,Newcastle,Newcastle - All welcome
ATTACH;FMTTYPE=image/png:https://rigpa.org.au/wp-content/uploads/2024/11/Inspiring.png
ORGANIZER;CN="Rigpa Newcastle":MAILTO:newcastle@rigpa.org.au
END:VEVENT
BEGIN:VEVENT
DTSTART;TZID=Australia/Melbourne:20260312T183000
DTEND;TZID=Australia/Melbourne:20260312T203000
DTSTAMP:20260424T050837
CREATED:20260121T005202Z
LAST-MODIFIED:20260302T012115Z
UID:10009142-1773340200-1773347400@rigpa.org.au
SUMMARY:Inspiring a Revolution in Your Heart and Mind | Newcastle | Evening Class
DESCRIPTION:Join us on an experiential journey through The Tibetan Book of Living and Dying. Discover a deep and universal wisdom explored in the major themes of the book\, and learn about their practical implications for living well. Suitable for people of any religion or of none\, this course encourages you to reflect on the Buddhist teachings\, to see what makes sense to you and to experiment with applying these teachings in your daily life. \nThe Tibetan Book of Living and Dying is widely regarded as one of the most complete and authoritative presentations of Tibetan Buddhism. A manual for life and death and a source of sacred inspiration from the heart of the Tibetan tradition\, The Tibetan Book of Living and Dying provides a lucid and inspiring introduction to the practice of meditation\, to the nature of mind\, to karma and rebirth\, and to the trials and rewards of the spiritual path. The teachings\, meditation and contemplations from this authentic tradition reveal how each of us can live a more meaningful\, connected and fulfilling life. \nParticipants in this course will learn: \n\nHow to meditate\nHow an acceptance of impermanence can help us understand death and change our attitude towards life\nHow meditation can transform our perception\, increase our confidence and fully connect us to the world around us\nThat mind is much more than just thoughts and emotions\nHow understanding the interdependency of all things and the principle of karma (that every action has an effect) gives us a logical basis for ethics and personal responsibility\n\nLed by Western meditation instructors with many years of experience\, each session consists of: \n\nVideo teachings from Tibetan and Western Buddhist masters including Sogyal Rinpoche\, Jetsün Khandro Rinpoche\, Ringu Tulku Rinpoche\, Mingyur Rinpoche\, Pema Chödrön and Sharon Salzberg.\nMeditation practice\nTime for contemplation\nGroup discussions and Q&A\, offering you the opportunity to explore the teachings and practices in an open supportive environment.\n\nThis is module one of a year-long course that students can join at any stage. Each module focusses on a different topic. \nDetails \nThis first module will give participants a taste of the main themes of The Tibetan Book of Living and Dying\, including meditation\, finding inner peace and contentment and the true nature of our own mind. \n“In this book I endeavoured to share some of the wisdom of the tradition I grew up in. I sought to show the practical nature of its ancient teachings and how they can help us at every stage of living and dying. Many people\, over the years\, had urged me to write this book. They said it would help relieve some of the intense sufferings that so many of us go through in the modern world.” \n– Sogyal Rinpoche \nWhere: In person at Rigpa Newcastle\, 2/2 Smith Street\, Charlestown. \nWhen: Thursday evenings\, 5 sessions\, 26 February to 26 March \nTime: 6:30pm-8:30pm AEDT \nWho: All welcome \nCost: 5 session module: Full $100\, Concession $50 \nFREE for Rigpa members/subscribers who may email newcastle@rigpa.org.au to request the discount code. If you wish to join the class after the first session of a module then please contact us via email to register. \nIf you are experiencing financial hardship please email us at newcastle@rigpa.org.au to request a further concession.
URL:https://rigpa.org.au/event/inspiring-a-revolution-in-your-heart-and-mind-newcastle-evening-class-2-2/2026-03-12/
LOCATION:nsw
CATEGORIES:For Everyone,Newcastle,Newcastle - All welcome
ATTACH;FMTTYPE=image/png:https://rigpa.org.au/wp-content/uploads/2024/11/Inspiring.png
ORGANIZER;CN="Rigpa Newcastle":MAILTO:newcastle@rigpa.org.au
END:VEVENT
BEGIN:VEVENT
DTSTART;TZID=Australia/Melbourne:20260319T183000
DTEND;TZID=Australia/Melbourne:20260319T203000
DTSTAMP:20260424T050838
CREATED:20260121T005202Z
LAST-MODIFIED:20260302T012115Z
UID:10009143-1773945000-1773952200@rigpa.org.au
SUMMARY:Inspiring a Revolution in Your Heart and Mind | Newcastle | Evening Class
DESCRIPTION:Join us on an experiential journey through The Tibetan Book of Living and Dying. Discover a deep and universal wisdom explored in the major themes of the book\, and learn about their practical implications for living well. Suitable for people of any religion or of none\, this course encourages you to reflect on the Buddhist teachings\, to see what makes sense to you and to experiment with applying these teachings in your daily life. \nThe Tibetan Book of Living and Dying is widely regarded as one of the most complete and authoritative presentations of Tibetan Buddhism. A manual for life and death and a source of sacred inspiration from the heart of the Tibetan tradition\, The Tibetan Book of Living and Dying provides a lucid and inspiring introduction to the practice of meditation\, to the nature of mind\, to karma and rebirth\, and to the trials and rewards of the spiritual path. The teachings\, meditation and contemplations from this authentic tradition reveal how each of us can live a more meaningful\, connected and fulfilling life. \nParticipants in this course will learn: \n\nHow to meditate\nHow an acceptance of impermanence can help us understand death and change our attitude towards life\nHow meditation can transform our perception\, increase our confidence and fully connect us to the world around us\nThat mind is much more than just thoughts and emotions\nHow understanding the interdependency of all things and the principle of karma (that every action has an effect) gives us a logical basis for ethics and personal responsibility\n\nLed by Western meditation instructors with many years of experience\, each session consists of: \n\nVideo teachings from Tibetan and Western Buddhist masters including Sogyal Rinpoche\, Jetsün Khandro Rinpoche\, Ringu Tulku Rinpoche\, Mingyur Rinpoche\, Pema Chödrön and Sharon Salzberg.\nMeditation practice\nTime for contemplation\nGroup discussions and Q&A\, offering you the opportunity to explore the teachings and practices in an open supportive environment.\n\nThis is module one of a year-long course that students can join at any stage. Each module focusses on a different topic. \nDetails \nThis first module will give participants a taste of the main themes of The Tibetan Book of Living and Dying\, including meditation\, finding inner peace and contentment and the true nature of our own mind. \n“In this book I endeavoured to share some of the wisdom of the tradition I grew up in. I sought to show the practical nature of its ancient teachings and how they can help us at every stage of living and dying. Many people\, over the years\, had urged me to write this book. They said it would help relieve some of the intense sufferings that so many of us go through in the modern world.” \n– Sogyal Rinpoche \nWhere: In person at Rigpa Newcastle\, 2/2 Smith Street\, Charlestown. \nWhen: Thursday evenings\, 5 sessions\, 26 February to 26 March \nTime: 6:30pm-8:30pm AEDT \nWho: All welcome \nCost: 5 session module: Full $100\, Concession $50 \nFREE for Rigpa members/subscribers who may email newcastle@rigpa.org.au to request the discount code. If you wish to join the class after the first session of a module then please contact us via email to register. \nIf you are experiencing financial hardship please email us at newcastle@rigpa.org.au to request a further concession.
URL:https://rigpa.org.au/event/inspiring-a-revolution-in-your-heart-and-mind-newcastle-evening-class-2-2/2026-03-19/
LOCATION:nsw
CATEGORIES:For Everyone,Newcastle,Newcastle - All welcome
ATTACH;FMTTYPE=image/png:https://rigpa.org.au/wp-content/uploads/2024/11/Inspiring.png
ORGANIZER;CN="Rigpa Newcastle":MAILTO:newcastle@rigpa.org.au
END:VEVENT
BEGIN:VEVENT
DTSTART;TZID=Australia/Melbourne:20260326T183000
DTEND;TZID=Australia/Melbourne:20260326T203000
DTSTAMP:20260424T050838
CREATED:20260121T005202Z
LAST-MODIFIED:20260302T012115Z
UID:10009144-1774549800-1774557000@rigpa.org.au
SUMMARY:Inspiring a Revolution in Your Heart and Mind | Newcastle | Evening Class
DESCRIPTION:Join us on an experiential journey through The Tibetan Book of Living and Dying. Discover a deep and universal wisdom explored in the major themes of the book\, and learn about their practical implications for living well. Suitable for people of any religion or of none\, this course encourages you to reflect on the Buddhist teachings\, to see what makes sense to you and to experiment with applying these teachings in your daily life. \nThe Tibetan Book of Living and Dying is widely regarded as one of the most complete and authoritative presentations of Tibetan Buddhism. A manual for life and death and a source of sacred inspiration from the heart of the Tibetan tradition\, The Tibetan Book of Living and Dying provides a lucid and inspiring introduction to the practice of meditation\, to the nature of mind\, to karma and rebirth\, and to the trials and rewards of the spiritual path. The teachings\, meditation and contemplations from this authentic tradition reveal how each of us can live a more meaningful\, connected and fulfilling life. \nParticipants in this course will learn: \n\nHow to meditate\nHow an acceptance of impermanence can help us understand death and change our attitude towards life\nHow meditation can transform our perception\, increase our confidence and fully connect us to the world around us\nThat mind is much more than just thoughts and emotions\nHow understanding the interdependency of all things and the principle of karma (that every action has an effect) gives us a logical basis for ethics and personal responsibility\n\nLed by Western meditation instructors with many years of experience\, each session consists of: \n\nVideo teachings from Tibetan and Western Buddhist masters including Sogyal Rinpoche\, Jetsün Khandro Rinpoche\, Ringu Tulku Rinpoche\, Mingyur Rinpoche\, Pema Chödrön and Sharon Salzberg.\nMeditation practice\nTime for contemplation\nGroup discussions and Q&A\, offering you the opportunity to explore the teachings and practices in an open supportive environment.\n\nThis is module one of a year-long course that students can join at any stage. Each module focusses on a different topic. \nDetails \nThis first module will give participants a taste of the main themes of The Tibetan Book of Living and Dying\, including meditation\, finding inner peace and contentment and the true nature of our own mind. \n“In this book I endeavoured to share some of the wisdom of the tradition I grew up in. I sought to show the practical nature of its ancient teachings and how they can help us at every stage of living and dying. Many people\, over the years\, had urged me to write this book. They said it would help relieve some of the intense sufferings that so many of us go through in the modern world.” \n– Sogyal Rinpoche \nWhere: In person at Rigpa Newcastle\, 2/2 Smith Street\, Charlestown. \nWhen: Thursday evenings\, 5 sessions\, 26 February to 26 March \nTime: 6:30pm-8:30pm AEDT \nWho: All welcome \nCost: 5 session module: Full $100\, Concession $50 \nFREE for Rigpa members/subscribers who may email newcastle@rigpa.org.au to request the discount code. If you wish to join the class after the first session of a module then please contact us via email to register. \nIf you are experiencing financial hardship please email us at newcastle@rigpa.org.au to request a further concession.
URL:https://rigpa.org.au/event/inspiring-a-revolution-in-your-heart-and-mind-newcastle-evening-class-2-2/2026-03-26/
LOCATION:nsw
CATEGORIES:For Everyone,Newcastle,Newcastle - All welcome
ATTACH;FMTTYPE=image/png:https://rigpa.org.au/wp-content/uploads/2024/11/Inspiring.png
ORGANIZER;CN="Rigpa Newcastle":MAILTO:newcastle@rigpa.org.au
END:VEVENT
END:VCALENDAR