BEGIN:VCALENDAR
VERSION:2.0
PRODID:-//Rigpa Australia - ECPv6.15.20//NONSGML v1.0//EN
CALSCALE:GREGORIAN
METHOD:PUBLISH
X-WR-CALNAME:Rigpa Australia
X-ORIGINAL-URL:https://rigpa.org.au
X-WR-CALDESC:Events for Rigpa Australia
REFRESH-INTERVAL;VALUE=DURATION:PT1H
X-Robots-Tag:noindex
X-PUBLISHED-TTL:PT1H
BEGIN:VTIMEZONE
TZID:Australia/Brisbane
BEGIN:STANDARD
TZOFFSETFROM:+1000
TZOFFSETTO:+1000
TZNAME:AEST
DTSTART:20250101T000000
END:STANDARD
END:VTIMEZONE
BEGIN:VEVENT
DTSTART;TZID=Australia/Brisbane:20260507T190000
DTEND;TZID=Australia/Brisbane:20260507T200000
DTSTAMP:20260424T063230
CREATED:20260107T011332Z
LAST-MODIFIED:20260415T104659Z
UID:10007947-1778180400-1778184000@rigpa.org.au
SUMMARY:Thursday Drop-in meditation/Brisbane
DESCRIPTION:These drop-in meditation sessions are a good opportunity to practice meditation in a supportive environment. \nAll are welcome and basic guidance is given. \nPre-booking is not required. \nEnquiries: brisbane@rigpa.org.au
URL:https://rigpa.org.au/event/thursday-drop-in-meditation-6/2026-05-07/
LOCATION:Rigpa Brisbane\, Unit 2/19 Enoggera Terrace\, Brisbane\, Queensland\, Australia
CATEGORIES:Brisbane Everyone,For Everyone
ATTACH;FMTTYPE=image/png:https://rigpa.org.au/wp-content/uploads/2025/03/Event-RB-Thurs-Drop-In-4-1080px-x-1080px.png
ORGANIZER;CN="Rigpa Brisbane":MAILTO:brisbane@rigpa.org.au
END:VEVENT
BEGIN:VEVENT
DTSTART;TZID=Australia/Brisbane:20260604T190000
DTEND;TZID=Australia/Brisbane:20260604T200000
DTSTAMP:20260424T063230
CREATED:20260107T011332Z
LAST-MODIFIED:20260415T104659Z
UID:10007948-1780599600-1780603200@rigpa.org.au
SUMMARY:Thursday Drop-in meditation/Brisbane
DESCRIPTION:These drop-in meditation sessions are a good opportunity to practice meditation in a supportive environment. \nAll are welcome and basic guidance is given. \nPre-booking is not required. \nEnquiries: brisbane@rigpa.org.au
URL:https://rigpa.org.au/event/thursday-drop-in-meditation-6/2026-06-04/
LOCATION:Rigpa Brisbane\, Unit 2/19 Enoggera Terrace\, Brisbane\, Queensland\, Australia
CATEGORIES:Brisbane Everyone,For Everyone
ATTACH;FMTTYPE=image/png:https://rigpa.org.au/wp-content/uploads/2025/03/Event-RB-Thurs-Drop-In-4-1080px-x-1080px.png
ORGANIZER;CN="Rigpa Brisbane":MAILTO:brisbane@rigpa.org.au
END:VEVENT
BEGIN:VEVENT
DTSTART;TZID=Australia/Brisbane:20260702T190000
DTEND;TZID=Australia/Brisbane:20260702T200000
DTSTAMP:20260424T063230
CREATED:20260107T011332Z
LAST-MODIFIED:20260415T104659Z
UID:10007949-1783018800-1783022400@rigpa.org.au
SUMMARY:Thursday Drop-in meditation/Brisbane
DESCRIPTION:These drop-in meditation sessions are a good opportunity to practice meditation in a supportive environment. \nAll are welcome and basic guidance is given. \nPre-booking is not required. \nEnquiries: brisbane@rigpa.org.au
URL:https://rigpa.org.au/event/thursday-drop-in-meditation-6/2026-07-02/
LOCATION:Rigpa Brisbane\, Unit 2/19 Enoggera Terrace\, Brisbane\, Queensland\, Australia
CATEGORIES:Brisbane Everyone,For Everyone
ATTACH;FMTTYPE=image/png:https://rigpa.org.au/wp-content/uploads/2025/03/Event-RB-Thurs-Drop-In-4-1080px-x-1080px.png
ORGANIZER;CN="Rigpa Brisbane":MAILTO:brisbane@rigpa.org.au
END:VEVENT
BEGIN:VEVENT
DTSTART;TZID=Australia/Brisbane:20260806T190000
DTEND;TZID=Australia/Brisbane:20260806T200000
DTSTAMP:20260424T063230
CREATED:20260107T011332Z
LAST-MODIFIED:20260415T104659Z
UID:10007950-1786042800-1786046400@rigpa.org.au
SUMMARY:Thursday Drop-in meditation/Brisbane
DESCRIPTION:These drop-in meditation sessions are a good opportunity to practice meditation in a supportive environment. \nAll are welcome and basic guidance is given. \nPre-booking is not required. \nEnquiries: brisbane@rigpa.org.au
URL:https://rigpa.org.au/event/thursday-drop-in-meditation-6/2026-08-06/
LOCATION:Rigpa Brisbane\, Unit 2/19 Enoggera Terrace\, Brisbane\, Queensland\, Australia
CATEGORIES:Brisbane Everyone,For Everyone
ATTACH;FMTTYPE=image/png:https://rigpa.org.au/wp-content/uploads/2025/03/Event-RB-Thurs-Drop-In-4-1080px-x-1080px.png
ORGANIZER;CN="Rigpa Brisbane":MAILTO:brisbane@rigpa.org.au
END:VEVENT
BEGIN:VEVENT
DTSTART;TZID=Australia/Brisbane:20260903T190000
DTEND;TZID=Australia/Brisbane:20260903T200000
DTSTAMP:20260424T063230
CREATED:20260107T011332Z
LAST-MODIFIED:20260415T104659Z
UID:10007951-1788462000-1788465600@rigpa.org.au
SUMMARY:Thursday Drop-in meditation/Brisbane
DESCRIPTION:These drop-in meditation sessions are a good opportunity to practice meditation in a supportive environment. \nAll are welcome and basic guidance is given. \nPre-booking is not required. \nEnquiries: brisbane@rigpa.org.au
URL:https://rigpa.org.au/event/thursday-drop-in-meditation-6/2026-09-03/
LOCATION:Rigpa Brisbane\, Unit 2/19 Enoggera Terrace\, Brisbane\, Queensland\, Australia
CATEGORIES:Brisbane Everyone,For Everyone
ATTACH;FMTTYPE=image/png:https://rigpa.org.au/wp-content/uploads/2025/03/Event-RB-Thurs-Drop-In-4-1080px-x-1080px.png
ORGANIZER;CN="Rigpa Brisbane":MAILTO:brisbane@rigpa.org.au
END:VEVENT
BEGIN:VEVENT
DTSTART;TZID=Australia/Brisbane:20261001T190000
DTEND;TZID=Australia/Brisbane:20261001T200000
DTSTAMP:20260424T063230
CREATED:20260107T011332Z
LAST-MODIFIED:20260415T104659Z
UID:10007952-1790881200-1790884800@rigpa.org.au
SUMMARY:Thursday Drop-in meditation/Brisbane
DESCRIPTION:These drop-in meditation sessions are a good opportunity to practice meditation in a supportive environment. \nAll are welcome and basic guidance is given. \nPre-booking is not required. \nEnquiries: brisbane@rigpa.org.au
URL:https://rigpa.org.au/event/thursday-drop-in-meditation-6/2026-10-01/
LOCATION:Rigpa Brisbane\, Unit 2/19 Enoggera Terrace\, Brisbane\, Queensland\, Australia
CATEGORIES:Brisbane Everyone,For Everyone
ATTACH;FMTTYPE=image/png:https://rigpa.org.au/wp-content/uploads/2025/03/Event-RB-Thurs-Drop-In-4-1080px-x-1080px.png
ORGANIZER;CN="Rigpa Brisbane":MAILTO:brisbane@rigpa.org.au
END:VEVENT
BEGIN:VEVENT
DTSTART;TZID=Australia/Brisbane:20261105T190000
DTEND;TZID=Australia/Brisbane:20261105T200000
DTSTAMP:20260424T063230
CREATED:20260107T011332Z
LAST-MODIFIED:20260415T104659Z
UID:10007953-1793905200-1793908800@rigpa.org.au
SUMMARY:Thursday Drop-in meditation/Brisbane
DESCRIPTION:These drop-in meditation sessions are a good opportunity to practice meditation in a supportive environment. \nAll are welcome and basic guidance is given. \nPre-booking is not required. \nEnquiries: brisbane@rigpa.org.au
URL:https://rigpa.org.au/event/thursday-drop-in-meditation-6/2026-11-05/
LOCATION:Rigpa Brisbane\, Unit 2/19 Enoggera Terrace\, Brisbane\, Queensland\, Australia
CATEGORIES:Brisbane Everyone,For Everyone
ATTACH;FMTTYPE=image/png:https://rigpa.org.au/wp-content/uploads/2025/03/Event-RB-Thurs-Drop-In-4-1080px-x-1080px.png
ORGANIZER;CN="Rigpa Brisbane":MAILTO:brisbane@rigpa.org.au
END:VEVENT
BEGIN:VEVENT
DTSTART;TZID=Australia/Brisbane:20261203T190000
DTEND;TZID=Australia/Brisbane:20261203T200000
DTSTAMP:20260424T063230
CREATED:20260107T011332Z
LAST-MODIFIED:20260415T104659Z
UID:10007954-1796324400-1796328000@rigpa.org.au
SUMMARY:Thursday Drop-in meditation/Brisbane
DESCRIPTION:These drop-in meditation sessions are a good opportunity to practice meditation in a supportive environment. \nAll are welcome and basic guidance is given. \nPre-booking is not required. \nEnquiries: brisbane@rigpa.org.au
URL:https://rigpa.org.au/event/thursday-drop-in-meditation-6/2026-12-03/
LOCATION:Rigpa Brisbane\, Unit 2/19 Enoggera Terrace\, Brisbane\, Queensland\, Australia
CATEGORIES:Brisbane Everyone,For Everyone
ATTACH;FMTTYPE=image/png:https://rigpa.org.au/wp-content/uploads/2025/03/Event-RB-Thurs-Drop-In-4-1080px-x-1080px.png
ORGANIZER;CN="Rigpa Brisbane":MAILTO:brisbane@rigpa.org.au
END:VEVENT
END:VCALENDAR