BEGIN:VCALENDAR
VERSION:2.0
PRODID:-//Rigpa Australia - ECPv6.15.20//NONSGML v1.0//EN
CALSCALE:GREGORIAN
METHOD:PUBLISH
X-WR-CALNAME:Rigpa Australia
X-ORIGINAL-URL:https://rigpa.org.au
X-WR-CALDESC:Events for Rigpa Australia
REFRESH-INTERVAL;VALUE=DURATION:PT1H
X-Robots-Tag:noindex
X-PUBLISHED-TTL:PT1H
BEGIN:VTIMEZONE
TZID:Australia/Brisbane
BEGIN:STANDARD
TZOFFSETFROM:+1000
TZOFFSETTO:+1000
TZNAME:AEST
DTSTART:20250101T000000
END:STANDARD
END:VTIMEZONE
BEGIN:VEVENT
DTSTART;TZID=Australia/Brisbane:20260527T190000
DTEND;TZID=Australia/Brisbane:20260527T204500
DTSTAMP:20260423T210641
CREATED:20260415T104006Z
LAST-MODIFIED:20260415T105312Z
UID:10009651-1779908400-1779914700@rigpa.org.au
SUMMARY:Know your mind\, transform your life
DESCRIPTION:Know your mind\, transform your life  \nRigpa Brisbane is pleased to announce we are offering this new and exciting 8 week course starting Wednesday 27 May to 22 July 2026 (no class on 10 June). Plus practice based classes on Sunday 14 June and Sunday 12 July 2026. \nThe course is open for in-person attendance for all. \nFor more information and to register please click here. \nEnquiries: brisbane@rigpa.org.au
URL:https://rigpa.org.au/event/know-your-mind-transform-your-life-2/2026-05-27/
LOCATION:Rigpa Brisbane\, Unit 2/19 Enoggera Terrace\, Brisbane\, Queensland\, Australia
CATEGORIES:Brisbane Everyone,For Everyone
ATTACH;FMTTYPE=image/png:https://rigpa.org.au/wp-content/uploads/2026/04/Know-your-mind-Web-Square.png
ORGANIZER;CN="Rigpa Brisbane":MAILTO:brisbane@rigpa.org.au
END:VEVENT
BEGIN:VEVENT
DTSTART;TZID=Australia/Brisbane:20260603T190000
DTEND;TZID=Australia/Brisbane:20260603T204500
DTSTAMP:20260423T210641
CREATED:20260415T104006Z
LAST-MODIFIED:20260415T105312Z
UID:10009652-1780513200-1780519500@rigpa.org.au
SUMMARY:Know your mind\, transform your life
DESCRIPTION:Know your mind\, transform your life  \nRigpa Brisbane is pleased to announce we are offering this new and exciting 8 week course starting Wednesday 27 May to 22 July 2026 (no class on 10 June). Plus practice based classes on Sunday 14 June and Sunday 12 July 2026. \nThe course is open for in-person attendance for all. \nFor more information and to register please click here. \nEnquiries: brisbane@rigpa.org.au
URL:https://rigpa.org.au/event/know-your-mind-transform-your-life-2/2026-06-03/
LOCATION:Rigpa Brisbane\, Unit 2/19 Enoggera Terrace\, Brisbane\, Queensland\, Australia
CATEGORIES:Brisbane Everyone,For Everyone
ATTACH;FMTTYPE=image/png:https://rigpa.org.au/wp-content/uploads/2026/04/Know-your-mind-Web-Square.png
ORGANIZER;CN="Rigpa Brisbane":MAILTO:brisbane@rigpa.org.au
END:VEVENT
BEGIN:VEVENT
DTSTART;TZID=Australia/Brisbane:20260614T093000
DTEND;TZID=Australia/Brisbane:20260614T150000
DTSTAMP:20260423T210641
CREATED:20260415T104006Z
LAST-MODIFIED:20260415T105312Z
UID:10009653-1781429400-1781449200@rigpa.org.au
SUMMARY:Know your mind\, transform your life
DESCRIPTION:Know your mind\, transform your life  \nRigpa Brisbane is pleased to announce we are offering this new and exciting 8 week course starting Wednesday 27 May to 22 July 2026 (no class on 10 June). Plus practice based classes on Sunday 14 June and Sunday 12 July 2026. \nThe course is open for in-person attendance for all. \nFor more information and to register please click here. \nEnquiries: brisbane@rigpa.org.au
URL:https://rigpa.org.au/event/know-your-mind-transform-your-life-2/2026-06-14/
LOCATION:Rigpa Brisbane\, Unit 2/19 Enoggera Terrace\, Brisbane\, Queensland\, Australia
CATEGORIES:Brisbane Everyone,For Everyone
ATTACH;FMTTYPE=image/png:https://rigpa.org.au/wp-content/uploads/2026/04/Know-your-mind-Web-Square.png
ORGANIZER;CN="Rigpa Brisbane":MAILTO:brisbane@rigpa.org.au
END:VEVENT
BEGIN:VEVENT
DTSTART;TZID=Australia/Brisbane:20260617T190000
DTEND;TZID=Australia/Brisbane:20260617T204500
DTSTAMP:20260423T210641
CREATED:20260415T104006Z
LAST-MODIFIED:20260415T105312Z
UID:10009654-1781722800-1781729100@rigpa.org.au
SUMMARY:Know your mind\, transform your life
DESCRIPTION:Know your mind\, transform your life  \nRigpa Brisbane is pleased to announce we are offering this new and exciting 8 week course starting Wednesday 27 May to 22 July 2026 (no class on 10 June). Plus practice based classes on Sunday 14 June and Sunday 12 July 2026. \nThe course is open for in-person attendance for all. \nFor more information and to register please click here. \nEnquiries: brisbane@rigpa.org.au
URL:https://rigpa.org.au/event/know-your-mind-transform-your-life-2/2026-06-17/
LOCATION:Rigpa Brisbane\, Unit 2/19 Enoggera Terrace\, Brisbane\, Queensland\, Australia
CATEGORIES:Brisbane Everyone,For Everyone
ATTACH;FMTTYPE=image/png:https://rigpa.org.au/wp-content/uploads/2026/04/Know-your-mind-Web-Square.png
ORGANIZER;CN="Rigpa Brisbane":MAILTO:brisbane@rigpa.org.au
END:VEVENT
BEGIN:VEVENT
DTSTART;TZID=Australia/Brisbane:20260624T190000
DTEND;TZID=Australia/Brisbane:20260624T204500
DTSTAMP:20260423T210641
CREATED:20260415T104006Z
LAST-MODIFIED:20260415T105312Z
UID:10009655-1782327600-1782333900@rigpa.org.au
SUMMARY:Know your mind\, transform your life
DESCRIPTION:Know your mind\, transform your life  \nRigpa Brisbane is pleased to announce we are offering this new and exciting 8 week course starting Wednesday 27 May to 22 July 2026 (no class on 10 June). Plus practice based classes on Sunday 14 June and Sunday 12 July 2026. \nThe course is open for in-person attendance for all. \nFor more information and to register please click here. \nEnquiries: brisbane@rigpa.org.au
URL:https://rigpa.org.au/event/know-your-mind-transform-your-life-2/2026-06-24/
LOCATION:Rigpa Brisbane\, Unit 2/19 Enoggera Terrace\, Brisbane\, Queensland\, Australia
CATEGORIES:Brisbane Everyone,For Everyone
ATTACH;FMTTYPE=image/png:https://rigpa.org.au/wp-content/uploads/2026/04/Know-your-mind-Web-Square.png
ORGANIZER;CN="Rigpa Brisbane":MAILTO:brisbane@rigpa.org.au
END:VEVENT
BEGIN:VEVENT
DTSTART;TZID=Australia/Brisbane:20260701T190000
DTEND;TZID=Australia/Brisbane:20260701T204500
DTSTAMP:20260423T210641
CREATED:20260415T104006Z
LAST-MODIFIED:20260415T105312Z
UID:10009656-1782932400-1782938700@rigpa.org.au
SUMMARY:Know your mind\, transform your life
DESCRIPTION:Know your mind\, transform your life  \nRigpa Brisbane is pleased to announce we are offering this new and exciting 8 week course starting Wednesday 27 May to 22 July 2026 (no class on 10 June). Plus practice based classes on Sunday 14 June and Sunday 12 July 2026. \nThe course is open for in-person attendance for all. \nFor more information and to register please click here. \nEnquiries: brisbane@rigpa.org.au
URL:https://rigpa.org.au/event/know-your-mind-transform-your-life-2/2026-07-01/
LOCATION:Rigpa Brisbane\, Unit 2/19 Enoggera Terrace\, Brisbane\, Queensland\, Australia
CATEGORIES:Brisbane Everyone,For Everyone
ATTACH;FMTTYPE=image/png:https://rigpa.org.au/wp-content/uploads/2026/04/Know-your-mind-Web-Square.png
ORGANIZER;CN="Rigpa Brisbane":MAILTO:brisbane@rigpa.org.au
END:VEVENT
BEGIN:VEVENT
DTSTART;TZID=Australia/Brisbane:20260708T190000
DTEND;TZID=Australia/Brisbane:20260708T204500
DTSTAMP:20260423T210641
CREATED:20260415T104006Z
LAST-MODIFIED:20260415T105312Z
UID:10009657-1783537200-1783543500@rigpa.org.au
SUMMARY:Know your mind\, transform your life
DESCRIPTION:Know your mind\, transform your life  \nRigpa Brisbane is pleased to announce we are offering this new and exciting 8 week course starting Wednesday 27 May to 22 July 2026 (no class on 10 June). Plus practice based classes on Sunday 14 June and Sunday 12 July 2026. \nThe course is open for in-person attendance for all. \nFor more information and to register please click here. \nEnquiries: brisbane@rigpa.org.au
URL:https://rigpa.org.au/event/know-your-mind-transform-your-life-2/2026-07-08/
LOCATION:Rigpa Brisbane\, Unit 2/19 Enoggera Terrace\, Brisbane\, Queensland\, Australia
CATEGORIES:Brisbane Everyone,For Everyone
ATTACH;FMTTYPE=image/png:https://rigpa.org.au/wp-content/uploads/2026/04/Know-your-mind-Web-Square.png
ORGANIZER;CN="Rigpa Brisbane":MAILTO:brisbane@rigpa.org.au
END:VEVENT
BEGIN:VEVENT
DTSTART;TZID=Australia/Brisbane:20260712T093000
DTEND;TZID=Australia/Brisbane:20260712T150000
DTSTAMP:20260423T210641
CREATED:20260415T104006Z
LAST-MODIFIED:20260415T105312Z
UID:10009658-1783848600-1783868400@rigpa.org.au
SUMMARY:Know your mind\, transform your life
DESCRIPTION:Know your mind\, transform your life  \nRigpa Brisbane is pleased to announce we are offering this new and exciting 8 week course starting Wednesday 27 May to 22 July 2026 (no class on 10 June). Plus practice based classes on Sunday 14 June and Sunday 12 July 2026. \nThe course is open for in-person attendance for all. \nFor more information and to register please click here. \nEnquiries: brisbane@rigpa.org.au
URL:https://rigpa.org.au/event/know-your-mind-transform-your-life-2/2026-07-12/
LOCATION:Rigpa Brisbane\, Unit 2/19 Enoggera Terrace\, Brisbane\, Queensland\, Australia
CATEGORIES:Brisbane Everyone,For Everyone
ATTACH;FMTTYPE=image/png:https://rigpa.org.au/wp-content/uploads/2026/04/Know-your-mind-Web-Square.png
ORGANIZER;CN="Rigpa Brisbane":MAILTO:brisbane@rigpa.org.au
END:VEVENT
BEGIN:VEVENT
DTSTART;TZID=Australia/Brisbane:20260715T190000
DTEND;TZID=Australia/Brisbane:20260715T204500
DTSTAMP:20260423T210641
CREATED:20260415T104006Z
LAST-MODIFIED:20260415T105312Z
UID:10009659-1784142000-1784148300@rigpa.org.au
SUMMARY:Know your mind\, transform your life
DESCRIPTION:Know your mind\, transform your life  \nRigpa Brisbane is pleased to announce we are offering this new and exciting 8 week course starting Wednesday 27 May to 22 July 2026 (no class on 10 June). Plus practice based classes on Sunday 14 June and Sunday 12 July 2026. \nThe course is open for in-person attendance for all. \nFor more information and to register please click here. \nEnquiries: brisbane@rigpa.org.au
URL:https://rigpa.org.au/event/know-your-mind-transform-your-life-2/2026-07-15/
LOCATION:Rigpa Brisbane\, Unit 2/19 Enoggera Terrace\, Brisbane\, Queensland\, Australia
CATEGORIES:Brisbane Everyone,For Everyone
ATTACH;FMTTYPE=image/png:https://rigpa.org.au/wp-content/uploads/2026/04/Know-your-mind-Web-Square.png
ORGANIZER;CN="Rigpa Brisbane":MAILTO:brisbane@rigpa.org.au
END:VEVENT
BEGIN:VEVENT
DTSTART;TZID=Australia/Brisbane:20260722T190000
DTEND;TZID=Australia/Brisbane:20260722T204500
DTSTAMP:20260423T210641
CREATED:20260415T104006Z
LAST-MODIFIED:20260415T105312Z
UID:10009660-1784746800-1784753100@rigpa.org.au
SUMMARY:Know your mind\, transform your life
DESCRIPTION:Know your mind\, transform your life  \nRigpa Brisbane is pleased to announce we are offering this new and exciting 8 week course starting Wednesday 27 May to 22 July 2026 (no class on 10 June). Plus practice based classes on Sunday 14 June and Sunday 12 July 2026. \nThe course is open for in-person attendance for all. \nFor more information and to register please click here. \nEnquiries: brisbane@rigpa.org.au
URL:https://rigpa.org.au/event/know-your-mind-transform-your-life-2/2026-07-22/
LOCATION:Rigpa Brisbane\, Unit 2/19 Enoggera Terrace\, Brisbane\, Queensland\, Australia
CATEGORIES:Brisbane Everyone,For Everyone
ATTACH;FMTTYPE=image/png:https://rigpa.org.au/wp-content/uploads/2026/04/Know-your-mind-Web-Square.png
ORGANIZER;CN="Rigpa Brisbane":MAILTO:brisbane@rigpa.org.au
END:VEVENT
END:VCALENDAR