BEGIN:VCALENDAR
VERSION:2.0
PRODID:-//Rigpa Australia - ECPv6.15.20//NONSGML v1.0//EN
CALSCALE:GREGORIAN
METHOD:PUBLISH
X-WR-CALNAME:Rigpa Australia
X-ORIGINAL-URL:https://rigpa.org.au
X-WR-CALDESC:Events for Rigpa Australia
REFRESH-INTERVAL;VALUE=DURATION:PT1H
X-Robots-Tag:noindex
X-PUBLISHED-TTL:PT1H
BEGIN:VTIMEZONE
TZID:Australia/Melbourne
BEGIN:STANDARD
TZOFFSETFROM:+1100
TZOFFSETTO:+1000
TZNAME:AEST
DTSTART:20250405T160000
END:STANDARD
BEGIN:DAYLIGHT
TZOFFSETFROM:+1000
TZOFFSETTO:+1100
TZNAME:AEDT
DTSTART:20251004T160000
END:DAYLIGHT
BEGIN:STANDARD
TZOFFSETFROM:+1100
TZOFFSETTO:+1000
TZNAME:AEST
DTSTART:20260404T160000
END:STANDARD
BEGIN:DAYLIGHT
TZOFFSETFROM:+1000
TZOFFSETTO:+1100
TZNAME:AEDT
DTSTART:20261003T160000
END:DAYLIGHT
BEGIN:STANDARD
TZOFFSETFROM:+1100
TZOFFSETTO:+1000
TZNAME:AEST
DTSTART:20270403T160000
END:STANDARD
BEGIN:DAYLIGHT
TZOFFSETFROM:+1000
TZOFFSETTO:+1100
TZNAME:AEDT
DTSTART:20271002T160000
END:DAYLIGHT
END:VTIMEZONE
BEGIN:VEVENT
DTSTART;TZID=Australia/Melbourne:20260407T183000
DTEND;TZID=Australia/Melbourne:20260505T203000
DTSTAMP:20260425T045209
CREATED:20260304T012332Z
LAST-MODIFIED:20260403T011115Z
UID:10009211-1775586600-1778013000@rigpa.org.au
SUMMARY:This Life: The Four Noble Truths - Sydney & Online\, March 2026
DESCRIPTION:This Module focuses on The Four Noble Truths – (a clear-eyed view of our suffering\, its causes\, the potential for that suffering to be brought to an end\, and how to  attain that cessation of suffering)\n\nThe Buddhist spiritual path centres on our own mind’s vast potential for peace\, compassion and wisdom. True lasting happiness does not depend on external factors but comes from looking inwards to better know our own mind and heart. This course presents key insights from the Buddha’s life and teachings to show how\, through meditation and shifting our focus inwards\, we can find true\, unending contentment.\nThis course presents key Buddhist frameworks that guide our path\, including:– The four noble truths (a clear-eyed view of our suffering\, its causes\, the potential for that suffering to be brought to an end\, and how to attain that cessation of suffering)– The three vehicles of Buddhism\, which progressively show how we can nurture our innate peace\, compassion and wisdom– The four seals\, which encapsulate what is unique about the Buddha’s teachings and sets them apart from other religions and philosophies.\nIncluding teachings from foremost Tibetan masters of our time\, space for contemplation\, reflection and discussion\, and guided meditations\, this course will give you practical tools to help you work with your mind and take charge of your spiritual path.\n\n Online and Rigpa Sydney\, 158 Australia St\, Newtown.
URL:https://rigpa.org.au/event/this-life-the-four-noble-truths-sydney-online-march-2026/
LOCATION:Rigpa Sydney\, 158 Australia St\, Newtown\, Sydney\, NSW\, 2042\, Australia
CATEGORIES:Featured Sydney,For Everyone,Sydney - Everyone
ATTACH;FMTTYPE=image/png:https://rigpa.org.au/wp-content/uploads/2025/12/This-Life-no-texg.png
END:VEVENT
END:VCALENDAR