BEGIN:VCALENDAR
VERSION:2.0
PRODID:-//Rigpa Australia - ECPv6.15.20//NONSGML v1.0//EN
CALSCALE:GREGORIAN
METHOD:PUBLISH
X-WR-CALNAME:Rigpa Australia
X-ORIGINAL-URL:https://rigpa.org.au
X-WR-CALDESC:Events for Rigpa Australia
REFRESH-INTERVAL;VALUE=DURATION:PT1H
X-Robots-Tag:noindex
X-PUBLISHED-TTL:PT1H
BEGIN:VTIMEZONE
TZID:Australia/Melbourne
BEGIN:STANDARD
TZOFFSETFROM:+1100
TZOFFSETTO:+1000
TZNAME:AEST
DTSTART:20250405T160000
END:STANDARD
BEGIN:DAYLIGHT
TZOFFSETFROM:+1000
TZOFFSETTO:+1100
TZNAME:AEDT
DTSTART:20251004T160000
END:DAYLIGHT
BEGIN:STANDARD
TZOFFSETFROM:+1100
TZOFFSETTO:+1000
TZNAME:AEST
DTSTART:20260404T160000
END:STANDARD
BEGIN:DAYLIGHT
TZOFFSETFROM:+1000
TZOFFSETTO:+1100
TZNAME:AEDT
DTSTART:20261003T160000
END:DAYLIGHT
BEGIN:STANDARD
TZOFFSETFROM:+1100
TZOFFSETTO:+1000
TZNAME:AEST
DTSTART:20270403T160000
END:STANDARD
BEGIN:DAYLIGHT
TZOFFSETFROM:+1000
TZOFFSETTO:+1100
TZNAME:AEDT
DTSTART:20271002T160000
END:DAYLIGHT
END:VTIMEZONE
BEGIN:VEVENT
DTSTART;TZID=Australia/Melbourne:20260427T190000
DTEND;TZID=Australia/Melbourne:20260427T210000
DTSTAMP:20260423T192250
CREATED:20260401T095157Z
LAST-MODIFIED:20260409T220911Z
UID:10009420-1777316400-1777323600@rigpa.org.au
SUMMARY:This Life - The Buddha's guide to inner transformation | Melbourne | April - June 2026
DESCRIPTION:The Buddhist spiritual path centres on our own mind’s vast potential for peace\, compassion and wisdom.  True lasting happiness does not depend on external factors but comes from looking inwards to better know our own mind and heart. This course presents key insights from the Buddha’s life and teachings to show how\, through meditation and shifting our focus inwards\, we can find true\, unending contentment. \n  \nThis course presents key Buddhist frameworks that guide our path\, including: \n\n         The three vehicles of Buddhism\, which progressively show how we can nurture our innate peace\, compassion and wisdom.\n         The four seals\, which encapsulate what is unique about the Buddha’s teachings and sets them apart from other religions and philosophies.\n\nIncluding teachings from foremost Tibetan masters of our time\, space for contemplation\, reflection and discussion\, and guided meditations\, this course will give you practical tools to help you work with your mind and take charge of your spiritual path. \n  \nDetails \nWhere: Attend in person at Rigpa Melbourne\, 803 Nicholson Street Carlton North. \nWhen: Monday evenings\, for 9 weeks\, starting 27 April 2026\, a break on 8 June 2026\, and finishing 29 June 2026. \nTime: 7.00pm – 9.00pm AEDT. \nCost: 9-week module: Full $180\, Concession $90. \n  \nFREE for Rigpa members who may email melbourne@rigpa.org.au to request the discount code. \nIf you are experiencing financial hardship please email us at melbourne@rigpa.org.au to request a further concession. \nCertificates of Attendance are available on request and may be suitable for Ongoing Professional Development. \nMore information is available by emailing melbourne@rigpa.org.au
URL:https://rigpa.org.au/event/this-life-the-buddhas-guide-to-inner-transformation-melbourne-april-june-2026/2026-04-27/
LOCATION:Rigpa Melbourne\, 803 Nicholson St\, Carlton North\, Melbourne\, Victoria\, 3054\, Australia
CATEGORIES:Featured Melbourne,Melbourne - Everyone,Melbourne Established Students
ATTACH;FMTTYPE=image/png:https://rigpa.org.au/wp-content/uploads/2025/12/This-Life-with-tex.png
ORGANIZER;CN="Rigpa Melbourne":MAILTO:melbourne@rigpa.org.au
END:VEVENT
BEGIN:VEVENT
DTSTART;TZID=Australia/Melbourne:20260504T190000
DTEND;TZID=Australia/Melbourne:20260504T210000
DTSTAMP:20260423T192250
CREATED:20260401T095157Z
LAST-MODIFIED:20260409T220911Z
UID:10009421-1777921200-1777928400@rigpa.org.au
SUMMARY:This Life - The Buddha's guide to inner transformation | Melbourne | April - June 2026
DESCRIPTION:The Buddhist spiritual path centres on our own mind’s vast potential for peace\, compassion and wisdom.  True lasting happiness does not depend on external factors but comes from looking inwards to better know our own mind and heart. This course presents key insights from the Buddha’s life and teachings to show how\, through meditation and shifting our focus inwards\, we can find true\, unending contentment. \n  \nThis course presents key Buddhist frameworks that guide our path\, including: \n\n         The three vehicles of Buddhism\, which progressively show how we can nurture our innate peace\, compassion and wisdom.\n         The four seals\, which encapsulate what is unique about the Buddha’s teachings and sets them apart from other religions and philosophies.\n\nIncluding teachings from foremost Tibetan masters of our time\, space for contemplation\, reflection and discussion\, and guided meditations\, this course will give you practical tools to help you work with your mind and take charge of your spiritual path. \n  \nDetails \nWhere: Attend in person at Rigpa Melbourne\, 803 Nicholson Street Carlton North. \nWhen: Monday evenings\, for 9 weeks\, starting 27 April 2026\, a break on 8 June 2026\, and finishing 29 June 2026. \nTime: 7.00pm – 9.00pm AEDT. \nCost: 9-week module: Full $180\, Concession $90. \n  \nFREE for Rigpa members who may email melbourne@rigpa.org.au to request the discount code. \nIf you are experiencing financial hardship please email us at melbourne@rigpa.org.au to request a further concession. \nCertificates of Attendance are available on request and may be suitable for Ongoing Professional Development. \nMore information is available by emailing melbourne@rigpa.org.au
URL:https://rigpa.org.au/event/this-life-the-buddhas-guide-to-inner-transformation-melbourne-april-june-2026/2026-05-04/
LOCATION:Rigpa Melbourne\, 803 Nicholson St\, Carlton North\, Melbourne\, Victoria\, 3054\, Australia
CATEGORIES:Featured Melbourne,Melbourne - Everyone,Melbourne Established Students
ATTACH;FMTTYPE=image/png:https://rigpa.org.au/wp-content/uploads/2025/12/This-Life-with-tex.png
ORGANIZER;CN="Rigpa Melbourne":MAILTO:melbourne@rigpa.org.au
END:VEVENT
BEGIN:VEVENT
DTSTART;TZID=Australia/Melbourne:20260511T190000
DTEND;TZID=Australia/Melbourne:20260511T210000
DTSTAMP:20260423T192250
CREATED:20260401T095157Z
LAST-MODIFIED:20260409T220911Z
UID:10009422-1778526000-1778533200@rigpa.org.au
SUMMARY:This Life - The Buddha's guide to inner transformation | Melbourne | April - June 2026
DESCRIPTION:The Buddhist spiritual path centres on our own mind’s vast potential for peace\, compassion and wisdom.  True lasting happiness does not depend on external factors but comes from looking inwards to better know our own mind and heart. This course presents key insights from the Buddha’s life and teachings to show how\, through meditation and shifting our focus inwards\, we can find true\, unending contentment. \n  \nThis course presents key Buddhist frameworks that guide our path\, including: \n\n         The three vehicles of Buddhism\, which progressively show how we can nurture our innate peace\, compassion and wisdom.\n         The four seals\, which encapsulate what is unique about the Buddha’s teachings and sets them apart from other religions and philosophies.\n\nIncluding teachings from foremost Tibetan masters of our time\, space for contemplation\, reflection and discussion\, and guided meditations\, this course will give you practical tools to help you work with your mind and take charge of your spiritual path. \n  \nDetails \nWhere: Attend in person at Rigpa Melbourne\, 803 Nicholson Street Carlton North. \nWhen: Monday evenings\, for 9 weeks\, starting 27 April 2026\, a break on 8 June 2026\, and finishing 29 June 2026. \nTime: 7.00pm – 9.00pm AEDT. \nCost: 9-week module: Full $180\, Concession $90. \n  \nFREE for Rigpa members who may email melbourne@rigpa.org.au to request the discount code. \nIf you are experiencing financial hardship please email us at melbourne@rigpa.org.au to request a further concession. \nCertificates of Attendance are available on request and may be suitable for Ongoing Professional Development. \nMore information is available by emailing melbourne@rigpa.org.au
URL:https://rigpa.org.au/event/this-life-the-buddhas-guide-to-inner-transformation-melbourne-april-june-2026/2026-05-11/
LOCATION:Rigpa Melbourne\, 803 Nicholson St\, Carlton North\, Melbourne\, Victoria\, 3054\, Australia
CATEGORIES:Featured Melbourne,Melbourne - Everyone,Melbourne Established Students
ATTACH;FMTTYPE=image/png:https://rigpa.org.au/wp-content/uploads/2025/12/This-Life-with-tex.png
ORGANIZER;CN="Rigpa Melbourne":MAILTO:melbourne@rigpa.org.au
END:VEVENT
BEGIN:VEVENT
DTSTART;TZID=Australia/Melbourne:20260518T190000
DTEND;TZID=Australia/Melbourne:20260518T210000
DTSTAMP:20260423T192250
CREATED:20260401T095157Z
LAST-MODIFIED:20260409T220911Z
UID:10009423-1779130800-1779138000@rigpa.org.au
SUMMARY:This Life - The Buddha's guide to inner transformation | Melbourne | April - June 2026
DESCRIPTION:The Buddhist spiritual path centres on our own mind’s vast potential for peace\, compassion and wisdom.  True lasting happiness does not depend on external factors but comes from looking inwards to better know our own mind and heart. This course presents key insights from the Buddha’s life and teachings to show how\, through meditation and shifting our focus inwards\, we can find true\, unending contentment. \n  \nThis course presents key Buddhist frameworks that guide our path\, including: \n\n         The three vehicles of Buddhism\, which progressively show how we can nurture our innate peace\, compassion and wisdom.\n         The four seals\, which encapsulate what is unique about the Buddha’s teachings and sets them apart from other religions and philosophies.\n\nIncluding teachings from foremost Tibetan masters of our time\, space for contemplation\, reflection and discussion\, and guided meditations\, this course will give you practical tools to help you work with your mind and take charge of your spiritual path. \n  \nDetails \nWhere: Attend in person at Rigpa Melbourne\, 803 Nicholson Street Carlton North. \nWhen: Monday evenings\, for 9 weeks\, starting 27 April 2026\, a break on 8 June 2026\, and finishing 29 June 2026. \nTime: 7.00pm – 9.00pm AEDT. \nCost: 9-week module: Full $180\, Concession $90. \n  \nFREE for Rigpa members who may email melbourne@rigpa.org.au to request the discount code. \nIf you are experiencing financial hardship please email us at melbourne@rigpa.org.au to request a further concession. \nCertificates of Attendance are available on request and may be suitable for Ongoing Professional Development. \nMore information is available by emailing melbourne@rigpa.org.au
URL:https://rigpa.org.au/event/this-life-the-buddhas-guide-to-inner-transformation-melbourne-april-june-2026/2026-05-18/
LOCATION:Rigpa Melbourne\, 803 Nicholson St\, Carlton North\, Melbourne\, Victoria\, 3054\, Australia
CATEGORIES:Featured Melbourne,Melbourne - Everyone,Melbourne Established Students
ATTACH;FMTTYPE=image/png:https://rigpa.org.au/wp-content/uploads/2025/12/This-Life-with-tex.png
ORGANIZER;CN="Rigpa Melbourne":MAILTO:melbourne@rigpa.org.au
END:VEVENT
BEGIN:VEVENT
DTSTART;TZID=Australia/Melbourne:20260525T190000
DTEND;TZID=Australia/Melbourne:20260525T210000
DTSTAMP:20260423T192250
CREATED:20260401T095157Z
LAST-MODIFIED:20260409T220911Z
UID:10009424-1779735600-1779742800@rigpa.org.au
SUMMARY:This Life - The Buddha's guide to inner transformation | Melbourne | April - June 2026
DESCRIPTION:The Buddhist spiritual path centres on our own mind’s vast potential for peace\, compassion and wisdom.  True lasting happiness does not depend on external factors but comes from looking inwards to better know our own mind and heart. This course presents key insights from the Buddha’s life and teachings to show how\, through meditation and shifting our focus inwards\, we can find true\, unending contentment. \n  \nThis course presents key Buddhist frameworks that guide our path\, including: \n\n         The three vehicles of Buddhism\, which progressively show how we can nurture our innate peace\, compassion and wisdom.\n         The four seals\, which encapsulate what is unique about the Buddha’s teachings and sets them apart from other religions and philosophies.\n\nIncluding teachings from foremost Tibetan masters of our time\, space for contemplation\, reflection and discussion\, and guided meditations\, this course will give you practical tools to help you work with your mind and take charge of your spiritual path. \n  \nDetails \nWhere: Attend in person at Rigpa Melbourne\, 803 Nicholson Street Carlton North. \nWhen: Monday evenings\, for 9 weeks\, starting 27 April 2026\, a break on 8 June 2026\, and finishing 29 June 2026. \nTime: 7.00pm – 9.00pm AEDT. \nCost: 9-week module: Full $180\, Concession $90. \n  \nFREE for Rigpa members who may email melbourne@rigpa.org.au to request the discount code. \nIf you are experiencing financial hardship please email us at melbourne@rigpa.org.au to request a further concession. \nCertificates of Attendance are available on request and may be suitable for Ongoing Professional Development. \nMore information is available by emailing melbourne@rigpa.org.au
URL:https://rigpa.org.au/event/this-life-the-buddhas-guide-to-inner-transformation-melbourne-april-june-2026/2026-05-25/
LOCATION:Rigpa Melbourne\, 803 Nicholson St\, Carlton North\, Melbourne\, Victoria\, 3054\, Australia
CATEGORIES:Featured Melbourne,Melbourne - Everyone,Melbourne Established Students
ATTACH;FMTTYPE=image/png:https://rigpa.org.au/wp-content/uploads/2025/12/This-Life-with-tex.png
ORGANIZER;CN="Rigpa Melbourne":MAILTO:melbourne@rigpa.org.au
END:VEVENT
BEGIN:VEVENT
DTSTART;TZID=Australia/Melbourne:20260601T190000
DTEND;TZID=Australia/Melbourne:20260601T210000
DTSTAMP:20260423T192250
CREATED:20260401T095157Z
LAST-MODIFIED:20260409T220911Z
UID:10009425-1780340400-1780347600@rigpa.org.au
SUMMARY:This Life - The Buddha's guide to inner transformation | Melbourne | April - June 2026
DESCRIPTION:The Buddhist spiritual path centres on our own mind’s vast potential for peace\, compassion and wisdom.  True lasting happiness does not depend on external factors but comes from looking inwards to better know our own mind and heart. This course presents key insights from the Buddha’s life and teachings to show how\, through meditation and shifting our focus inwards\, we can find true\, unending contentment. \n  \nThis course presents key Buddhist frameworks that guide our path\, including: \n\n         The three vehicles of Buddhism\, which progressively show how we can nurture our innate peace\, compassion and wisdom.\n         The four seals\, which encapsulate what is unique about the Buddha’s teachings and sets them apart from other religions and philosophies.\n\nIncluding teachings from foremost Tibetan masters of our time\, space for contemplation\, reflection and discussion\, and guided meditations\, this course will give you practical tools to help you work with your mind and take charge of your spiritual path. \n  \nDetails \nWhere: Attend in person at Rigpa Melbourne\, 803 Nicholson Street Carlton North. \nWhen: Monday evenings\, for 9 weeks\, starting 27 April 2026\, a break on 8 June 2026\, and finishing 29 June 2026. \nTime: 7.00pm – 9.00pm AEDT. \nCost: 9-week module: Full $180\, Concession $90. \n  \nFREE for Rigpa members who may email melbourne@rigpa.org.au to request the discount code. \nIf you are experiencing financial hardship please email us at melbourne@rigpa.org.au to request a further concession. \nCertificates of Attendance are available on request and may be suitable for Ongoing Professional Development. \nMore information is available by emailing melbourne@rigpa.org.au
URL:https://rigpa.org.au/event/this-life-the-buddhas-guide-to-inner-transformation-melbourne-april-june-2026/2026-06-01/
LOCATION:Rigpa Melbourne\, 803 Nicholson St\, Carlton North\, Melbourne\, Victoria\, 3054\, Australia
CATEGORIES:Featured Melbourne,Melbourne - Everyone,Melbourne Established Students
ATTACH;FMTTYPE=image/png:https://rigpa.org.au/wp-content/uploads/2025/12/This-Life-with-tex.png
ORGANIZER;CN="Rigpa Melbourne":MAILTO:melbourne@rigpa.org.au
END:VEVENT
BEGIN:VEVENT
DTSTART;TZID=Australia/Melbourne:20260608T190000
DTEND;TZID=Australia/Melbourne:20260608T210000
DTSTAMP:20260423T192250
CREATED:20260401T095157Z
LAST-MODIFIED:20260409T220911Z
UID:10009426-1780945200-1780952400@rigpa.org.au
SUMMARY:This Life - The Buddha's guide to inner transformation | Melbourne | April - June 2026
DESCRIPTION:The Buddhist spiritual path centres on our own mind’s vast potential for peace\, compassion and wisdom.  True lasting happiness does not depend on external factors but comes from looking inwards to better know our own mind and heart. This course presents key insights from the Buddha’s life and teachings to show how\, through meditation and shifting our focus inwards\, we can find true\, unending contentment. \n  \nThis course presents key Buddhist frameworks that guide our path\, including: \n\n         The three vehicles of Buddhism\, which progressively show how we can nurture our innate peace\, compassion and wisdom.\n         The four seals\, which encapsulate what is unique about the Buddha’s teachings and sets them apart from other religions and philosophies.\n\nIncluding teachings from foremost Tibetan masters of our time\, space for contemplation\, reflection and discussion\, and guided meditations\, this course will give you practical tools to help you work with your mind and take charge of your spiritual path. \n  \nDetails \nWhere: Attend in person at Rigpa Melbourne\, 803 Nicholson Street Carlton North. \nWhen: Monday evenings\, for 9 weeks\, starting 27 April 2026\, a break on 8 June 2026\, and finishing 29 June 2026. \nTime: 7.00pm – 9.00pm AEDT. \nCost: 9-week module: Full $180\, Concession $90. \n  \nFREE for Rigpa members who may email melbourne@rigpa.org.au to request the discount code. \nIf you are experiencing financial hardship please email us at melbourne@rigpa.org.au to request a further concession. \nCertificates of Attendance are available on request and may be suitable for Ongoing Professional Development. \nMore information is available by emailing melbourne@rigpa.org.au
URL:https://rigpa.org.au/event/this-life-the-buddhas-guide-to-inner-transformation-melbourne-april-june-2026/2026-06-08/
LOCATION:Rigpa Melbourne\, 803 Nicholson St\, Carlton North\, Melbourne\, Victoria\, 3054\, Australia
CATEGORIES:Featured Melbourne,Melbourne - Everyone,Melbourne Established Students
ATTACH;FMTTYPE=image/png:https://rigpa.org.au/wp-content/uploads/2025/12/This-Life-with-tex.png
ORGANIZER;CN="Rigpa Melbourne":MAILTO:melbourne@rigpa.org.au
END:VEVENT
BEGIN:VEVENT
DTSTART;TZID=Australia/Melbourne:20260615T190000
DTEND;TZID=Australia/Melbourne:20260615T210000
DTSTAMP:20260423T192250
CREATED:20260401T095157Z
LAST-MODIFIED:20260409T220911Z
UID:10009427-1781550000-1781557200@rigpa.org.au
SUMMARY:This Life - The Buddha's guide to inner transformation | Melbourne | April - June 2026
DESCRIPTION:The Buddhist spiritual path centres on our own mind’s vast potential for peace\, compassion and wisdom.  True lasting happiness does not depend on external factors but comes from looking inwards to better know our own mind and heart. This course presents key insights from the Buddha’s life and teachings to show how\, through meditation and shifting our focus inwards\, we can find true\, unending contentment. \n  \nThis course presents key Buddhist frameworks that guide our path\, including: \n\n         The three vehicles of Buddhism\, which progressively show how we can nurture our innate peace\, compassion and wisdom.\n         The four seals\, which encapsulate what is unique about the Buddha’s teachings and sets them apart from other religions and philosophies.\n\nIncluding teachings from foremost Tibetan masters of our time\, space for contemplation\, reflection and discussion\, and guided meditations\, this course will give you practical tools to help you work with your mind and take charge of your spiritual path. \n  \nDetails \nWhere: Attend in person at Rigpa Melbourne\, 803 Nicholson Street Carlton North. \nWhen: Monday evenings\, for 9 weeks\, starting 27 April 2026\, a break on 8 June 2026\, and finishing 29 June 2026. \nTime: 7.00pm – 9.00pm AEDT. \nCost: 9-week module: Full $180\, Concession $90. \n  \nFREE for Rigpa members who may email melbourne@rigpa.org.au to request the discount code. \nIf you are experiencing financial hardship please email us at melbourne@rigpa.org.au to request a further concession. \nCertificates of Attendance are available on request and may be suitable for Ongoing Professional Development. \nMore information is available by emailing melbourne@rigpa.org.au
URL:https://rigpa.org.au/event/this-life-the-buddhas-guide-to-inner-transformation-melbourne-april-june-2026/2026-06-15/
LOCATION:Rigpa Melbourne\, 803 Nicholson St\, Carlton North\, Melbourne\, Victoria\, 3054\, Australia
CATEGORIES:Featured Melbourne,Melbourne - Everyone,Melbourne Established Students
ATTACH;FMTTYPE=image/png:https://rigpa.org.au/wp-content/uploads/2025/12/This-Life-with-tex.png
ORGANIZER;CN="Rigpa Melbourne":MAILTO:melbourne@rigpa.org.au
END:VEVENT
BEGIN:VEVENT
DTSTART;TZID=Australia/Melbourne:20260622T190000
DTEND;TZID=Australia/Melbourne:20260622T210000
DTSTAMP:20260423T192250
CREATED:20260401T095157Z
LAST-MODIFIED:20260409T220911Z
UID:10009428-1782154800-1782162000@rigpa.org.au
SUMMARY:This Life - The Buddha's guide to inner transformation | Melbourne | April - June 2026
DESCRIPTION:The Buddhist spiritual path centres on our own mind’s vast potential for peace\, compassion and wisdom.  True lasting happiness does not depend on external factors but comes from looking inwards to better know our own mind and heart. This course presents key insights from the Buddha’s life and teachings to show how\, through meditation and shifting our focus inwards\, we can find true\, unending contentment. \n  \nThis course presents key Buddhist frameworks that guide our path\, including: \n\n         The three vehicles of Buddhism\, which progressively show how we can nurture our innate peace\, compassion and wisdom.\n         The four seals\, which encapsulate what is unique about the Buddha’s teachings and sets them apart from other religions and philosophies.\n\nIncluding teachings from foremost Tibetan masters of our time\, space for contemplation\, reflection and discussion\, and guided meditations\, this course will give you practical tools to help you work with your mind and take charge of your spiritual path. \n  \nDetails \nWhere: Attend in person at Rigpa Melbourne\, 803 Nicholson Street Carlton North. \nWhen: Monday evenings\, for 9 weeks\, starting 27 April 2026\, a break on 8 June 2026\, and finishing 29 June 2026. \nTime: 7.00pm – 9.00pm AEDT. \nCost: 9-week module: Full $180\, Concession $90. \n  \nFREE for Rigpa members who may email melbourne@rigpa.org.au to request the discount code. \nIf you are experiencing financial hardship please email us at melbourne@rigpa.org.au to request a further concession. \nCertificates of Attendance are available on request and may be suitable for Ongoing Professional Development. \nMore information is available by emailing melbourne@rigpa.org.au
URL:https://rigpa.org.au/event/this-life-the-buddhas-guide-to-inner-transformation-melbourne-april-june-2026/2026-06-22/
LOCATION:Rigpa Melbourne\, 803 Nicholson St\, Carlton North\, Melbourne\, Victoria\, 3054\, Australia
CATEGORIES:Featured Melbourne,Melbourne - Everyone,Melbourne Established Students
ATTACH;FMTTYPE=image/png:https://rigpa.org.au/wp-content/uploads/2025/12/This-Life-with-tex.png
ORGANIZER;CN="Rigpa Melbourne":MAILTO:melbourne@rigpa.org.au
END:VEVENT
BEGIN:VEVENT
DTSTART;TZID=Australia/Melbourne:20260629T190000
DTEND;TZID=Australia/Melbourne:20260629T210000
DTSTAMP:20260423T192250
CREATED:20260401T095157Z
LAST-MODIFIED:20260409T220911Z
UID:10009429-1782759600-1782766800@rigpa.org.au
SUMMARY:This Life - The Buddha's guide to inner transformation | Melbourne | April - June 2026
DESCRIPTION:The Buddhist spiritual path centres on our own mind’s vast potential for peace\, compassion and wisdom.  True lasting happiness does not depend on external factors but comes from looking inwards to better know our own mind and heart. This course presents key insights from the Buddha’s life and teachings to show how\, through meditation and shifting our focus inwards\, we can find true\, unending contentment. \n  \nThis course presents key Buddhist frameworks that guide our path\, including: \n\n         The three vehicles of Buddhism\, which progressively show how we can nurture our innate peace\, compassion and wisdom.\n         The four seals\, which encapsulate what is unique about the Buddha’s teachings and sets them apart from other religions and philosophies.\n\nIncluding teachings from foremost Tibetan masters of our time\, space for contemplation\, reflection and discussion\, and guided meditations\, this course will give you practical tools to help you work with your mind and take charge of your spiritual path. \n  \nDetails \nWhere: Attend in person at Rigpa Melbourne\, 803 Nicholson Street Carlton North. \nWhen: Monday evenings\, for 9 weeks\, starting 27 April 2026\, a break on 8 June 2026\, and finishing 29 June 2026. \nTime: 7.00pm – 9.00pm AEDT. \nCost: 9-week module: Full $180\, Concession $90. \n  \nFREE for Rigpa members who may email melbourne@rigpa.org.au to request the discount code. \nIf you are experiencing financial hardship please email us at melbourne@rigpa.org.au to request a further concession. \nCertificates of Attendance are available on request and may be suitable for Ongoing Professional Development. \nMore information is available by emailing melbourne@rigpa.org.au
URL:https://rigpa.org.au/event/this-life-the-buddhas-guide-to-inner-transformation-melbourne-april-june-2026/2026-06-29/
LOCATION:Rigpa Melbourne\, 803 Nicholson St\, Carlton North\, Melbourne\, Victoria\, 3054\, Australia
CATEGORIES:Featured Melbourne,Melbourne - Everyone,Melbourne Established Students
ATTACH;FMTTYPE=image/png:https://rigpa.org.au/wp-content/uploads/2025/12/This-Life-with-tex.png
ORGANIZER;CN="Rigpa Melbourne":MAILTO:melbourne@rigpa.org.au
END:VEVENT
END:VCALENDAR