BEGIN:VCALENDAR
VERSION:2.0
PRODID:-//Rigpa Australia - ECPv6.15.20//NONSGML v1.0//EN
CALSCALE:GREGORIAN
METHOD:PUBLISH
X-WR-CALNAME:Rigpa Australia
X-ORIGINAL-URL:https://rigpa.org.au
X-WR-CALDESC:Events for Rigpa Australia
REFRESH-INTERVAL;VALUE=DURATION:PT1H
X-Robots-Tag:noindex
X-PUBLISHED-TTL:PT1H
BEGIN:VTIMEZONE
TZID:Australia/Melbourne
BEGIN:STANDARD
TZOFFSETFROM:+1100
TZOFFSETTO:+1000
TZNAME:AEST
DTSTART:20250405T160000
END:STANDARD
BEGIN:DAYLIGHT
TZOFFSETFROM:+1000
TZOFFSETTO:+1100
TZNAME:AEDT
DTSTART:20251004T160000
END:DAYLIGHT
BEGIN:STANDARD
TZOFFSETFROM:+1100
TZOFFSETTO:+1000
TZNAME:AEST
DTSTART:20260404T160000
END:STANDARD
BEGIN:DAYLIGHT
TZOFFSETFROM:+1000
TZOFFSETTO:+1100
TZNAME:AEDT
DTSTART:20261003T160000
END:DAYLIGHT
BEGIN:STANDARD
TZOFFSETFROM:+1100
TZOFFSETTO:+1000
TZNAME:AEST
DTSTART:20270403T160000
END:STANDARD
BEGIN:DAYLIGHT
TZOFFSETFROM:+1000
TZOFFSETTO:+1100
TZNAME:AEDT
DTSTART:20271002T160000
END:DAYLIGHT
END:VTIMEZONE
BEGIN:VEVENT
DTSTART;TZID=Australia/Melbourne:20260701T183000
DTEND;TZID=Australia/Melbourne:20260701T203000
DTSTAMP:20260426T115717
CREATED:20260302T024807Z
LAST-MODIFIED:20260302T024807Z
UID:10009206-1782930600-1782937800@rigpa.org.au
SUMMARY:Inspiring a Revolution in Your Heart and Mind
DESCRIPTION:Bringing the Mind Home\n\nTake a deep dive into a rich variety of meditation techniques to transform your moods and emotions. And discover how the whole purpose of meditation is to transcend our ordinary mind\, to discover our vast\, wise and compassionate fundamental nature\, which we have lost touch with. The highest goal of meditation is to awake in us the sky-like nature of mind and introduce to us who we really are: our unchanging pure awareness.
URL:https://rigpa.org.au/event/inspiring-a-revolution-in-your-heart-and-mind-20/2026-07-01/
LOCATION:Rigpa Sydney\, 158 Australia St\, Newtown\, Sydney\, NSW\, 2042\, Australia
CATEGORIES:For Everyone,Online,Sydney - Everyone
ATTACH;FMTTYPE=image/png:https://rigpa.org.au/wp-content/uploads/2024/11/Inspiring.png
ORGANIZER;CN="Rigpa Sydney":MAILTO:sydney@rigpa.org.au
END:VEVENT
BEGIN:VEVENT
DTSTART;TZID=Australia/Melbourne:20260704T090000
DTEND;TZID=Australia/Melbourne:20260704T100000
DTSTAMP:20260426T115717
CREATED:20250110T012418Z
LAST-MODIFIED:20260307T234316Z
UID:10009328-1783155600-1783159200@rigpa.org.au
SUMMARY:Guided Meditation on Saturdays in Sydney 9 - 10am
DESCRIPTION:Join us in person at our National Center in Newtown on Saturday mornings for a guided meditation session 9-10 am. \nSessions are led by experienced meditation instructors for 1 hour\, divided into several shorter sessions with stretch breaks. \nAll welcome at 158 Australia St\, Newtown and there is no need to book. \nAttendance is by donation.
URL:https://rigpa.org.au/event/drop-in-meditation-on-saturdays-in-sydney-9-10am-from-1st-february-2025/2026-07-04/
LOCATION:Rigpa Sydney\, 158 Australia St\, Newtown\, Sydney\, NSW\, 2042\, Australia
CATEGORIES:For Everyone,Sydney - Everyone
ATTACH;FMTTYPE=image/png:https://rigpa.org.au/wp-content/uploads/2025/01/Sydney-Drop-In-Meditation-web-square.png
ORGANIZER;CN="Rigpa Sydney":MAILTO:sydney@rigpa.org.au
END:VEVENT
BEGIN:VEVENT
DTSTART;TZID=Australia/Melbourne:20260704T150000
DTEND;TZID=Australia/Melbourne:20260704T173000
DTSTAMP:20260426T115717
CREATED:20251205T070149Z
LAST-MODIFIED:20260317T230852Z
UID:10007317-1783177200-1783186200@rigpa.org.au
SUMMARY:Where Can We Find Lasting Happiness? | Meditation and Wisdom for Every Day
DESCRIPTION:Many of us experience dissatisfaction or feeling that something is missing in our lives\, even when on the surface things seem quite good. This session presents teachings by Dzogchen Ponlop Rinpoche and Sogyal Rinpoche that show us how turning our mind inwards\, through reflection and meditation\, offers us a path out of endless dissatisfaction to finding true\, lasting happiness. \n  \nA session in the Meditation and Wisdom to Transform Every Day Life series. \n  \nSpend time with your best self on a journey from sadness and anger to peace and joy. The timeless wisdom and meditative insights of the Tibetan Buddhist tradition offer many practical methods to help us heal and thrive as we face the everyday challenges of anxiety\, depression\, anger\, physical pain\, loneliness\, and burnout. \nThis series of Saturday afternoon sessions offer an introduction to meditation and practical advice from some of the foremost Tibetan Buddhist teachers of our age. Applying these teachings can help us meet the challenges of these difficult times\, to heal ourselves\, and to bring us to the core of our own peace\, compassion and wisdom. \nLed by Western meditation instructors with many years of experience\, each session consists of: \n\nVideo teachings from Tibetan Buddhist masters including Sogyal Rinpoche\, Ringu Tulku Rinpoche\, Dungse Jampal Norbu and Dzogchen Ponlop Rinpoche.\nMeditation practice\nTime for contemplation\nGroup discussions and Q&A\, offering you the opportunity to explore the teachings and practices in an open supportive environment and to connect with a community of practitioners\n\nDates and Topics for 2026 \n4 July               Where Can We Find Lasting Happiness?\n1 August          Everything is Workable\n5 September   Overcoming Depression\n3 October        Accentuate the Positive: How to Work with Negative Emotions\n7 November    Beating Burnout and Stress\n5 December    How to Remain Unshaken By Life’s Ups and Downs \n📍 Online and Rigpa Sydney\, 158 Australia St\, Newtown.
URL:https://rigpa.org.au/event/where-can-we-find-lasting-happiness-meditation-and-wisdom-for-every-day/
LOCATION:Rigpa Sydney\, 158 Australia St\, Newtown\, Sydney\, NSW\, 2042\, Australia
CATEGORIES:For Everyone,Online,Sydney - Everyone
ATTACH;FMTTYPE=image/png:https://rigpa.org.au/wp-content/uploads/2025/12/Where-Can-We-Find-Lasting-Happiness.png
END:VEVENT
BEGIN:VEVENT
DTSTART;TZID=Australia/Melbourne:20260708T183000
DTEND;TZID=Australia/Melbourne:20260708T203000
DTSTAMP:20260426T115717
CREATED:20260302T024807Z
LAST-MODIFIED:20260302T024807Z
UID:10009207-1783535400-1783542600@rigpa.org.au
SUMMARY:Inspiring a Revolution in Your Heart and Mind
DESCRIPTION:Bringing the Mind Home\n\nTake a deep dive into a rich variety of meditation techniques to transform your moods and emotions. And discover how the whole purpose of meditation is to transcend our ordinary mind\, to discover our vast\, wise and compassionate fundamental nature\, which we have lost touch with. The highest goal of meditation is to awake in us the sky-like nature of mind and introduce to us who we really are: our unchanging pure awareness.
URL:https://rigpa.org.au/event/inspiring-a-revolution-in-your-heart-and-mind-20/2026-07-08/
LOCATION:Rigpa Sydney\, 158 Australia St\, Newtown\, Sydney\, NSW\, 2042\, Australia
CATEGORIES:For Everyone,Online,Sydney - Everyone
ATTACH;FMTTYPE=image/png:https://rigpa.org.au/wp-content/uploads/2024/11/Inspiring.png
ORGANIZER;CN="Rigpa Sydney":MAILTO:sydney@rigpa.org.au
END:VEVENT
BEGIN:VEVENT
DTSTART;TZID=Australia/Melbourne:20260711T090000
DTEND;TZID=Australia/Melbourne:20260711T100000
DTSTAMP:20260426T115717
CREATED:20250110T012418Z
LAST-MODIFIED:20260307T234316Z
UID:10009329-1783760400-1783764000@rigpa.org.au
SUMMARY:Guided Meditation on Saturdays in Sydney 9 - 10am
DESCRIPTION:Join us in person at our National Center in Newtown on Saturday mornings for a guided meditation session 9-10 am. \nSessions are led by experienced meditation instructors for 1 hour\, divided into several shorter sessions with stretch breaks. \nAll welcome at 158 Australia St\, Newtown and there is no need to book. \nAttendance is by donation.
URL:https://rigpa.org.au/event/drop-in-meditation-on-saturdays-in-sydney-9-10am-from-1st-february-2025/2026-07-11/
LOCATION:Rigpa Sydney\, 158 Australia St\, Newtown\, Sydney\, NSW\, 2042\, Australia
CATEGORIES:For Everyone,Sydney - Everyone
ATTACH;FMTTYPE=image/png:https://rigpa.org.au/wp-content/uploads/2025/01/Sydney-Drop-In-Meditation-web-square.png
ORGANIZER;CN="Rigpa Sydney":MAILTO:sydney@rigpa.org.au
END:VEVENT
BEGIN:VEVENT
DTSTART;TZID=Australia/Melbourne:20260718T090000
DTEND;TZID=Australia/Melbourne:20260718T100000
DTSTAMP:20260426T115717
CREATED:20250110T012418Z
LAST-MODIFIED:20260307T234316Z
UID:10009330-1784365200-1784368800@rigpa.org.au
SUMMARY:Guided Meditation on Saturdays in Sydney 9 - 10am
DESCRIPTION:Join us in person at our National Center in Newtown on Saturday mornings for a guided meditation session 9-10 am. \nSessions are led by experienced meditation instructors for 1 hour\, divided into several shorter sessions with stretch breaks. \nAll welcome at 158 Australia St\, Newtown and there is no need to book. \nAttendance is by donation.
URL:https://rigpa.org.au/event/drop-in-meditation-on-saturdays-in-sydney-9-10am-from-1st-february-2025/2026-07-18/
LOCATION:Rigpa Sydney\, 158 Australia St\, Newtown\, Sydney\, NSW\, 2042\, Australia
CATEGORIES:For Everyone,Sydney - Everyone
ATTACH;FMTTYPE=image/png:https://rigpa.org.au/wp-content/uploads/2025/01/Sydney-Drop-In-Meditation-web-square.png
ORGANIZER;CN="Rigpa Sydney":MAILTO:sydney@rigpa.org.au
END:VEVENT
BEGIN:VEVENT
DTSTART;TZID=Australia/Melbourne:20260721T103000
DTEND;TZID=Australia/Melbourne:20260721T123000
DTSTAMP:20260426T115717
CREATED:20260316T230012Z
LAST-MODIFIED:20260316T230215Z
UID:10009357-1784629800-1784637000@rigpa.org.au
SUMMARY:Book Group
DESCRIPTION:We meet on the third Tuesday of each month\, 10:30am – 12:30pm. \nWe read and discuss an eclectic range of Buddhist books and books of wider interest. \nWe warmly invite you to join our friendly\, lively discussions on the themes and challenges of our chosen book\, followed by a short video and morning tea. \nThis group is free\, but a donation towards the upkeep our temple would be appreciated. \n  \nDates for 2026: \nTuesday 21 April \nTuesday 19 May \nTuesday 16 June \nTuesday 21 July \nTuesday 18 August \nTuesday 22 September \nTuesday 20 October \nTuesday 17 November \nTuesday 15 December
URL:https://rigpa.org.au/event/book-group/2026-07-21/
LOCATION:Rigpa Sydney\, 158 Australia St\, Newtown\, Sydney\, NSW\, 2042\, Australia
CATEGORIES:For Everyone,Sydney - Established,Sydney - Everyone
ATTACH;FMTTYPE=image/png:https://rigpa.org.au/wp-content/uploads/2026/03/Book-Group-web-square.png
ORGANIZER;CN="Rigpa Sydney":MAILTO:sydney@rigpa.org.au
END:VEVENT
BEGIN:VEVENT
DTSTART;TZID=Australia/Melbourne:20260725T090000
DTEND;TZID=Australia/Melbourne:20260725T100000
DTSTAMP:20260426T115717
CREATED:20250110T012418Z
LAST-MODIFIED:20260307T234316Z
UID:10009331-1784970000-1784973600@rigpa.org.au
SUMMARY:Guided Meditation on Saturdays in Sydney 9 - 10am
DESCRIPTION:Join us in person at our National Center in Newtown on Saturday mornings for a guided meditation session 9-10 am. \nSessions are led by experienced meditation instructors for 1 hour\, divided into several shorter sessions with stretch breaks. \nAll welcome at 158 Australia St\, Newtown and there is no need to book. \nAttendance is by donation.
URL:https://rigpa.org.au/event/drop-in-meditation-on-saturdays-in-sydney-9-10am-from-1st-february-2025/2026-07-25/
LOCATION:Rigpa Sydney\, 158 Australia St\, Newtown\, Sydney\, NSW\, 2042\, Australia
CATEGORIES:For Everyone,Sydney - Everyone
ATTACH;FMTTYPE=image/png:https://rigpa.org.au/wp-content/uploads/2025/01/Sydney-Drop-In-Meditation-web-square.png
ORGANIZER;CN="Rigpa Sydney":MAILTO:sydney@rigpa.org.au
END:VEVENT
END:VCALENDAR