BEGIN:VCALENDAR
VERSION:2.0
PRODID:-//Rigpa Australia - ECPv6.15.20//NONSGML v1.0//EN
CALSCALE:GREGORIAN
METHOD:PUBLISH
X-WR-CALNAME:Rigpa Australia
X-ORIGINAL-URL:https://rigpa.org.au
X-WR-CALDESC:Events for Rigpa Australia
REFRESH-INTERVAL;VALUE=DURATION:PT1H
X-Robots-Tag:noindex
X-PUBLISHED-TTL:PT1H
BEGIN:VTIMEZONE
TZID:Australia/Melbourne
BEGIN:STANDARD
TZOFFSETFROM:+1100
TZOFFSETTO:+1000
TZNAME:AEST
DTSTART:20250405T160000
END:STANDARD
BEGIN:DAYLIGHT
TZOFFSETFROM:+1000
TZOFFSETTO:+1100
TZNAME:AEDT
DTSTART:20251004T160000
END:DAYLIGHT
BEGIN:STANDARD
TZOFFSETFROM:+1100
TZOFFSETTO:+1000
TZNAME:AEST
DTSTART:20260404T160000
END:STANDARD
BEGIN:DAYLIGHT
TZOFFSETFROM:+1000
TZOFFSETTO:+1100
TZNAME:AEDT
DTSTART:20261003T160000
END:DAYLIGHT
BEGIN:STANDARD
TZOFFSETFROM:+1100
TZOFFSETTO:+1000
TZNAME:AEST
DTSTART:20270403T160000
END:STANDARD
BEGIN:DAYLIGHT
TZOFFSETFROM:+1000
TZOFFSETTO:+1100
TZNAME:AEDT
DTSTART:20271002T160000
END:DAYLIGHT
END:VTIMEZONE
BEGIN:VEVENT
DTSTART;TZID=Australia/Melbourne:20260602T183000
DTEND;TZID=Australia/Melbourne:20260602T203000
DTSTAMP:20260426T142222
CREATED:20260403T010924Z
LAST-MODIFIED:20260416T021852Z
UID:10009435-1780425000-1780432200@rigpa.org.au
SUMMARY:This Life: Key insights from the Buddha's life and teachings
DESCRIPTION:The Essence of the Three Yanas is the second module of the This Life course. It presents the key teachings and insights from the Buddha via the Three Vehicles: Peace\, Compassion & Wisdom. Through this nine week course\, we will explore how the treasure of this ancient wisdom may help us navigate the challenges in our modern society and learn to live a contented and meaningful life. \nThe course is aimed at people who have some experience of meditation and buddhist studies. \nThis course explores the Buddhist path to awakening through reflecting on the example of the Buddha\, understanding the fundamental message of his teachings\, the Dharma\, and looking into the value of the spiritual community—the Sangha —dedicated to following in the Buddha’s footsteps. \nThis course explores the life of the Buddha\, both in its historical context and from a spiritual perspective\, and reflects on the relevance that the Buddha’s life has for us now. \nIt presents the key principles of the Buddha’s Dharma teachings: including the four noble truths and the four seals\, which form the basis for all levels of practice on the Buddhist path. The course does not merely address these topics intellectually\, but rather gives students the opportunity to explore and internalize these crucial points through contemplation and practise. This will include examining: \n—The insights the Buddha’s teachings offer us about life and death. \n—How Buddhism is both a religion and a science of mind\, and how it differs from other religions and philosophies. \n—The Buddhist view of the nature of reality and ourselves. \nWe will also explore the idea and value of a spiritual community\, Sangha and the role it plays in the path to awakening. \nFor more experienced students this is a wonderful chance to clarify\, reinforce and deepen the crucial principles of our view and practice. \nRigpa’s policy is that financial difficulties should not be an obstacle to attending our courses. If this is an issue for you and attending this course\, please contact us at sydney@rigpa.org.au \nCurrent Sangha Members/Subscribers can register FREE using their discount code.
URL:https://rigpa.org.au/event/this-life-key-insights-from-the-buddhas-life-and-teachings/2026-06-02/
LOCATION:Rigpa Sydney\, 158 Australia St\, Newtown\, Sydney\, NSW\, 2042\, Australia
CATEGORIES:2026 - The Next Step - View,Featured Sydney,For Everyone,Sydney - Established,Sydney - Everyone
ATTACH;FMTTYPE=image/png:https://rigpa.org.au/wp-content/uploads/2026/04/This-Life-Sydney-April.png
ORGANIZER;CN="Rigpa Sydney":MAILTO:sydney@rigpa.org.au
END:VEVENT
BEGIN:VEVENT
DTSTART;TZID=Australia/Melbourne:20260606T080000
DTEND;TZID=Australia/Melbourne:20260610T153000
DTSTAMP:20260426T142222
CREATED:20260306T090105Z
LAST-MODIFIED:20260318T103027Z
UID:10009305-1780732800-1781105400@rigpa.org.au
SUMMARY:The Power of Your Mind: Kindness\, Clarity & Insight
DESCRIPTION:This five-day retreat will present the Mahayana Seven Points of Mind Training\, to lay out a path of formal meditation practice\, accompanied by guidelines for extending that practice into everyday life. \nThese teachings are precious and unique in presenting the entire depth and breadth of the Buddha’s Mahayana teachings succinctly and practically. Mahayana mind training offers an approach to life that is straightforward\, grounded in sanity\, kindness\, and compassion. Yet it also offers a vision that completely transcends our ordinary way of viewing ourselves and others\, with an all-encompassing vision of enlightenment. \nAt the heart of this vision of enlightenment is the view that our innate\, fundamental identity is vast\, luminous and utterly awake. The Mahayana teachings refer to this as our enlightened heart\, or bodhicitta. Enlightenment is nothing other than who we really are. But for most of us\, our true nature is like a hidden treasure\, concealed behind layers of mental activity and preoccupation. \nMahayana mind training helps us give expression to our enlightened heart in everything we think\, say and do. The training particularly focuses on our relationships\, which are like a mirror that shows us exactly where we are at. Our relationships also provide us with a way to dissolve the limitations that prevent the vastness of our true nature from fully manifesting. \nFounded on a practice lineage that has been actively and continually practised for hundreds of years\, these teachings are completely relevant to the challenges posed by our modern\, globalised life. \nTopics covered in the retreat will include: \n\nfinding meaning in our lives\, and connectedness with our world\novercoming loneliness and isolation\nhow to thrive in the face of difficulties\nhow to contribute to creating a more sustainable\, kind\, and compassionate world\n\nWe strongly encourage you to join us in person to get the most out of your retreat time. For those unable to travel to Sydney this retreat will be streamed to Rigpa’s centres in Adelaide\, Brisbane and Melbourne. For those unable to attend a Rigpa centre\, a direct online option is also available. \nThis retreat will be led by Senior Teacher\, Jan van der Breggen\, along with a team of Rigpa Australia teachers and instructors. \nAbout Jan van der Breggen\n  \nJan is a teacher in the Tibetan Buddhist tradition and a scholar of Buddhist philosophy. He began the path of meditation at 17 years old\, touched by the tenderness of the human experience and filled with questions about what reality was all about. He soon encountered the writings of great masters from various traditions such as J Krishnamurti\, Suzuki Roshi\, Thich Nhat Hang and Sogyal Rinpoche. Thirty years later\, Jan continues to be moved by the vast profundity of the Buddhist path and its vision of the inherent wisdom\, loving kindness and strength that lies in the minds of each and everyone of us. \nJan was honoured to be entrusted by Khenchen Namdrol Rinpoche and Mindroling Jetsun Khandro Rinpoche as one of the twenty-five worldwide Rigpa Senior teachers. In 2017\, he was selected to be a participant in the Milinda program\, a 10-year\, international Buddhist teacher training program under the guidance of Dzongsar Khyentse Rinpoche. \nJan grew up in the Netherlands where he earned a Masters Degree in Historical Anthropology. He is fluent in English and Dutch. He lives in Brisbane where he works as a data analytics professional. Jan was instrumental in founding Rigpa Brisbane in 1999\, where he has served as a Dharma instructor for over 20 years.
URL:https://rigpa.org.au/event/the-power-of-your-mind-kindness-clarity-insight/
LOCATION:Rigpa Sydney\, 158 Australia St\, Newtown\, Sydney\, NSW\, 2042\, Australia
CATEGORIES:Featured Homepage,For Everyone,Newcastle - All welcome,Sydney - Everyone
ATTACH;FMTTYPE=image/png:https://rigpa.org.au/wp-content/uploads/2026/03/Power-of-Mind-square-for-web.png
END:VEVENT
BEGIN:VEVENT
DTSTART;TZID=Australia/Melbourne:20260606T090000
DTEND;TZID=Australia/Melbourne:20260606T100000
DTSTAMP:20260426T142222
CREATED:20250110T012418Z
LAST-MODIFIED:20260307T234316Z
UID:10009324-1780736400-1780740000@rigpa.org.au
SUMMARY:Guided Meditation on Saturdays in Sydney 9 - 10am
DESCRIPTION:Join us in person at our National Center in Newtown on Saturday mornings for a guided meditation session 9-10 am. \nSessions are led by experienced meditation instructors for 1 hour\, divided into several shorter sessions with stretch breaks. \nAll welcome at 158 Australia St\, Newtown and there is no need to book. \nAttendance is by donation.
URL:https://rigpa.org.au/event/drop-in-meditation-on-saturdays-in-sydney-9-10am-from-1st-february-2025/2026-06-06/
LOCATION:Rigpa Sydney\, 158 Australia St\, Newtown\, Sydney\, NSW\, 2042\, Australia
CATEGORIES:For Everyone,Sydney - Everyone
ATTACH;FMTTYPE=image/png:https://rigpa.org.au/wp-content/uploads/2025/01/Sydney-Drop-In-Meditation-web-square.png
ORGANIZER;CN="Rigpa Sydney":MAILTO:sydney@rigpa.org.au
END:VEVENT
BEGIN:VEVENT
DTSTART;TZID=Australia/Melbourne:20260609T183000
DTEND;TZID=Australia/Melbourne:20260609T203000
DTSTAMP:20260426T142222
CREATED:20260403T010924Z
LAST-MODIFIED:20260416T021852Z
UID:10009436-1781029800-1781037000@rigpa.org.au
SUMMARY:This Life: Key insights from the Buddha's life and teachings
DESCRIPTION:The Essence of the Three Yanas is the second module of the This Life course. It presents the key teachings and insights from the Buddha via the Three Vehicles: Peace\, Compassion & Wisdom. Through this nine week course\, we will explore how the treasure of this ancient wisdom may help us navigate the challenges in our modern society and learn to live a contented and meaningful life. \nThe course is aimed at people who have some experience of meditation and buddhist studies. \nThis course explores the Buddhist path to awakening through reflecting on the example of the Buddha\, understanding the fundamental message of his teachings\, the Dharma\, and looking into the value of the spiritual community—the Sangha —dedicated to following in the Buddha’s footsteps. \nThis course explores the life of the Buddha\, both in its historical context and from a spiritual perspective\, and reflects on the relevance that the Buddha’s life has for us now. \nIt presents the key principles of the Buddha’s Dharma teachings: including the four noble truths and the four seals\, which form the basis for all levels of practice on the Buddhist path. The course does not merely address these topics intellectually\, but rather gives students the opportunity to explore and internalize these crucial points through contemplation and practise. This will include examining: \n—The insights the Buddha’s teachings offer us about life and death. \n—How Buddhism is both a religion and a science of mind\, and how it differs from other religions and philosophies. \n—The Buddhist view of the nature of reality and ourselves. \nWe will also explore the idea and value of a spiritual community\, Sangha and the role it plays in the path to awakening. \nFor more experienced students this is a wonderful chance to clarify\, reinforce and deepen the crucial principles of our view and practice. \nRigpa’s policy is that financial difficulties should not be an obstacle to attending our courses. If this is an issue for you and attending this course\, please contact us at sydney@rigpa.org.au \nCurrent Sangha Members/Subscribers can register FREE using their discount code.
URL:https://rigpa.org.au/event/this-life-key-insights-from-the-buddhas-life-and-teachings/2026-06-09/
LOCATION:Rigpa Sydney\, 158 Australia St\, Newtown\, Sydney\, NSW\, 2042\, Australia
CATEGORIES:2026 - The Next Step - View,Featured Sydney,For Everyone,Sydney - Established,Sydney - Everyone
ATTACH;FMTTYPE=image/png:https://rigpa.org.au/wp-content/uploads/2026/04/This-Life-Sydney-April.png
ORGANIZER;CN="Rigpa Sydney":MAILTO:sydney@rigpa.org.au
END:VEVENT
BEGIN:VEVENT
DTSTART;TZID=Australia/Melbourne:20260610T183000
DTEND;TZID=Australia/Melbourne:20260610T203000
DTSTAMP:20260426T142222
CREATED:20260302T024807Z
LAST-MODIFIED:20260302T024807Z
UID:10009203-1781116200-1781123400@rigpa.org.au
SUMMARY:Inspiring a Revolution in Your Heart and Mind
DESCRIPTION:Bringing the Mind Home\n\nTake a deep dive into a rich variety of meditation techniques to transform your moods and emotions. And discover how the whole purpose of meditation is to transcend our ordinary mind\, to discover our vast\, wise and compassionate fundamental nature\, which we have lost touch with. The highest goal of meditation is to awake in us the sky-like nature of mind and introduce to us who we really are: our unchanging pure awareness.
URL:https://rigpa.org.au/event/inspiring-a-revolution-in-your-heart-and-mind-20/2026-06-10/
LOCATION:Rigpa Sydney\, 158 Australia St\, Newtown\, Sydney\, NSW\, 2042\, Australia
CATEGORIES:For Everyone,Online,Sydney - Everyone
ATTACH;FMTTYPE=image/png:https://rigpa.org.au/wp-content/uploads/2024/11/Inspiring.png
ORGANIZER;CN="Rigpa Sydney":MAILTO:sydney@rigpa.org.au
END:VEVENT
BEGIN:VEVENT
DTSTART;TZID=Australia/Melbourne:20260613T090000
DTEND;TZID=Australia/Melbourne:20260613T100000
DTSTAMP:20260426T142222
CREATED:20250110T012418Z
LAST-MODIFIED:20260307T234316Z
UID:10009325-1781341200-1781344800@rigpa.org.au
SUMMARY:Guided Meditation on Saturdays in Sydney 9 - 10am
DESCRIPTION:Join us in person at our National Center in Newtown on Saturday mornings for a guided meditation session 9-10 am. \nSessions are led by experienced meditation instructors for 1 hour\, divided into several shorter sessions with stretch breaks. \nAll welcome at 158 Australia St\, Newtown and there is no need to book. \nAttendance is by donation.
URL:https://rigpa.org.au/event/drop-in-meditation-on-saturdays-in-sydney-9-10am-from-1st-february-2025/2026-06-13/
LOCATION:Rigpa Sydney\, 158 Australia St\, Newtown\, Sydney\, NSW\, 2042\, Australia
CATEGORIES:For Everyone,Sydney - Everyone
ATTACH;FMTTYPE=image/png:https://rigpa.org.au/wp-content/uploads/2025/01/Sydney-Drop-In-Meditation-web-square.png
ORGANIZER;CN="Rigpa Sydney":MAILTO:sydney@rigpa.org.au
END:VEVENT
BEGIN:VEVENT
DTSTART;TZID=Australia/Melbourne:20260616T103000
DTEND;TZID=Australia/Melbourne:20260616T123000
DTSTAMP:20260426T142222
CREATED:20260316T230012Z
LAST-MODIFIED:20260316T230215Z
UID:10009356-1781605800-1781613000@rigpa.org.au
SUMMARY:Book Group
DESCRIPTION:We meet on the third Tuesday of each month\, 10:30am – 12:30pm. \nWe read and discuss an eclectic range of Buddhist books and books of wider interest. \nWe warmly invite you to join our friendly\, lively discussions on the themes and challenges of our chosen book\, followed by a short video and morning tea. \nThis group is free\, but a donation towards the upkeep our temple would be appreciated. \n  \nDates for 2026: \nTuesday 21 April \nTuesday 19 May \nTuesday 16 June \nTuesday 21 July \nTuesday 18 August \nTuesday 22 September \nTuesday 20 October \nTuesday 17 November \nTuesday 15 December
URL:https://rigpa.org.au/event/book-group/2026-06-16/
LOCATION:Rigpa Sydney\, 158 Australia St\, Newtown\, Sydney\, NSW\, 2042\, Australia
CATEGORIES:For Everyone,Sydney - Established,Sydney - Everyone
ATTACH;FMTTYPE=image/png:https://rigpa.org.au/wp-content/uploads/2026/03/Book-Group-web-square.png
ORGANIZER;CN="Rigpa Sydney":MAILTO:sydney@rigpa.org.au
END:VEVENT
BEGIN:VEVENT
DTSTART;TZID=Australia/Melbourne:20260616T183000
DTEND;TZID=Australia/Melbourne:20260616T203000
DTSTAMP:20260426T142222
CREATED:20260403T010924Z
LAST-MODIFIED:20260416T021852Z
UID:10009437-1781634600-1781641800@rigpa.org.au
SUMMARY:This Life: Key insights from the Buddha's life and teachings
DESCRIPTION:The Essence of the Three Yanas is the second module of the This Life course. It presents the key teachings and insights from the Buddha via the Three Vehicles: Peace\, Compassion & Wisdom. Through this nine week course\, we will explore how the treasure of this ancient wisdom may help us navigate the challenges in our modern society and learn to live a contented and meaningful life. \nThe course is aimed at people who have some experience of meditation and buddhist studies. \nThis course explores the Buddhist path to awakening through reflecting on the example of the Buddha\, understanding the fundamental message of his teachings\, the Dharma\, and looking into the value of the spiritual community—the Sangha —dedicated to following in the Buddha’s footsteps. \nThis course explores the life of the Buddha\, both in its historical context and from a spiritual perspective\, and reflects on the relevance that the Buddha’s life has for us now. \nIt presents the key principles of the Buddha’s Dharma teachings: including the four noble truths and the four seals\, which form the basis for all levels of practice on the Buddhist path. The course does not merely address these topics intellectually\, but rather gives students the opportunity to explore and internalize these crucial points through contemplation and practise. This will include examining: \n—The insights the Buddha’s teachings offer us about life and death. \n—How Buddhism is both a religion and a science of mind\, and how it differs from other religions and philosophies. \n—The Buddhist view of the nature of reality and ourselves. \nWe will also explore the idea and value of a spiritual community\, Sangha and the role it plays in the path to awakening. \nFor more experienced students this is a wonderful chance to clarify\, reinforce and deepen the crucial principles of our view and practice. \nRigpa’s policy is that financial difficulties should not be an obstacle to attending our courses. If this is an issue for you and attending this course\, please contact us at sydney@rigpa.org.au \nCurrent Sangha Members/Subscribers can register FREE using their discount code.
URL:https://rigpa.org.au/event/this-life-key-insights-from-the-buddhas-life-and-teachings/2026-06-16/
LOCATION:Rigpa Sydney\, 158 Australia St\, Newtown\, Sydney\, NSW\, 2042\, Australia
CATEGORIES:2026 - The Next Step - View,Featured Sydney,For Everyone,Sydney - Established,Sydney - Everyone
ATTACH;FMTTYPE=image/png:https://rigpa.org.au/wp-content/uploads/2026/04/This-Life-Sydney-April.png
ORGANIZER;CN="Rigpa Sydney":MAILTO:sydney@rigpa.org.au
END:VEVENT
BEGIN:VEVENT
DTSTART;TZID=Australia/Melbourne:20260617T183000
DTEND;TZID=Australia/Melbourne:20260617T203000
DTSTAMP:20260426T142222
CREATED:20260302T024807Z
LAST-MODIFIED:20260302T024807Z
UID:10009204-1781721000-1781728200@rigpa.org.au
SUMMARY:Inspiring a Revolution in Your Heart and Mind
DESCRIPTION:Bringing the Mind Home\n\nTake a deep dive into a rich variety of meditation techniques to transform your moods and emotions. And discover how the whole purpose of meditation is to transcend our ordinary mind\, to discover our vast\, wise and compassionate fundamental nature\, which we have lost touch with. The highest goal of meditation is to awake in us the sky-like nature of mind and introduce to us who we really are: our unchanging pure awareness.
URL:https://rigpa.org.au/event/inspiring-a-revolution-in-your-heart-and-mind-20/2026-06-17/
LOCATION:Rigpa Sydney\, 158 Australia St\, Newtown\, Sydney\, NSW\, 2042\, Australia
CATEGORIES:For Everyone,Online,Sydney - Everyone
ATTACH;FMTTYPE=image/png:https://rigpa.org.au/wp-content/uploads/2024/11/Inspiring.png
ORGANIZER;CN="Rigpa Sydney":MAILTO:sydney@rigpa.org.au
END:VEVENT
BEGIN:VEVENT
DTSTART;TZID=Australia/Melbourne:20260620T090000
DTEND;TZID=Australia/Melbourne:20260620T100000
DTSTAMP:20260426T142222
CREATED:20250110T012418Z
LAST-MODIFIED:20260307T234316Z
UID:10009326-1781946000-1781949600@rigpa.org.au
SUMMARY:Guided Meditation on Saturdays in Sydney 9 - 10am
DESCRIPTION:Join us in person at our National Center in Newtown on Saturday mornings for a guided meditation session 9-10 am. \nSessions are led by experienced meditation instructors for 1 hour\, divided into several shorter sessions with stretch breaks. \nAll welcome at 158 Australia St\, Newtown and there is no need to book. \nAttendance is by donation.
URL:https://rigpa.org.au/event/drop-in-meditation-on-saturdays-in-sydney-9-10am-from-1st-february-2025/2026-06-20/
LOCATION:Rigpa Sydney\, 158 Australia St\, Newtown\, Sydney\, NSW\, 2042\, Australia
CATEGORIES:For Everyone,Sydney - Everyone
ATTACH;FMTTYPE=image/png:https://rigpa.org.au/wp-content/uploads/2025/01/Sydney-Drop-In-Meditation-web-square.png
ORGANIZER;CN="Rigpa Sydney":MAILTO:sydney@rigpa.org.au
END:VEVENT
BEGIN:VEVENT
DTSTART;TZID=Australia/Melbourne:20260623T183000
DTEND;TZID=Australia/Melbourne:20260623T203000
DTSTAMP:20260426T142222
CREATED:20260403T010924Z
LAST-MODIFIED:20260416T021852Z
UID:10009438-1782239400-1782246600@rigpa.org.au
SUMMARY:This Life: Key insights from the Buddha's life and teachings
DESCRIPTION:The Essence of the Three Yanas is the second module of the This Life course. It presents the key teachings and insights from the Buddha via the Three Vehicles: Peace\, Compassion & Wisdom. Through this nine week course\, we will explore how the treasure of this ancient wisdom may help us navigate the challenges in our modern society and learn to live a contented and meaningful life. \nThe course is aimed at people who have some experience of meditation and buddhist studies. \nThis course explores the Buddhist path to awakening through reflecting on the example of the Buddha\, understanding the fundamental message of his teachings\, the Dharma\, and looking into the value of the spiritual community—the Sangha —dedicated to following in the Buddha’s footsteps. \nThis course explores the life of the Buddha\, both in its historical context and from a spiritual perspective\, and reflects on the relevance that the Buddha’s life has for us now. \nIt presents the key principles of the Buddha’s Dharma teachings: including the four noble truths and the four seals\, which form the basis for all levels of practice on the Buddhist path. The course does not merely address these topics intellectually\, but rather gives students the opportunity to explore and internalize these crucial points through contemplation and practise. This will include examining: \n—The insights the Buddha’s teachings offer us about life and death. \n—How Buddhism is both a religion and a science of mind\, and how it differs from other religions and philosophies. \n—The Buddhist view of the nature of reality and ourselves. \nWe will also explore the idea and value of a spiritual community\, Sangha and the role it plays in the path to awakening. \nFor more experienced students this is a wonderful chance to clarify\, reinforce and deepen the crucial principles of our view and practice. \nRigpa’s policy is that financial difficulties should not be an obstacle to attending our courses. If this is an issue for you and attending this course\, please contact us at sydney@rigpa.org.au \nCurrent Sangha Members/Subscribers can register FREE using their discount code.
URL:https://rigpa.org.au/event/this-life-key-insights-from-the-buddhas-life-and-teachings/2026-06-23/
LOCATION:Rigpa Sydney\, 158 Australia St\, Newtown\, Sydney\, NSW\, 2042\, Australia
CATEGORIES:2026 - The Next Step - View,Featured Sydney,For Everyone,Sydney - Established,Sydney - Everyone
ATTACH;FMTTYPE=image/png:https://rigpa.org.au/wp-content/uploads/2026/04/This-Life-Sydney-April.png
ORGANIZER;CN="Rigpa Sydney":MAILTO:sydney@rigpa.org.au
END:VEVENT
BEGIN:VEVENT
DTSTART;TZID=Australia/Melbourne:20260624T183000
DTEND;TZID=Australia/Melbourne:20260624T203000
DTSTAMP:20260426T142222
CREATED:20260302T024807Z
LAST-MODIFIED:20260302T024807Z
UID:10009205-1782325800-1782333000@rigpa.org.au
SUMMARY:Inspiring a Revolution in Your Heart and Mind
DESCRIPTION:Bringing the Mind Home\n\nTake a deep dive into a rich variety of meditation techniques to transform your moods and emotions. And discover how the whole purpose of meditation is to transcend our ordinary mind\, to discover our vast\, wise and compassionate fundamental nature\, which we have lost touch with. The highest goal of meditation is to awake in us the sky-like nature of mind and introduce to us who we really are: our unchanging pure awareness.
URL:https://rigpa.org.au/event/inspiring-a-revolution-in-your-heart-and-mind-20/2026-06-24/
LOCATION:Rigpa Sydney\, 158 Australia St\, Newtown\, Sydney\, NSW\, 2042\, Australia
CATEGORIES:For Everyone,Online,Sydney - Everyone
ATTACH;FMTTYPE=image/png:https://rigpa.org.au/wp-content/uploads/2024/11/Inspiring.png
ORGANIZER;CN="Rigpa Sydney":MAILTO:sydney@rigpa.org.au
END:VEVENT
BEGIN:VEVENT
DTSTART;TZID=Australia/Melbourne:20260627T090000
DTEND;TZID=Australia/Melbourne:20260627T100000
DTSTAMP:20260426T142222
CREATED:20250110T012418Z
LAST-MODIFIED:20260307T234316Z
UID:10009327-1782550800-1782554400@rigpa.org.au
SUMMARY:Guided Meditation on Saturdays in Sydney 9 - 10am
DESCRIPTION:Join us in person at our National Center in Newtown on Saturday mornings for a guided meditation session 9-10 am. \nSessions are led by experienced meditation instructors for 1 hour\, divided into several shorter sessions with stretch breaks. \nAll welcome at 158 Australia St\, Newtown and there is no need to book. \nAttendance is by donation.
URL:https://rigpa.org.au/event/drop-in-meditation-on-saturdays-in-sydney-9-10am-from-1st-february-2025/2026-06-27/
LOCATION:Rigpa Sydney\, 158 Australia St\, Newtown\, Sydney\, NSW\, 2042\, Australia
CATEGORIES:For Everyone,Sydney - Everyone
ATTACH;FMTTYPE=image/png:https://rigpa.org.au/wp-content/uploads/2025/01/Sydney-Drop-In-Meditation-web-square.png
ORGANIZER;CN="Rigpa Sydney":MAILTO:sydney@rigpa.org.au
END:VEVENT
BEGIN:VEVENT
DTSTART;TZID=Australia/Melbourne:20260630T183000
DTEND;TZID=Australia/Melbourne:20260630T203000
DTSTAMP:20260426T142222
CREATED:20260403T010924Z
LAST-MODIFIED:20260416T021852Z
UID:10009439-1782844200-1782851400@rigpa.org.au
SUMMARY:This Life: Key insights from the Buddha's life and teachings
DESCRIPTION:The Essence of the Three Yanas is the second module of the This Life course. It presents the key teachings and insights from the Buddha via the Three Vehicles: Peace\, Compassion & Wisdom. Through this nine week course\, we will explore how the treasure of this ancient wisdom may help us navigate the challenges in our modern society and learn to live a contented and meaningful life. \nThe course is aimed at people who have some experience of meditation and buddhist studies. \nThis course explores the Buddhist path to awakening through reflecting on the example of the Buddha\, understanding the fundamental message of his teachings\, the Dharma\, and looking into the value of the spiritual community—the Sangha —dedicated to following in the Buddha’s footsteps. \nThis course explores the life of the Buddha\, both in its historical context and from a spiritual perspective\, and reflects on the relevance that the Buddha’s life has for us now. \nIt presents the key principles of the Buddha’s Dharma teachings: including the four noble truths and the four seals\, which form the basis for all levels of practice on the Buddhist path. The course does not merely address these topics intellectually\, but rather gives students the opportunity to explore and internalize these crucial points through contemplation and practise. This will include examining: \n—The insights the Buddha’s teachings offer us about life and death. \n—How Buddhism is both a religion and a science of mind\, and how it differs from other religions and philosophies. \n—The Buddhist view of the nature of reality and ourselves. \nWe will also explore the idea and value of a spiritual community\, Sangha and the role it plays in the path to awakening. \nFor more experienced students this is a wonderful chance to clarify\, reinforce and deepen the crucial principles of our view and practice. \nRigpa’s policy is that financial difficulties should not be an obstacle to attending our courses. If this is an issue for you and attending this course\, please contact us at sydney@rigpa.org.au \nCurrent Sangha Members/Subscribers can register FREE using their discount code.
URL:https://rigpa.org.au/event/this-life-key-insights-from-the-buddhas-life-and-teachings/2026-06-30/
LOCATION:Rigpa Sydney\, 158 Australia St\, Newtown\, Sydney\, NSW\, 2042\, Australia
CATEGORIES:2026 - The Next Step - View,Featured Sydney,For Everyone,Sydney - Established,Sydney - Everyone
ATTACH;FMTTYPE=image/png:https://rigpa.org.au/wp-content/uploads/2026/04/This-Life-Sydney-April.png
ORGANIZER;CN="Rigpa Sydney":MAILTO:sydney@rigpa.org.au
END:VEVENT
END:VCALENDAR