BEGIN:VCALENDAR
VERSION:2.0
PRODID:-//Rigpa Australia - ECPv6.15.20//NONSGML v1.0//EN
CALSCALE:GREGORIAN
METHOD:PUBLISH
X-ORIGINAL-URL:https://rigpa.org.au
X-WR-CALDESC:Events for Rigpa Australia
REFRESH-INTERVAL;VALUE=DURATION:PT1H
X-Robots-Tag:noindex
X-PUBLISHED-TTL:PT1H
BEGIN:VTIMEZONE
TZID:Australia/Melbourne
BEGIN:STANDARD
TZOFFSETFROM:+1100
TZOFFSETTO:+1000
TZNAME:AEST
DTSTART:20240406T160000
END:STANDARD
BEGIN:DAYLIGHT
TZOFFSETFROM:+1000
TZOFFSETTO:+1100
TZNAME:AEDT
DTSTART:20241005T160000
END:DAYLIGHT
BEGIN:STANDARD
TZOFFSETFROM:+1100
TZOFFSETTO:+1000
TZNAME:AEST
DTSTART:20250405T160000
END:STANDARD
BEGIN:DAYLIGHT
TZOFFSETFROM:+1000
TZOFFSETTO:+1100
TZNAME:AEDT
DTSTART:20251004T160000
END:DAYLIGHT
BEGIN:STANDARD
TZOFFSETFROM:+1100
TZOFFSETTO:+1000
TZNAME:AEST
DTSTART:20260404T160000
END:STANDARD
BEGIN:DAYLIGHT
TZOFFSETFROM:+1000
TZOFFSETTO:+1100
TZNAME:AEDT
DTSTART:20261003T160000
END:DAYLIGHT
BEGIN:STANDARD
TZOFFSETFROM:+1100
TZOFFSETTO:+1000
TZNAME:AEST
DTSTART:20270403T160000
END:STANDARD
BEGIN:DAYLIGHT
TZOFFSETFROM:+1000
TZOFFSETTO:+1100
TZNAME:AEDT
DTSTART:20271002T160000
END:DAYLIGHT
END:VTIMEZONE
BEGIN:VEVENT
DTSTART;TZID=Australia/Melbourne:20250708T190000
DTEND;TZID=Australia/Melbourne:20251218T200000
DTSTAMP:20260426T142352
CREATED:20250415T011023Z
LAST-MODIFIED:20260130T011712Z
UID:10004723-1752001200-1766088000@rigpa.org.au
SUMMARY:The Wisdom of Compassion - Module 3 | Sydney & Online
DESCRIPTION:Module 3  – 10 week course ??? attend online or in Sydney. \nPresenting key Buddhist teachings on the powerful logic of compassion and practical methods for developing a more kind relationship with ourselves\, those around us and ultimately all beings. \nOur innate capacity for empathy is the source of the very best of human qualities: love\, kindness\, generosity\, warm-heartedness\, courage … compassion. Although we are born with a vast capacity to love\, we may not know how to do so unconditionally\, or how to express that love in practice. \nWhen our heart and mind are filled with love\, we find the greatest inner healing\, tranquillity and well-being. Modern research shows that with empathy and compassion we can be more fully ourselves\, connect more easily with others\, improve self worth and reduce self-criticism\, and lead healthier lives.
URL:https://rigpa.org.au/event/the-wisdom-of-compassion-sydney-online-2-2-2/2025-07-08/
LOCATION:Rigpa Sydney\, 158 Australia St\, Newtown\, Sydney\, NSW\, 2042\, Australia
CATEGORIES:For Everyone,Sydney - Everyone
ATTACH;FMTTYPE=image/png:https://rigpa.org.au/wp-content/uploads/2024/11/The-Wisdom-of-Compassion.png
ORGANIZER;CN="Rigpa Sydney":MAILTO:sydney@rigpa.org.au
END:VEVENT
BEGIN:VEVENT
DTSTART;TZID=Australia/Melbourne:20250729T190000
DTEND;TZID=Australia/Melbourne:20260108T200000
DTSTAMP:20260426T142352
CREATED:20250415T011023Z
LAST-MODIFIED:20260130T011712Z
UID:10004726-1753815600-1767902400@rigpa.org.au
SUMMARY:The Wisdom of Compassion - Module 3 | Sydney & Online
DESCRIPTION:Module 3  – 10 week course ??? attend online or in Sydney. \nPresenting key Buddhist teachings on the powerful logic of compassion and practical methods for developing a more kind relationship with ourselves\, those around us and ultimately all beings. \nOur innate capacity for empathy is the source of the very best of human qualities: love\, kindness\, generosity\, warm-heartedness\, courage … compassion. Although we are born with a vast capacity to love\, we may not know how to do so unconditionally\, or how to express that love in practice. \nWhen our heart and mind are filled with love\, we find the greatest inner healing\, tranquillity and well-being. Modern research shows that with empathy and compassion we can be more fully ourselves\, connect more easily with others\, improve self worth and reduce self-criticism\, and lead healthier lives.
URL:https://rigpa.org.au/event/the-wisdom-of-compassion-sydney-online-2-2-2/2025-07-29/
LOCATION:Rigpa Sydney\, 158 Australia St\, Newtown\, Sydney\, NSW\, 2042\, Australia
CATEGORIES:For Everyone,Sydney - Everyone
ATTACH;FMTTYPE=image/png:https://rigpa.org.au/wp-content/uploads/2024/11/The-Wisdom-of-Compassion.png
ORGANIZER;CN="Rigpa Sydney":MAILTO:sydney@rigpa.org.au
END:VEVENT
BEGIN:VEVENT
DTSTART;TZID=Australia/Melbourne:20250805T190000
DTEND;TZID=Australia/Melbourne:20260115T200000
DTSTAMP:20260426T142352
CREATED:20250415T011023Z
LAST-MODIFIED:20260130T011712Z
UID:10004727-1754420400-1768507200@rigpa.org.au
SUMMARY:The Wisdom of Compassion - Module 3 | Sydney & Online
DESCRIPTION:Module 3  – 10 week course ??? attend online or in Sydney. \nPresenting key Buddhist teachings on the powerful logic of compassion and practical methods for developing a more kind relationship with ourselves\, those around us and ultimately all beings. \nOur innate capacity for empathy is the source of the very best of human qualities: love\, kindness\, generosity\, warm-heartedness\, courage … compassion. Although we are born with a vast capacity to love\, we may not know how to do so unconditionally\, or how to express that love in practice. \nWhen our heart and mind are filled with love\, we find the greatest inner healing\, tranquillity and well-being. Modern research shows that with empathy and compassion we can be more fully ourselves\, connect more easily with others\, improve self worth and reduce self-criticism\, and lead healthier lives.
URL:https://rigpa.org.au/event/the-wisdom-of-compassion-sydney-online-2-2-2/2025-08-05/
LOCATION:Rigpa Sydney\, 158 Australia St\, Newtown\, Sydney\, NSW\, 2042\, Australia
CATEGORIES:For Everyone,Sydney - Everyone
ATTACH;FMTTYPE=image/png:https://rigpa.org.au/wp-content/uploads/2024/11/The-Wisdom-of-Compassion.png
ORGANIZER;CN="Rigpa Sydney":MAILTO:sydney@rigpa.org.au
END:VEVENT
BEGIN:VEVENT
DTSTART;TZID=Australia/Melbourne:20250812T190000
DTEND;TZID=Australia/Melbourne:20260122T200000
DTSTAMP:20260426T142352
CREATED:20250415T011023Z
LAST-MODIFIED:20260130T011712Z
UID:10004728-1755025200-1769112000@rigpa.org.au
SUMMARY:The Wisdom of Compassion - Module 3 | Sydney & Online
DESCRIPTION:Module 3  – 10 week course ??? attend online or in Sydney. \nPresenting key Buddhist teachings on the powerful logic of compassion and practical methods for developing a more kind relationship with ourselves\, those around us and ultimately all beings. \nOur innate capacity for empathy is the source of the very best of human qualities: love\, kindness\, generosity\, warm-heartedness\, courage … compassion. Although we are born with a vast capacity to love\, we may not know how to do so unconditionally\, or how to express that love in practice. \nWhen our heart and mind are filled with love\, we find the greatest inner healing\, tranquillity and well-being. Modern research shows that with empathy and compassion we can be more fully ourselves\, connect more easily with others\, improve self worth and reduce self-criticism\, and lead healthier lives.
URL:https://rigpa.org.au/event/the-wisdom-of-compassion-sydney-online-2-2-2/2025-08-12/
LOCATION:Rigpa Sydney\, 158 Australia St\, Newtown\, Sydney\, NSW\, 2042\, Australia
CATEGORIES:For Everyone,Sydney - Everyone
ATTACH;FMTTYPE=image/png:https://rigpa.org.au/wp-content/uploads/2024/11/The-Wisdom-of-Compassion.png
ORGANIZER;CN="Rigpa Sydney":MAILTO:sydney@rigpa.org.au
END:VEVENT
BEGIN:VEVENT
DTSTART;TZID=Australia/Melbourne:20250819T190000
DTEND;TZID=Australia/Melbourne:20260129T200000
DTSTAMP:20260426T142352
CREATED:20250415T011023Z
LAST-MODIFIED:20260130T011712Z
UID:10004729-1755630000-1769716800@rigpa.org.au
SUMMARY:The Wisdom of Compassion - Module 3 | Sydney & Online
DESCRIPTION:Module 3  – 10 week course ??? attend online or in Sydney. \nPresenting key Buddhist teachings on the powerful logic of compassion and practical methods for developing a more kind relationship with ourselves\, those around us and ultimately all beings. \nOur innate capacity for empathy is the source of the very best of human qualities: love\, kindness\, generosity\, warm-heartedness\, courage … compassion. Although we are born with a vast capacity to love\, we may not know how to do so unconditionally\, or how to express that love in practice. \nWhen our heart and mind are filled with love\, we find the greatest inner healing\, tranquillity and well-being. Modern research shows that with empathy and compassion we can be more fully ourselves\, connect more easily with others\, improve self worth and reduce self-criticism\, and lead healthier lives.
URL:https://rigpa.org.au/event/the-wisdom-of-compassion-sydney-online-2-2-2/2025-08-19/
LOCATION:Rigpa Sydney\, 158 Australia St\, Newtown\, Sydney\, NSW\, 2042\, Australia
CATEGORIES:For Everyone,Sydney - Everyone
ATTACH;FMTTYPE=image/png:https://rigpa.org.au/wp-content/uploads/2024/11/The-Wisdom-of-Compassion.png
ORGANIZER;CN="Rigpa Sydney":MAILTO:sydney@rigpa.org.au
END:VEVENT
BEGIN:VEVENT
DTSTART;TZID=Australia/Melbourne:20250827T183000
DTEND;TZID=Australia/Melbourne:20250924T203000
DTSTAMP:20260426T142352
CREATED:20250818T043818Z
LAST-MODIFIED:20250818T043818Z
UID:10006549-1756319400-1758745800@rigpa.org.au
SUMMARY:Inspiring a Revolution in Your Heart and Mind | The Spiritual Path - Sydney and Online
DESCRIPTION:The Spiritual Path (Module 6 of the full-year course\, new students are welcome to join) \nThe first declaration that the Buddha made at the time of his enlightenment was: “Profound peace\, free of complexity\, natural simplicity\, uncompounded luminosity.” \nThis module examines what enlightenment is and explores the practical training of the Tibetan Buddhist Dzogchen Path in terms of View\, Meditation and Action. To see directly the absolute state\, the Ground of our being\, is the View; the way of stabilizing that View and making it an unbroken experience is Meditation; and integrating the View into our entire reality\, and life\, is what is meant by Action. \n 
URL:https://rigpa.org.au/event/inspiring-a-revolution-in-your-heart-and-mind-the-spiritual-path-sydney-and-online/
LOCATION:
CATEGORIES:For Everyone,Newcastle - All welcome,Online,Sydney - Everyone
ATTACH;FMTTYPE=image/png:https://rigpa.org.au/wp-content/uploads/2024/11/Inspiring.png
END:VEVENT
BEGIN:VEVENT
DTSTART;TZID=Australia/Melbourne:20250902T190000
DTEND;TZID=Australia/Melbourne:20250902T210000
DTSTAMP:20260426T142352
CREATED:20250711T050534Z
LAST-MODIFIED:20250711T050534Z
UID:10006378-1756839600-1756846800@rigpa.org.au
SUMMARY:The Wisdom of Compassion - Bodhichitta and Tonglen
DESCRIPTION:The Buddhist practice of ‘equalizing self and others’ as expressed in giving with great love and taking with great compassion\, known as Tonglen\, is one of the most useful and powerful of all Buddhist practices. Tonglen is a simple and straightforward practice\, which is extremely effective at getting to the heart of our predicament: our excessively self-centred attitude. Tonglen opens you to the truth of the suffering of others; it reveals the loving\, expansive radiance of your own nature. And it offers extraordinary power in destroying the self-cherishing and self-absorption which is the root of all our hard-heartedness and all our suffering. \nThe Wisdom of Compassion presents key Buddhist teachings on the powerful logic of compassion and practical methods for developing a more kind relationship with ourselves\, those around us and ultimately all beings. \nOur innate capacity for empathy is the source of the very best of human qualities: love\, kindness\, generosity\, warm-heartedness\, courage … compassion. Although we are born with a vast capacity to love\, we may not know how to do so unconditionally\, or how to express that love in practice. \nWhen our heart and mind are filled with love\, we find the greatest inner healing\, tranquillity and well-being. Modern research shows that with empathy and compassion we can be more fully ourselves\, connect more easily with others\, improve self worth and reduce self-criticism\, and lead healthier lives. \nParticipants in this course will learn how to: \n\ndevelop loving kindness for themselves\nextend that loving kindness to all beings\nmove along the path from compassion to fully enlightened courage
URL:https://rigpa.org.au/event/the-wisdom-of-compassion-bodhichitta-and-tonglen/2025-09-02/
LOCATION:Online via Zoom\, Australia
CATEGORIES:Established Students,For Everyone,Online,Sydney - Established,Sydney - Everyone
ATTACH;FMTTYPE=image/png:https://rigpa.org.au/wp-content/uploads/2024/11/The-Wisdom-of-Compassion.png
ORGANIZER;CN="Rigpa Sydney":MAILTO:sydney@rigpa.org.au
END:VEVENT
BEGIN:VEVENT
DTSTART;TZID=Australia/Melbourne:20250906T150000
DTEND;TZID=Australia/Melbourne:20250906T170000
DTSTAMP:20260426T142352
CREATED:20241030T090317Z
LAST-MODIFIED:20250725T034026Z
UID:10006488-1757170800-1757178000@rigpa.org.au
SUMMARY:Peace & Joy Every Day
DESCRIPTION:The timeless wisdom of the Tibetan Buddhist tradition offer many practical methods to help us heal and thrive as we face the everyday challenges of anxiety\, depression\, anger\, physical pain\, loneliness and burnout. \nSpend time with your best self on a journey from sadness and anger to peace and joy. The timeless wisdom and meditative insights of the Tibetan Buddhist tradition offer many practical methods to help us heal and thrive as we face the everyday challenges of anxiety\, depression\, anger\, physical pain\, loneliness\, and burnout. \nThis standalone Saturday afternoon sessions on ‘Finding Courage in a World Full of Fear’ offers an introduction to meditation and practical advice from some of the foremost Tibetan Buddhist teachers of our age. Applying these teachings can help us meet the challenges of these difficult times\, heal ourselves\, and bring us to the core of our own peace\, compassion and wisdom.  \nTopics we’ll be covering: \n2 August Overcoming fear and anxiety\n6 September Transforming Loneliness\n4 October Healing low self esteem\n1 November Basic Sanity\n6 December Break free of self obsession \nThe session includes: \n\nVideo teachings from Tibetan and Western Buddhist masters including Sogyal Rinpoche\, Jetsün Khandro Rinpoche\, Ringu Tulku Rinpoche\, Mingyur Rinpoche\, Pema Chödrön and Sharon Salzberg.\nMeditation practice\nTime for contemplation\nGroup discussions and Q&A\, offering you the opportunity to explore the teachings and practices in an open supportive environment and to connect with a community of practitioners.\n\nSydney and Online   \nFirst Saturday of each month. \nOnline via Zoom or at Rigpa Sydney 158 Australia St\, Newtown\n$20\, concession $10\, free for Rigpa subscribers \nCheck out the For Everyone section of our home page to reserve your place in the latest session.
URL:https://rigpa.org.au/event/peace-joy-every-day/2025-09-06/
LOCATION:Rigpa Sydney\, 158 Australia St\, Newtown\, Sydney\, NSW\, 2042\, Australia
CATEGORIES:2026 - Starting Your Journey,Sydney - Everyone
ORGANIZER;CN="Rigpa Sydney":MAILTO:sydney@rigpa.org.au
END:VEVENT
BEGIN:VEVENT
DTSTART;TZID=Australia/Melbourne:20250906T150000
DTEND;TZID=Australia/Melbourne:20250906T170000
DTSTAMP:20260426T142352
CREATED:20250715T063850Z
LAST-MODIFIED:20250715T063850Z
UID:10006469-1757170800-1757178000@rigpa.org.au
SUMMARY:Transforming Loneliness
DESCRIPTION:  \nOften\, we go looking for happiness\, comfort and company outside of ourselves. \nUltimately\, however\, deeper lasting contentment lies within ourselves. Through working with our own mind and heart\, emotions like loneliness can be transformed and transcended so that we can feel comfortable in our own skin whether we are in a crowd or completely alone. \n🗓️ Saturday 6 September \n⏰ 3-5pm AEST (6.00am London\, 5:00am CET\, 1:00 am US East\, 10:00pm Friday US West) \n📍Online & Sydney
URL:https://rigpa.org.au/event/transforming-loneliness/
LOCATION:Rigpa Sydney\, 158 Australia St\, Newtown\, Sydney\, NSW\, 2042\, Australia
CATEGORIES:For Everyone,Newcastle,Newcastle - All welcome,Sydney - Everyone
ORGANIZER;CN="Rigpa Sydney":MAILTO:sydney@rigpa.org.au
END:VEVENT
BEGIN:VEVENT
DTSTART;TZID=Australia/Melbourne:20250909T190000
DTEND;TZID=Australia/Melbourne:20250909T210000
DTSTAMP:20260426T142352
CREATED:20250711T050534Z
LAST-MODIFIED:20250711T050534Z
UID:10006379-1757444400-1757451600@rigpa.org.au
SUMMARY:The Wisdom of Compassion - Bodhichitta and Tonglen
DESCRIPTION:The Buddhist practice of ‘equalizing self and others’ as expressed in giving with great love and taking with great compassion\, known as Tonglen\, is one of the most useful and powerful of all Buddhist practices. Tonglen is a simple and straightforward practice\, which is extremely effective at getting to the heart of our predicament: our excessively self-centred attitude. Tonglen opens you to the truth of the suffering of others; it reveals the loving\, expansive radiance of your own nature. And it offers extraordinary power in destroying the self-cherishing and self-absorption which is the root of all our hard-heartedness and all our suffering. \nThe Wisdom of Compassion presents key Buddhist teachings on the powerful logic of compassion and practical methods for developing a more kind relationship with ourselves\, those around us and ultimately all beings. \nOur innate capacity for empathy is the source of the very best of human qualities: love\, kindness\, generosity\, warm-heartedness\, courage … compassion. Although we are born with a vast capacity to love\, we may not know how to do so unconditionally\, or how to express that love in practice. \nWhen our heart and mind are filled with love\, we find the greatest inner healing\, tranquillity and well-being. Modern research shows that with empathy and compassion we can be more fully ourselves\, connect more easily with others\, improve self worth and reduce self-criticism\, and lead healthier lives. \nParticipants in this course will learn how to: \n\ndevelop loving kindness for themselves\nextend that loving kindness to all beings\nmove along the path from compassion to fully enlightened courage
URL:https://rigpa.org.au/event/the-wisdom-of-compassion-bodhichitta-and-tonglen/2025-09-09/
LOCATION:Online via Zoom\, Australia
CATEGORIES:Established Students,For Everyone,Online,Sydney - Established,Sydney - Everyone
ATTACH;FMTTYPE=image/png:https://rigpa.org.au/wp-content/uploads/2024/11/The-Wisdom-of-Compassion.png
ORGANIZER;CN="Rigpa Sydney":MAILTO:sydney@rigpa.org.au
END:VEVENT
BEGIN:VEVENT
DTSTART;TZID=Australia/Melbourne:20250915T190000
DTEND;TZID=Australia/Melbourne:20250915T210000
DTSTAMP:20260426T142352
CREATED:20250720T031828Z
LAST-MODIFIED:20250721T051742Z
UID:10006473-1757962800-1757970000@rigpa.org.au
SUMMARY:Practical Wisdom: Wisdom & Compassion in Action
DESCRIPTION:How can we apply the wisdom and compassion of the Buddha’s teachings to our daily lives? How can we translate the presence and awareness which we cultivate on the meditation cushion into action? How can we use our everyday activities to strengthen and deepen our view and understanding of reality? \nIn this day and age\, many of us find ourselves feeling busier and more stressed and it seems more difficult to find time for meditation practice. If we really wish to progress on the spiritual path\, we need to bridge the separation between our study and practice and our everyday life. Based on the wisdom of the Buddhadharma\, Sogyal Rinpoche’s Practical Wisdom teachings provide us with a rich array of advice and skilful tools to help us in our task of integrating the dharma into our lives in order to bring benefit to others. \nThe Practical Wisdom teachings show us how to dissolve the separation between our practice and our everyday life; how to use every opportunity of our day to progress on the spiritual path; and how to accomplish our everyday tasks more effortlessly and efficiently by applying the principles of the Buddhist teachings to our actions. These teachings are practical\, relevant\, and even life changing. \nParticipants of the course will need basic understanding of the principles of Mahayana Buddhism\, as well as some familiarity with meditation and compassion practices. It is recommended for student who have completed a course or retreat with Rigpa. \nLed by Western meditation instructors with many years of experience\, each session consists of: \n\nVideo teachings from Sogyal Rinpoche.\nMeditation practice\nTime for contemplation\nGroup discussions and Q&A\, offering each student the opportunity to explore the teachings and practices in an open supportive environment and to connect with a community of practitioners.\n\nThis is a FREE event\, however a donation would be gratefully received.
URL:https://rigpa.org.au/event/practical-wisdom-wisdom-compassion-in-action/2025-09-15/
LOCATION:Online via Zoom\, Australia
CATEGORIES:Adelaide Everyone,Brisbane Everyone,For Everyone,Melbourne - Everyone,Newcastle - All welcome,Online,Sydney - Everyone
ATTACH;FMTTYPE=image/png:https://rigpa.org.au/wp-content/uploads/2025/07/Practical-Wisdom.png
END:VEVENT
BEGIN:VEVENT
DTSTART;TZID=Australia/Melbourne:20250922T190000
DTEND;TZID=Australia/Melbourne:20250922T210000
DTSTAMP:20260426T142352
CREATED:20250720T031828Z
LAST-MODIFIED:20250721T051742Z
UID:10006474-1758567600-1758574800@rigpa.org.au
SUMMARY:Practical Wisdom: Wisdom & Compassion in Action
DESCRIPTION:How can we apply the wisdom and compassion of the Buddha’s teachings to our daily lives? How can we translate the presence and awareness which we cultivate on the meditation cushion into action? How can we use our everyday activities to strengthen and deepen our view and understanding of reality? \nIn this day and age\, many of us find ourselves feeling busier and more stressed and it seems more difficult to find time for meditation practice. If we really wish to progress on the spiritual path\, we need to bridge the separation between our study and practice and our everyday life. Based on the wisdom of the Buddhadharma\, Sogyal Rinpoche’s Practical Wisdom teachings provide us with a rich array of advice and skilful tools to help us in our task of integrating the dharma into our lives in order to bring benefit to others. \nThe Practical Wisdom teachings show us how to dissolve the separation between our practice and our everyday life; how to use every opportunity of our day to progress on the spiritual path; and how to accomplish our everyday tasks more effortlessly and efficiently by applying the principles of the Buddhist teachings to our actions. These teachings are practical\, relevant\, and even life changing. \nParticipants of the course will need basic understanding of the principles of Mahayana Buddhism\, as well as some familiarity with meditation and compassion practices. It is recommended for student who have completed a course or retreat with Rigpa. \nLed by Western meditation instructors with many years of experience\, each session consists of: \n\nVideo teachings from Sogyal Rinpoche.\nMeditation practice\nTime for contemplation\nGroup discussions and Q&A\, offering each student the opportunity to explore the teachings and practices in an open supportive environment and to connect with a community of practitioners.\n\nThis is a FREE event\, however a donation would be gratefully received.
URL:https://rigpa.org.au/event/practical-wisdom-wisdom-compassion-in-action/2025-09-22/
LOCATION:Online via Zoom\, Australia
CATEGORIES:Adelaide Everyone,Brisbane Everyone,For Everyone,Melbourne - Everyone,Newcastle - All welcome,Online,Sydney - Everyone
ATTACH;FMTTYPE=image/png:https://rigpa.org.au/wp-content/uploads/2025/07/Practical-Wisdom.png
END:VEVENT
BEGIN:VEVENT
DTSTART;TZID=Australia/Melbourne:20250923T190000
DTEND;TZID=Australia/Melbourne:20251209T210000
DTSTAMP:20260426T142352
CREATED:20250915T030102Z
LAST-MODIFIED:20250915T030103Z
UID:10004724-1758654000-1765314000@rigpa.org.au
SUMMARY:The Wisdom of Compassion - Module 4 | Sydney & Online
DESCRIPTION:Module 4  – 12 week course starting 23 September – The Six Paramitas  – attend online or in Sydney. \nPresenting key Buddhist teachings on the powerful logic of compassion and practical methods for developing a more kind relationship with ourselves\, those around us and ultimately all beings. \nOur innate capacity for empathy is the source of the very best of human qualities: love\, kindness\, generosity\, warm-heartedness\, courage … compassion. Although we are born with a vast capacity to love\, we may not know how to do so unconditionally\, or how to express that love in practice. \nWhen our heart and mind are filled with love\, we find the greatest inner healing\, tranquillity and well-being. Modern research shows that with empathy and compassion we can be more fully ourselves\, connect more easily with others\, improve self worth and reduce self-criticism\, and lead healthier lives.
URL:https://rigpa.org.au/event/the-wisdom-of-compassion-sydney-online-2-2-2-2/
LOCATION:Rigpa Sydney\, 158 Australia St\, Newtown\, Sydney\, NSW\, 2042\, Australia
CATEGORIES:For Everyone,Sydney - Everyone
ATTACH;FMTTYPE=image/png:https://rigpa.org.au/wp-content/uploads/2024/11/The-Wisdom-of-Compassion.png
ORGANIZER;CN="Rigpa Sydney":MAILTO:sydney@rigpa.org.au
END:VEVENT
BEGIN:VEVENT
DTSTART;TZID=Australia/Melbourne:20250923T190000
DTEND;TZID=Australia/Melbourne:20251223T210000
DTSTAMP:20260426T142352
CREATED:20250915T024625Z
LAST-MODIFIED:20250915T065000Z
UID:10006563-1758654000-1766523600@rigpa.org.au
SUMMARY:The Wisdom of Compassion - The Six Paramitas
DESCRIPTION:Much as we may wish to be kind\, caring and loving\, often this may be difficult for us in practice. As we move from wishing to be more compassionate to grappling with how we put this into action\, the Buddhist teachings include six tools in a how-to guide: \n1. Generosity: cultivating the attitude of generosity. \n2. Discipline: refraining from harm. \n3. Patience: not being perturbed by anything. \n4. Diligence: finding joy in what is virtuous\, positive or wholesome. \n5. Meditative concentration: not being distracted. \n6. Wisdom: the perfect discrimination of all knowable things. \nThese are known as the Six Paramitas\, or transcendent perfections and contain all the vital skills needed for us to transform our mind and open our heart. \nThis twelve-week course addresses each of the Six Paramitas in turn\, offering a wealth of practical advice to help us put our best biggest heart into action everyday. \n 
URL:https://rigpa.org.au/event/the-wisdom-of-compassion-the-six-paramitas/
LOCATION:Online via Zoom\, Australia
CATEGORIES:Established Students,For Everyone,Online,Sydney - Established,Sydney - Everyone
ATTACH;FMTTYPE=image/png:https://rigpa.org.au/wp-content/uploads/2024/11/The-Wisdom-of-Compassion.png
ORGANIZER;CN="Rigpa Sydney":MAILTO:sydney@rigpa.org.au
END:VEVENT
BEGIN:VEVENT
DTSTART;TZID=Australia/Melbourne:20250929T190000
DTEND;TZID=Australia/Melbourne:20250929T210000
DTSTAMP:20260426T142352
CREATED:20250720T031828Z
LAST-MODIFIED:20250721T051742Z
UID:10006475-1759172400-1759179600@rigpa.org.au
SUMMARY:Practical Wisdom: Wisdom & Compassion in Action
DESCRIPTION:How can we apply the wisdom and compassion of the Buddha’s teachings to our daily lives? How can we translate the presence and awareness which we cultivate on the meditation cushion into action? How can we use our everyday activities to strengthen and deepen our view and understanding of reality? \nIn this day and age\, many of us find ourselves feeling busier and more stressed and it seems more difficult to find time for meditation practice. If we really wish to progress on the spiritual path\, we need to bridge the separation between our study and practice and our everyday life. Based on the wisdom of the Buddhadharma\, Sogyal Rinpoche’s Practical Wisdom teachings provide us with a rich array of advice and skilful tools to help us in our task of integrating the dharma into our lives in order to bring benefit to others. \nThe Practical Wisdom teachings show us how to dissolve the separation between our practice and our everyday life; how to use every opportunity of our day to progress on the spiritual path; and how to accomplish our everyday tasks more effortlessly and efficiently by applying the principles of the Buddhist teachings to our actions. These teachings are practical\, relevant\, and even life changing. \nParticipants of the course will need basic understanding of the principles of Mahayana Buddhism\, as well as some familiarity with meditation and compassion practices. It is recommended for student who have completed a course or retreat with Rigpa. \nLed by Western meditation instructors with many years of experience\, each session consists of: \n\nVideo teachings from Sogyal Rinpoche.\nMeditation practice\nTime for contemplation\nGroup discussions and Q&A\, offering each student the opportunity to explore the teachings and practices in an open supportive environment and to connect with a community of practitioners.\n\nThis is a FREE event\, however a donation would be gratefully received.
URL:https://rigpa.org.au/event/practical-wisdom-wisdom-compassion-in-action/2025-09-29/
LOCATION:Online via Zoom\, Australia
CATEGORIES:Adelaide Everyone,Brisbane Everyone,For Everyone,Melbourne - Everyone,Newcastle - All welcome,Online,Sydney - Everyone
ATTACH;FMTTYPE=image/png:https://rigpa.org.au/wp-content/uploads/2025/07/Practical-Wisdom.png
END:VEVENT
END:VCALENDAR