BEGIN:VCALENDAR
VERSION:2.0
PRODID:-//Rigpa Australia - ECPv6.15.20//NONSGML v1.0//EN
CALSCALE:GREGORIAN
METHOD:PUBLISH
X-WR-CALNAME:Rigpa Australia
X-ORIGINAL-URL:https://rigpa.org.au
X-WR-CALDESC:Events for Rigpa Australia
REFRESH-INTERVAL;VALUE=DURATION:PT1H
X-Robots-Tag:noindex
X-PUBLISHED-TTL:PT1H
BEGIN:VTIMEZONE
TZID:Australia/Melbourne
BEGIN:STANDARD
TZOFFSETFROM:+1100
TZOFFSETTO:+1000
TZNAME:AEST
DTSTART:20240406T160000
END:STANDARD
BEGIN:DAYLIGHT
TZOFFSETFROM:+1000
TZOFFSETTO:+1100
TZNAME:AEDT
DTSTART:20241005T160000
END:DAYLIGHT
BEGIN:STANDARD
TZOFFSETFROM:+1100
TZOFFSETTO:+1000
TZNAME:AEST
DTSTART:20250405T160000
END:STANDARD
BEGIN:DAYLIGHT
TZOFFSETFROM:+1000
TZOFFSETTO:+1100
TZNAME:AEDT
DTSTART:20251004T160000
END:DAYLIGHT
BEGIN:STANDARD
TZOFFSETFROM:+1100
TZOFFSETTO:+1000
TZNAME:AEST
DTSTART:20260404T160000
END:STANDARD
BEGIN:DAYLIGHT
TZOFFSETFROM:+1000
TZOFFSETTO:+1100
TZNAME:AEDT
DTSTART:20261003T160000
END:DAYLIGHT
END:VTIMEZONE
BEGIN:VEVENT
DTSTART;TZID=Australia/Melbourne:20250923T190000
DTEND;TZID=Australia/Melbourne:20251223T210000
DTSTAMP:20260424T081042
CREATED:20250915T024625Z
LAST-MODIFIED:20250915T065000Z
UID:10006563-1758654000-1766523600@rigpa.org.au
SUMMARY:The Wisdom of Compassion - The Six Paramitas
DESCRIPTION:Much as we may wish to be kind\, caring and loving\, often this may be difficult for us in practice. As we move from wishing to be more compassionate to grappling with how we put this into action\, the Buddhist teachings include six tools in a how-to guide: \n1. Generosity: cultivating the attitude of generosity. \n2. Discipline: refraining from harm. \n3. Patience: not being perturbed by anything. \n4. Diligence: finding joy in what is virtuous\, positive or wholesome. \n5. Meditative concentration: not being distracted. \n6. Wisdom: the perfect discrimination of all knowable things. \nThese are known as the Six Paramitas\, or transcendent perfections and contain all the vital skills needed for us to transform our mind and open our heart. \nThis twelve-week course addresses each of the Six Paramitas in turn\, offering a wealth of practical advice to help us put our best biggest heart into action everyday. \n 
URL:https://rigpa.org.au/event/the-wisdom-of-compassion-the-six-paramitas/
LOCATION:Online via Zoom\, Australia
CATEGORIES:Established Students,For Everyone,Online,Sydney - Established,Sydney - Everyone
ATTACH;FMTTYPE=image/png:https://rigpa.org.au/wp-content/uploads/2024/11/The-Wisdom-of-Compassion.png
ORGANIZER;CN="Rigpa Sydney":MAILTO:sydney@rigpa.org.au
END:VEVENT
END:VCALENDAR