BEGIN:VCALENDAR
VERSION:2.0
PRODID:-//Rigpa Australia - ECPv6.15.20//NONSGML v1.0//EN
CALSCALE:GREGORIAN
METHOD:PUBLISH
X-ORIGINAL-URL:https://rigpa.org.au
X-WR-CALDESC:Events for Rigpa Australia
REFRESH-INTERVAL;VALUE=DURATION:PT1H
X-Robots-Tag:noindex
X-PUBLISHED-TTL:PT1H
BEGIN:VTIMEZONE
TZID:Australia/Melbourne
BEGIN:STANDARD
TZOFFSETFROM:+1100
TZOFFSETTO:+1000
TZNAME:AEST
DTSTART:20240406T160000
END:STANDARD
BEGIN:DAYLIGHT
TZOFFSETFROM:+1000
TZOFFSETTO:+1100
TZNAME:AEDT
DTSTART:20241005T160000
END:DAYLIGHT
BEGIN:STANDARD
TZOFFSETFROM:+1100
TZOFFSETTO:+1000
TZNAME:AEST
DTSTART:20250405T160000
END:STANDARD
BEGIN:DAYLIGHT
TZOFFSETFROM:+1000
TZOFFSETTO:+1100
TZNAME:AEDT
DTSTART:20251004T160000
END:DAYLIGHT
BEGIN:STANDARD
TZOFFSETFROM:+1100
TZOFFSETTO:+1000
TZNAME:AEST
DTSTART:20260404T160000
END:STANDARD
BEGIN:DAYLIGHT
TZOFFSETFROM:+1000
TZOFFSETTO:+1100
TZNAME:AEDT
DTSTART:20261003T160000
END:DAYLIGHT
END:VTIMEZONE
BEGIN:VEVENT
DTSTART;TZID=Australia/Melbourne:20250722T190000
DTEND;TZID=Australia/Melbourne:20250909T210000
DTSTAMP:20260424T142233
CREATED:20250701T011357Z
LAST-MODIFIED:20250701T042610Z
UID:10006362-1753210800-1757451600@rigpa.org.au
SUMMARY:The Wisdom of Compassion - Bodhichitta and Tonglen | Online
DESCRIPTION:Bodhichitta and Tonglen – 8 week course 22 July to 9 September 2025  attend online. \nStudents who have attended a Rigpa course previously and are familiar with meditation\, Loving Kindness practices and The Four Immeasureables are invited to join this class. \nThe Buddhist practice of ‘equalizing self and others’ (Tonglen) as expressed in giving with great love and taking with great compassion\, known as Tonglen\, is one of the most useful and powerful of all Buddhist practices. Tonglen is a simple and straightforward practice\, which is extremely effective at getting to the heart of our predicament: our excessively self-centred attitude. Tonglen opens you to the truth of the suffering of others; it reveals the loving\, expansive radiance of your own nature. And it offers extraordinary power in destroying the self-cherishing and self-absorption which is the root of all our heard-heartedness and all our suffering. \nNote: This class will be held online only due to building work at our center in Newtown. \n 
URL:https://rigpa.org.au/event/the-wisdom-of-compassion-bodhichitta-and-tonglen-sydney-online/
LOCATION:Online via Zoom\, Australia
CATEGORIES:2026 - The Next Step - Compassion,Established Students,Online,Sydney - Established
ATTACH;FMTTYPE=image/png:https://rigpa.org.au/wp-content/uploads/2024/11/The-Wisdom-of-Compassion.png
ORGANIZER;CN="Rigpa Sydney":MAILTO:sydney@rigpa.org.au
END:VEVENT
BEGIN:VEVENT
DTSTART;TZID=Australia/Melbourne:20250805T190000
DTEND;TZID=Australia/Melbourne:20250805T210000
DTSTAMP:20260424T142233
CREATED:20250711T050534Z
LAST-MODIFIED:20250711T050534Z
UID:10006374-1754420400-1754427600@rigpa.org.au
SUMMARY:The Wisdom of Compassion - Bodhichitta and Tonglen
DESCRIPTION:The Buddhist practice of ‘equalizing self and others’ as expressed in giving with great love and taking with great compassion\, known as Tonglen\, is one of the most useful and powerful of all Buddhist practices. Tonglen is a simple and straightforward practice\, which is extremely effective at getting to the heart of our predicament: our excessively self-centred attitude. Tonglen opens you to the truth of the suffering of others; it reveals the loving\, expansive radiance of your own nature. And it offers extraordinary power in destroying the self-cherishing and self-absorption which is the root of all our hard-heartedness and all our suffering. \nThe Wisdom of Compassion presents key Buddhist teachings on the powerful logic of compassion and practical methods for developing a more kind relationship with ourselves\, those around us and ultimately all beings. \nOur innate capacity for empathy is the source of the very best of human qualities: love\, kindness\, generosity\, warm-heartedness\, courage … compassion. Although we are born with a vast capacity to love\, we may not know how to do so unconditionally\, or how to express that love in practice. \nWhen our heart and mind are filled with love\, we find the greatest inner healing\, tranquillity and well-being. Modern research shows that with empathy and compassion we can be more fully ourselves\, connect more easily with others\, improve self worth and reduce self-criticism\, and lead healthier lives. \nParticipants in this course will learn how to: \n\ndevelop loving kindness for themselves\nextend that loving kindness to all beings\nmove along the path from compassion to fully enlightened courage
URL:https://rigpa.org.au/event/the-wisdom-of-compassion-bodhichitta-and-tonglen/2025-08-05/
LOCATION:Online via Zoom\, Australia
CATEGORIES:Established Students,For Everyone,Online,Sydney - Established,Sydney - Everyone
ATTACH;FMTTYPE=image/png:https://rigpa.org.au/wp-content/uploads/2024/11/The-Wisdom-of-Compassion.png
ORGANIZER;CN="Rigpa Sydney":MAILTO:sydney@rigpa.org.au
END:VEVENT
BEGIN:VEVENT
DTSTART;TZID=Australia/Melbourne:20250812T190000
DTEND;TZID=Australia/Melbourne:20250812T210000
DTSTAMP:20260424T142233
CREATED:20250711T050534Z
LAST-MODIFIED:20250711T050534Z
UID:10006375-1755025200-1755032400@rigpa.org.au
SUMMARY:The Wisdom of Compassion - Bodhichitta and Tonglen
DESCRIPTION:The Buddhist practice of ‘equalizing self and others’ as expressed in giving with great love and taking with great compassion\, known as Tonglen\, is one of the most useful and powerful of all Buddhist practices. Tonglen is a simple and straightforward practice\, which is extremely effective at getting to the heart of our predicament: our excessively self-centred attitude. Tonglen opens you to the truth of the suffering of others; it reveals the loving\, expansive radiance of your own nature. And it offers extraordinary power in destroying the self-cherishing and self-absorption which is the root of all our hard-heartedness and all our suffering. \nThe Wisdom of Compassion presents key Buddhist teachings on the powerful logic of compassion and practical methods for developing a more kind relationship with ourselves\, those around us and ultimately all beings. \nOur innate capacity for empathy is the source of the very best of human qualities: love\, kindness\, generosity\, warm-heartedness\, courage … compassion. Although we are born with a vast capacity to love\, we may not know how to do so unconditionally\, or how to express that love in practice. \nWhen our heart and mind are filled with love\, we find the greatest inner healing\, tranquillity and well-being. Modern research shows that with empathy and compassion we can be more fully ourselves\, connect more easily with others\, improve self worth and reduce self-criticism\, and lead healthier lives. \nParticipants in this course will learn how to: \n\ndevelop loving kindness for themselves\nextend that loving kindness to all beings\nmove along the path from compassion to fully enlightened courage
URL:https://rigpa.org.au/event/the-wisdom-of-compassion-bodhichitta-and-tonglen/2025-08-12/
LOCATION:Online via Zoom\, Australia
CATEGORIES:Established Students,For Everyone,Online,Sydney - Established,Sydney - Everyone
ATTACH;FMTTYPE=image/png:https://rigpa.org.au/wp-content/uploads/2024/11/The-Wisdom-of-Compassion.png
ORGANIZER;CN="Rigpa Sydney":MAILTO:sydney@rigpa.org.au
END:VEVENT
BEGIN:VEVENT
DTSTART;TZID=Australia/Melbourne:20250819T190000
DTEND;TZID=Australia/Melbourne:20250819T210000
DTSTAMP:20260424T142233
CREATED:20250711T050534Z
LAST-MODIFIED:20250711T050534Z
UID:10006376-1755630000-1755637200@rigpa.org.au
SUMMARY:The Wisdom of Compassion - Bodhichitta and Tonglen
DESCRIPTION:The Buddhist practice of ‘equalizing self and others’ as expressed in giving with great love and taking with great compassion\, known as Tonglen\, is one of the most useful and powerful of all Buddhist practices. Tonglen is a simple and straightforward practice\, which is extremely effective at getting to the heart of our predicament: our excessively self-centred attitude. Tonglen opens you to the truth of the suffering of others; it reveals the loving\, expansive radiance of your own nature. And it offers extraordinary power in destroying the self-cherishing and self-absorption which is the root of all our hard-heartedness and all our suffering. \nThe Wisdom of Compassion presents key Buddhist teachings on the powerful logic of compassion and practical methods for developing a more kind relationship with ourselves\, those around us and ultimately all beings. \nOur innate capacity for empathy is the source of the very best of human qualities: love\, kindness\, generosity\, warm-heartedness\, courage … compassion. Although we are born with a vast capacity to love\, we may not know how to do so unconditionally\, or how to express that love in practice. \nWhen our heart and mind are filled with love\, we find the greatest inner healing\, tranquillity and well-being. Modern research shows that with empathy and compassion we can be more fully ourselves\, connect more easily with others\, improve self worth and reduce self-criticism\, and lead healthier lives. \nParticipants in this course will learn how to: \n\ndevelop loving kindness for themselves\nextend that loving kindness to all beings\nmove along the path from compassion to fully enlightened courage
URL:https://rigpa.org.au/event/the-wisdom-of-compassion-bodhichitta-and-tonglen/2025-08-19/
LOCATION:Online via Zoom\, Australia
CATEGORIES:Established Students,For Everyone,Online,Sydney - Established,Sydney - Everyone
ATTACH;FMTTYPE=image/png:https://rigpa.org.au/wp-content/uploads/2024/11/The-Wisdom-of-Compassion.png
ORGANIZER;CN="Rigpa Sydney":MAILTO:sydney@rigpa.org.au
END:VEVENT
BEGIN:VEVENT
DTSTART;TZID=Australia/Melbourne:20250826T190000
DTEND;TZID=Australia/Melbourne:20250826T210000
DTSTAMP:20260424T142233
CREATED:20250711T050534Z
LAST-MODIFIED:20250711T050534Z
UID:10006377-1756234800-1756242000@rigpa.org.au
SUMMARY:The Wisdom of Compassion - Bodhichitta and Tonglen
DESCRIPTION:The Buddhist practice of ‘equalizing self and others’ as expressed in giving with great love and taking with great compassion\, known as Tonglen\, is one of the most useful and powerful of all Buddhist practices. Tonglen is a simple and straightforward practice\, which is extremely effective at getting to the heart of our predicament: our excessively self-centred attitude. Tonglen opens you to the truth of the suffering of others; it reveals the loving\, expansive radiance of your own nature. And it offers extraordinary power in destroying the self-cherishing and self-absorption which is the root of all our hard-heartedness and all our suffering. \nThe Wisdom of Compassion presents key Buddhist teachings on the powerful logic of compassion and practical methods for developing a more kind relationship with ourselves\, those around us and ultimately all beings. \nOur innate capacity for empathy is the source of the very best of human qualities: love\, kindness\, generosity\, warm-heartedness\, courage … compassion. Although we are born with a vast capacity to love\, we may not know how to do so unconditionally\, or how to express that love in practice. \nWhen our heart and mind are filled with love\, we find the greatest inner healing\, tranquillity and well-being. Modern research shows that with empathy and compassion we can be more fully ourselves\, connect more easily with others\, improve self worth and reduce self-criticism\, and lead healthier lives. \nParticipants in this course will learn how to: \n\ndevelop loving kindness for themselves\nextend that loving kindness to all beings\nmove along the path from compassion to fully enlightened courage
URL:https://rigpa.org.au/event/the-wisdom-of-compassion-bodhichitta-and-tonglen/2025-08-26/
LOCATION:Online via Zoom\, Australia
CATEGORIES:Established Students,For Everyone,Online,Sydney - Established,Sydney - Everyone
ATTACH;FMTTYPE=image/png:https://rigpa.org.au/wp-content/uploads/2024/11/The-Wisdom-of-Compassion.png
ORGANIZER;CN="Rigpa Sydney":MAILTO:sydney@rigpa.org.au
END:VEVENT
END:VCALENDAR