BEGIN:VCALENDAR
VERSION:2.0
PRODID:-//Rigpa Australia - ECPv6.15.20//NONSGML v1.0//EN
CALSCALE:GREGORIAN
METHOD:PUBLISH
X-WR-CALNAME:Rigpa Australia
X-ORIGINAL-URL:https://rigpa.org.au
X-WR-CALDESC:Events for Rigpa Australia
REFRESH-INTERVAL;VALUE=DURATION:PT1H
X-Robots-Tag:noindex
X-PUBLISHED-TTL:PT1H
BEGIN:VTIMEZONE
TZID:Australia/Melbourne
BEGIN:STANDARD
TZOFFSETFROM:+1100
TZOFFSETTO:+1000
TZNAME:AEST
DTSTART:20240406T160000
END:STANDARD
BEGIN:DAYLIGHT
TZOFFSETFROM:+1000
TZOFFSETTO:+1100
TZNAME:AEDT
DTSTART:20241005T160000
END:DAYLIGHT
BEGIN:STANDARD
TZOFFSETFROM:+1100
TZOFFSETTO:+1000
TZNAME:AEST
DTSTART:20250405T160000
END:STANDARD
BEGIN:DAYLIGHT
TZOFFSETFROM:+1000
TZOFFSETTO:+1100
TZNAME:AEDT
DTSTART:20251004T160000
END:DAYLIGHT
BEGIN:STANDARD
TZOFFSETFROM:+1100
TZOFFSETTO:+1000
TZNAME:AEST
DTSTART:20260404T160000
END:STANDARD
BEGIN:DAYLIGHT
TZOFFSETFROM:+1000
TZOFFSETTO:+1100
TZNAME:AEDT
DTSTART:20261003T160000
END:DAYLIGHT
END:VTIMEZONE
BEGIN:VEVENT
DTSTART;TZID=Australia/Melbourne:20250517T103000
DTEND;TZID=Australia/Melbourne:20250517T123000
DTSTAMP:20260424T190634
CREATED:20241118T042148Z
LAST-MODIFIED:20250205T072347Z
UID:10004865-1747477800-1747485000@rigpa.org.au
SUMMARY:Cultivating Compassion
DESCRIPTION:In a world full of turmoil\, stress\, anxiety and disconnect\, we are all looking for simple\, practical ways in which we can nurture our own inner goodness and find the peace and courage to live well. \nGeshe Chekawa’s summation of the Tibetan Buddhist guidelines for living a compassionate life\, known as the Seven Points of Mind Training\, have guided practitioners for more than a thousand years. His pithy slogans open the way for each of us to nurture our own compassionate nature and put compassion into action in everyday life. These slogans offer a vital practical antidote to despair and despondency. \nCultivating Compassion presents teachings on the Seven Points given by Jetsün Khandro Rinpoche accompanied by reflections from Traleg Rinpoche and Ringu Tulku Rinpoche. \nJetsün Khandro Rinpoche is one of the outstanding meditation teachers of our time. She is known for her penetrating wisdom and humour\, conveying the Buddhist teachings in a concise and lively manner\, enriched with personal anecdotes\, which are of particular relevance to the everyday life of the modern\, fast-paced world. \nFrom the early 1980s onwards\, Traleg Kyabgon Rinpoche was a pioneer in bringing Tibetan Buddhism to Australia and was a strong advocate of non-sectarianism. He taught extensively on many aspects of Buddhist psychology and philosophy\, comparative religion\, and Buddhist and Western thought. \nRingu Tulku Rinpoche has trained in all schools of Tibetan Buddhism under many great masters including His Holiness the 16th Gyalwa Karmapa and His Holiness Dilgo Khyentse Rinpoche. He is renowned for his ability to transmit complicated teachings with a remarkable warmth and simplicity. \nThis program is open to all\, but does assume some familiarity with meditation and the Buddhist understanding of interdependence. \n  \nSaturday mornings\, third Saturday of the month\n 10.30am – 12.30pm in Eastern Australia\nOnline via Zoom\n \n15 Feb\, 15 Mar\, 17 May\, 21 Jun\, 19 Jul\n(We’ll take a break in April)
URL:https://rigpa.org.au/event/cultivating-compassion-2/2025-05-17/
LOCATION:Online via Zoom\, Australia
CATEGORIES:For Everyone,Online,Sydney - Established
ATTACH;FMTTYPE=image/png:https://rigpa.org.au/wp-content/uploads/2024/11/Cultivating-Compassion.png
ORGANIZER;CN="Rigpa Sydney":MAILTO:sydney@rigpa.org.au
END:VEVENT
END:VCALENDAR