BEGIN:VCALENDAR
VERSION:2.0
PRODID:-//Rigpa Australia - ECPv6.15.20//NONSGML v1.0//EN
CALSCALE:GREGORIAN
METHOD:PUBLISH
X-ORIGINAL-URL:https://rigpa.org.au
X-WR-CALDESC:Events for Rigpa Australia
REFRESH-INTERVAL;VALUE=DURATION:PT1H
X-Robots-Tag:noindex
X-PUBLISHED-TTL:PT1H
BEGIN:VTIMEZONE
TZID:Australia/Melbourne
BEGIN:STANDARD
TZOFFSETFROM:+1100
TZOFFSETTO:+1000
TZNAME:AEST
DTSTART:20240406T160000
END:STANDARD
BEGIN:DAYLIGHT
TZOFFSETFROM:+1000
TZOFFSETTO:+1100
TZNAME:AEDT
DTSTART:20241005T160000
END:DAYLIGHT
BEGIN:STANDARD
TZOFFSETFROM:+1100
TZOFFSETTO:+1000
TZNAME:AEST
DTSTART:20250405T160000
END:STANDARD
BEGIN:DAYLIGHT
TZOFFSETFROM:+1000
TZOFFSETTO:+1100
TZNAME:AEDT
DTSTART:20251004T160000
END:DAYLIGHT
BEGIN:STANDARD
TZOFFSETFROM:+1100
TZOFFSETTO:+1000
TZNAME:AEST
DTSTART:20260404T160000
END:STANDARD
BEGIN:DAYLIGHT
TZOFFSETFROM:+1000
TZOFFSETTO:+1100
TZNAME:AEDT
DTSTART:20261003T160000
END:DAYLIGHT
END:VTIMEZONE
BEGIN:VEVENT
DTSTART;TZID=Australia/Melbourne:20250131T080000
DTEND;TZID=Australia/Melbourne:20250930T170000
DTSTAMP:20260424T045308
CREATED:20241030T091454Z
LAST-MODIFIED:20250224T033641Z
UID:10003586-1738310400-1759251600@rigpa.org.au
SUMMARY:A New Way of Seeing the World: Discovering Buddhist Wisdom
DESCRIPTION:A New Way of Seeing the World: Discovering Buddhist Wisdom\nWeekly ONLINE interactive course over 10 weeks with Dominique Side \nThis interactive course is an exploration of the key points of Buddhist thought. It examines these perspectives closely to see the similarities and differences between Buddhist views and contemporary ideas. We will be invited to revisit our own views and clarify for ourselves what our outlook on life actually is. This process leads to far greater confidence in the way we see things. \nThe course covers these topics:\nWeek 1          What is wisdom?\nWeek 2          Mindfulness: the support of wisdom\nWeek 3          How things appear and how things are\nWeek 4          The Four Noble Truths\nWeek 5          Who am I ? Body and mind\nWeek 6          The afflictions: how do they function and how can we eliminate them?\nWeek 7          Karma: what it is\, how it works\, can a Buddhist do without it?\nWeek 8          The Wheel of Life\nWeek 9          What does enlightenment mean?\nWeek 10        The journey: Stages on the Buddhist path \n  \nMay 15\, 2025 – July 17\, 2025 \nAvailable on Rigpa’s Online Courses platform from 15 May until 17 July 2025\,\nLive sessions every Thursday\, 19:00 – 20:30 Australian Eastern Standard Time (11:00 – 12:30 CET) \n  \nAbout Dominique Side \nDominique encountered Tibetan Buddhism in the mid-seventies in London—it rapidly became her life’s passion. Since then she has dedicated her life to communicating the extremely practical and at the same time deeply profound ideas of Tibetan Buddhism to people of all walks of life. \nDominique has studied with Sogyal Rinpoche and Dzongsar Khyentse Rinpoche in particular\, and has completed several strict practise retreats. She also obtained a PhD in Madhyamaka philosophy from Bristol University\, UK. She taught Buddhism in London schools for eight years and wrote several textbooks on the subject. Under the guidance of Dzongsar Khyentse she initiated the Milinda training programme for Dharma teachers in 2017. For five years Dominique served as vice-president of the European Buddhist Union; and she manages Windows into Buddhism\, a website with educational resources for those who teach Buddhism to children. \nEntrusted as a Senior Teacher in Rigpa\, she specialises in making Buddhist thought and philosophy accessible to all. \nRecently Dominique started writing in-depth articles from the Buddhist perspective for her blog The Softer Gaze\, that have the power to enrich the everyday and support a softer view of life\, one that is infused with the Buddha’s compassionate gaze. \nShe is author of Discovering Buddhism (2022) that presents the history and key ideas of all the main traditions of Buddhism in an accessible way for the general public and the education sector. She edited two books by the Dalai Lama\, The Four Noble Truths (Thorsons\, 1998) and Transforming the Mind (Thorsons\, 1999). \n  \nMore details: https://prajnaonline.org/course/a-new-way-of-seeing-the-world-discovering-buddhist-wisdom-2025
URL:https://rigpa.org.au/event/a-new-way-of-seeing-the-world/
LOCATION:NSW
CATEGORIES:2026 - The Next Step - View
ATTACH;FMTTYPE=image/jpeg:https://rigpa.org.au/wp-content/uploads/2024/10/5.-New-Way-of-Seeing-the-World-Prayer-flags-Mountain2.jpg
END:VEVENT
END:VCALENDAR