BEGIN:VCALENDAR
VERSION:2.0
PRODID:-//Rigpa Australia - ECPv6.15.20//NONSGML v1.0//EN
CALSCALE:GREGORIAN
METHOD:PUBLISH
X-ORIGINAL-URL:https://rigpa.org.au
X-WR-CALDESC:Events for Rigpa Australia
REFRESH-INTERVAL;VALUE=DURATION:PT1H
X-Robots-Tag:noindex
X-PUBLISHED-TTL:PT1H
BEGIN:VTIMEZONE
TZID:Australia/Melbourne
BEGIN:STANDARD
TZOFFSETFROM:+1100
TZOFFSETTO:+1000
TZNAME:AEST
DTSTART:20250405T160000
END:STANDARD
BEGIN:DAYLIGHT
TZOFFSETFROM:+1000
TZOFFSETTO:+1100
TZNAME:AEDT
DTSTART:20251004T160000
END:DAYLIGHT
BEGIN:STANDARD
TZOFFSETFROM:+1100
TZOFFSETTO:+1000
TZNAME:AEST
DTSTART:20260404T160000
END:STANDARD
BEGIN:DAYLIGHT
TZOFFSETFROM:+1000
TZOFFSETTO:+1100
TZNAME:AEDT
DTSTART:20261003T160000
END:DAYLIGHT
BEGIN:STANDARD
TZOFFSETFROM:+1100
TZOFFSETTO:+1000
TZNAME:AEST
DTSTART:20270403T160000
END:STANDARD
BEGIN:DAYLIGHT
TZOFFSETFROM:+1000
TZOFFSETTO:+1100
TZNAME:AEDT
DTSTART:20271002T160000
END:DAYLIGHT
END:VTIMEZONE
BEGIN:VEVENT
DTSTART;TZID=Australia/Melbourne:20260203T190000
DTEND;TZID=Australia/Melbourne:20261215T210000
DTSTAMP:20260424T074418
CREATED:20251209T060555Z
LAST-MODIFIED:20260420T000710Z
UID:10007321-1770145200-1797368400@rigpa.org.au
SUMMARY:This Life: The Buddha's guide to inner transformation
DESCRIPTION:The Buddhist spiritual path centres on our own mind’s vast potential for peace\, compassion and wisdom.  True lasting happiness does not depend on external factors but comes from looking inwards to better know our own mind and heart. This course presents key insights from the Buddha’s life and teachings to show how\, through meditation and shifting our focus inwards\, we can find true\, unending contentment. \nThis course presents key Buddhist frameworks that guide our path\, including: \n\nThe four noble truths (a clear-eyed view of our suffering\, its causes\, the potential for that suffering to be brought to an end\, and how to attain that cessation of suffering.\nThe three vehicles of Buddhism\, which progressively show how we can nurture our innate peace\, compassion and wisdom.\nThe four seals\, which encapsulate what is unique about the Buddha’s teachings and sets them apart from other religions and philosophies.\n\n Including teachings from foremost Tibetan masters of our time\, space for contemplation\, reflection and discussion\, and guided meditations\, this course will give you practical tools to help you work with your mind and take charge of your spiritual path. \n  \nSydney and Online   \n Tuesday evenings\, all year. Next topic – The Three Vehicles: Peace\, Compassion & Wisdom\, starting 28 April \n 6:30-8:30pm AEST (9:30am CET\, 3:30am US East) \nOnline via Zoom\, Rigpa Sydney 158 Australia St\, Newtown\n5 week block: full $100\, concession $50\, free for Rigpa subscribers \nBook Now \n  \nMelbourne   \n Monday evenings\, all year. Next module starts 27 April. \n 7:00pm-9:00pm AEST \nRigpa Melbourne\, 803 Nicholson St\, Carlton North\n9 week block: full $180\, concession $90\, free for Rigpa subscribers \nBook Now
URL:https://rigpa.org.au/event/this-life-the-buddhas-guide-to-inner-transformation-2/
LOCATION:NSW
CATEGORIES:2026 - The Next Step - View
ATTACH;FMTTYPE=image/png:https://rigpa.org.au/wp-content/uploads/2025/12/This-Life-draft-hero-image.png
END:VEVENT
END:VCALENDAR