BEGIN:VCALENDAR
VERSION:2.0
PRODID:-//Rigpa Australia - ECPv6.15.20//NONSGML v1.0//EN
CALSCALE:GREGORIAN
METHOD:PUBLISH
X-ORIGINAL-URL:https://rigpa.org.au
X-WR-CALDESC:Events for Rigpa Australia
REFRESH-INTERVAL;VALUE=DURATION:PT1H
X-Robots-Tag:noindex
X-PUBLISHED-TTL:PT1H
BEGIN:VTIMEZONE
TZID:Australia/Melbourne
BEGIN:STANDARD
TZOFFSETFROM:+1100
TZOFFSETTO:+1000
TZNAME:AEST
DTSTART:20240406T160000
END:STANDARD
BEGIN:DAYLIGHT
TZOFFSETFROM:+1000
TZOFFSETTO:+1100
TZNAME:AEDT
DTSTART:20241005T160000
END:DAYLIGHT
BEGIN:STANDARD
TZOFFSETFROM:+1100
TZOFFSETTO:+1000
TZNAME:AEST
DTSTART:20250405T160000
END:STANDARD
BEGIN:DAYLIGHT
TZOFFSETFROM:+1000
TZOFFSETTO:+1100
TZNAME:AEDT
DTSTART:20251004T160000
END:DAYLIGHT
BEGIN:STANDARD
TZOFFSETFROM:+1100
TZOFFSETTO:+1000
TZNAME:AEST
DTSTART:20260404T160000
END:STANDARD
BEGIN:DAYLIGHT
TZOFFSETFROM:+1000
TZOFFSETTO:+1100
TZNAME:AEDT
DTSTART:20261003T160000
END:DAYLIGHT
BEGIN:STANDARD
TZOFFSETFROM:+1100
TZOFFSETTO:+1000
TZNAME:AEST
DTSTART:20270403T160000
END:STANDARD
BEGIN:DAYLIGHT
TZOFFSETFROM:+1000
TZOFFSETTO:+1100
TZNAME:AEDT
DTSTART:20271002T160000
END:DAYLIGHT
END:VTIMEZONE
BEGIN:VEVENT
DTSTART;TZID=Australia/Melbourne:20251231T080000
DTEND;TZID=Australia/Melbourne:20261231T170000
DTSTAMP:20260424T095504
CREATED:20241030T091045Z
LAST-MODIFIED:20251224T232646Z
UID:10003585-1767168000-1798736400@rigpa.org.au
SUMMARY:The Wisdom of Compassion
DESCRIPTION:Presenting the powerful Buddhist logic of compassion and practical methods for devoloping a more kind relationship with ourselves\, those around us and ultimately all beings.\nAdelaide \n  \nPresenting key Buddhist teachings on the powerful logic of compassion and practical methods for developing a more kind relationship with ourselves\, those around us and ultimately all beings. \nOur innate capacity for empathy is the source of the very best of human qualities: love\, kindness\, generosity\, warm-heartedness\, courage … compassion. Although we are born with a vast capacity to love\, we may not know how to do so unconditionally\, or how to express that love in practice. \nWhen our heart and mind are filled with love\, we find the greatest inner healing\, tranquillity and well-being. Modern research shows that with empathy and compassion we can be more fully ourselves\, connect more easily with others\, improve self worth and reduce self-criticism\, and lead healthier lives. \n  \nAdelaide \n Tuesday evenings\, all year\n6:30-8:30pm ACDT \nRigpa Adelaide\, 310 South Terrace\, Adelaide\n 5 week block: full $75\, concession $50\, free for Rigpa subscribers \nEmail adelaide@rigpa.org.au for details \n 
URL:https://rigpa.org.au/event/the-wisdom-of-compassion/
LOCATION:Rigpa Adelaide\, 310 South Terrace\, Adelaide\, South Australia\, 5000\, Australia
CATEGORIES:2026 - The Next Step - Compassion
ATTACH;FMTTYPE=image/jpeg:https://rigpa.org.au/wp-content/uploads/2024/10/3.-Wisdom-of-Compassion-1.jpg
END:VEVENT
END:VCALENDAR