BEGIN:VCALENDAR
VERSION:2.0
PRODID:-//Rigpa Australia - ECPv6.15.20//NONSGML v1.0//EN
CALSCALE:GREGORIAN
METHOD:PUBLISH
X-WR-CALNAME:Rigpa Australia
X-ORIGINAL-URL:https://rigpa.org.au
X-WR-CALDESC:Events for Rigpa Australia
REFRESH-INTERVAL;VALUE=DURATION:PT1H
X-Robots-Tag:noindex
X-PUBLISHED-TTL:PT1H
BEGIN:VTIMEZONE
TZID:Australia/Melbourne
BEGIN:STANDARD
TZOFFSETFROM:+1100
TZOFFSETTO:+1000
TZNAME:AEST
DTSTART:20240406T160000
END:STANDARD
BEGIN:DAYLIGHT
TZOFFSETFROM:+1000
TZOFFSETTO:+1100
TZNAME:AEDT
DTSTART:20241005T160000
END:DAYLIGHT
BEGIN:STANDARD
TZOFFSETFROM:+1100
TZOFFSETTO:+1000
TZNAME:AEST
DTSTART:20250405T160000
END:STANDARD
BEGIN:DAYLIGHT
TZOFFSETFROM:+1000
TZOFFSETTO:+1100
TZNAME:AEDT
DTSTART:20251004T160000
END:DAYLIGHT
BEGIN:STANDARD
TZOFFSETFROM:+1100
TZOFFSETTO:+1000
TZNAME:AEST
DTSTART:20260404T160000
END:STANDARD
BEGIN:DAYLIGHT
TZOFFSETFROM:+1000
TZOFFSETTO:+1100
TZNAME:AEDT
DTSTART:20261003T160000
END:DAYLIGHT
BEGIN:STANDARD
TZOFFSETFROM:+1100
TZOFFSETTO:+1000
TZNAME:AEST
DTSTART:20270403T160000
END:STANDARD
BEGIN:DAYLIGHT
TZOFFSETFROM:+1000
TZOFFSETTO:+1100
TZNAME:AEDT
DTSTART:20271002T160000
END:DAYLIGHT
END:VTIMEZONE
BEGIN:VEVENT
DTSTART;TZID=Australia/Melbourne:20251231T080000
DTEND;TZID=Australia/Melbourne:20261231T170000
DTSTAMP:20260424T134749
CREATED:20241030T093104Z
LAST-MODIFIED:20251224T234119Z
UID:10003589-1767168000-1798736400@rigpa.org.au
SUMMARY:The All Encompassing Path
DESCRIPTION:Exploring compassion practices set within the context of the Vajrayana preliminaries\, the ngöndro\, in a fresh and meaningful way.\nOnline\nThursday evenings \n  \nThe All-Encompassing Path to Enlightenment (AEPE) is the main study programme in Rigpa\, for students of all levels: new\, more advanced or in-between. This year\, the AEPE will focus on compassion practices. These will be set within the context of the vajrayana preliminary practices\, called Ngöndro in Tibetan.  \nRigpa’s most experienced teachers will guide us through the key principles of the Ngöndro\, helping us to explore these principles in a fresh\, up-to-date\, real life way\, while preserving their authenticity. These practices are a complete path in themselves and also the foundation for Vajrayana and Dzogchen practice\, encompassing all the elements needed to prepare us to fully receive the Great Perfection teachings of Dzogchen\, the highest and most direct stream of wisdom within the Tibetan Buddhist tradition. So no matter where we are on our path\, the AEPE will support us in taking it to completion.  \n  \nOnline   \nWhen: Thursday evenings\, all year\n 6:00-7:30pm AEDT (8:00am CET\, 2:00am Mon US East) \nWhere: Online via Zoom\nPricing: free for Rigpa subscribers \nRegister
URL:https://rigpa.org.au/event/the-all-encompassing-path/
CATEGORIES:2026 - A Deeper Commitment
ATTACH;FMTTYPE=image/jpeg:https://rigpa.org.au/wp-content/uploads/2024/10/7.-All-Encompassing-Path-Guru-Rinpoche2.jpg
END:VEVENT
BEGIN:VEVENT
DTSTART;TZID=Australia/Melbourne:20251231T080000
DTEND;TZID=Australia/Melbourne:20261231T170000
DTSTAMP:20260424T134749
CREATED:20241030T093616Z
LAST-MODIFIED:20251224T234347Z
UID:10003592-1767168000-1798736400@rigpa.org.au
SUMMARY:The Home Retreat
DESCRIPTION:A weekly online study program\nThis seven-year program is a comprehensive\, authentic program of study and practice embedded in the Longchen Nyingtik lineage and Sogyal Rinpoche’s Dzogchen teachings. \n  \nThe Home Retreat is one of the most comprehensive and authentic Tibetan Buddhist teaching and practice programs offered anywhere in the world. \nThe Home Retreat is an on-line study and practice program intended for Rigpa students who wish to follow the vast and unique teachings of Sogyal Rinpoche. It incorporates all of the teachings from Sogyal Rinpoche’s 2006 Three-Year Retreat plus some additional topics. \nThe Home Retreat is embedded in the Longchen Nyingtik lineage and the teachings of the ‘Great Perfection’\, Dzogpachenpo\, a dynamic\, unbroken\, living lineage of wisdom and compassion that leads us on a journey through the three yanas.   \nIn addition to the weekly on-line study program\, the Home Retreat offers regular Zoom study sessions and monthly Zoom group gatherings. The Home Retreat does ask that you maintain a stable commitment to your study and practice each week. \n(Completion of all Home Retreat modules\, and 50 percent of the Ngöndro accumulations is a prerequisite for entry into Rigpa’s Dzogchen Mandala.) \nThis exciting and dynamic seven year program is open to all Rigpa Mandala students. It is anticipated that our next intake into the Home Retreat will occur in May 2027. \n If you are a Rigpa mandala student who is interested in applying for the Home Retreat program\, please email rigpa.australia@rigpa.org.au. \n 
URL:https://rigpa.org.au/event/the-home-retreat/
CATEGORIES:2026 - A Deeper Commitment
ATTACH;FMTTYPE=image/jpeg:https://rigpa.org.au/wp-content/uploads/2024/10/10.-Home-retreat-templevisitstemple2.jpg
END:VEVENT
END:VCALENDAR