BEGIN:VCALENDAR
VERSION:2.0
PRODID:-//Rigpa Australia - ECPv6.15.20//NONSGML v1.0//EN
CALSCALE:GREGORIAN
METHOD:PUBLISH
X-WR-CALNAME:Rigpa Australia
X-ORIGINAL-URL:https://rigpa.org.au
X-WR-CALDESC:Events for Rigpa Australia
REFRESH-INTERVAL;VALUE=DURATION:PT1H
X-Robots-Tag:noindex
X-PUBLISHED-TTL:PT1H
BEGIN:VTIMEZONE
TZID:Australia/Melbourne
BEGIN:STANDARD
TZOFFSETFROM:+1100
TZOFFSETTO:+1000
TZNAME:AEST
DTSTART:20250405T160000
END:STANDARD
BEGIN:DAYLIGHT
TZOFFSETFROM:+1000
TZOFFSETTO:+1100
TZNAME:AEDT
DTSTART:20251004T160000
END:DAYLIGHT
BEGIN:STANDARD
TZOFFSETFROM:+1100
TZOFFSETTO:+1000
TZNAME:AEST
DTSTART:20260404T160000
END:STANDARD
BEGIN:DAYLIGHT
TZOFFSETFROM:+1000
TZOFFSETTO:+1100
TZNAME:AEDT
DTSTART:20261003T160000
END:DAYLIGHT
BEGIN:STANDARD
TZOFFSETFROM:+1100
TZOFFSETTO:+1000
TZNAME:AEST
DTSTART:20270403T160000
END:STANDARD
BEGIN:DAYLIGHT
TZOFFSETFROM:+1000
TZOFFSETTO:+1100
TZNAME:AEDT
DTSTART:20271002T160000
END:DAYLIGHT
END:VTIMEZONE
BEGIN:VEVENT
DTSTART;TZID=Australia/Melbourne:20260905T150000
DTEND;TZID=Australia/Melbourne:20260905T173000
DTSTAMP:20260424T060942
CREATED:20260327T044325Z
LAST-MODIFIED:20260327T044325Z
UID:10009407-1788620400-1788629400@rigpa.org.au
SUMMARY:Overcoming Depression | Meditation and Wisdom for Every Day
DESCRIPTION:The Buddhist path offers many tools for turning our mind away from depression and inspiring ourselves to take on a more positive\, uplifting frame of mind. In this session we’ll work with some simple practical techniques taught by Sogyal Rinpoche that can lift your mood quickly and reliably. \n  \nA session in the Meditation and Wisdom to Transform Every Day Life series. \n  \nSpend time with your best self on a journey from sadness and anger to peace and joy. The timeless wisdom and meditative insights of the Tibetan Buddhist tradition offer many practical methods to help us heal and thrive as we face the everyday challenges of anxiety\, depression\, anger\, physical pain\, loneliness\, and burnout. \nThis series of Saturday afternoon sessions offer an introduction to meditation and practical advice from some of the foremost Tibetan Buddhist teachers of our age. Applying these teachings can help us meet the challenges of these difficult times\, to heal ourselves\, and to bring us to the core of our own peace\, compassion and wisdom. \nLed by Western meditation instructors with many years of experience\, each session consists of: \n\nVideo teachings from Tibetan Buddhist masters including Sogyal Rinpoche\, Ringu Tulku Rinpoche\, Dungse Jampal Norbu and Dzogchen Ponlop Rinpoche.\nMeditation practice\nTime for contemplation\nGroup discussions and Q&A\, offering you the opportunity to explore the teachings and practices in an open supportive environment and to connect with a community of practitioners\n\nDates and Topics for 2026 \n5 September   Overcoming Depression\n3 October        Accentuate the Positive: How to Work with Negative Emotions\n7 November    Beating Burnout and Stress\n5 December    How to Remain Unshaken By Life’s Ups and Downs \n📍 Online and Rigpa Sydney\, 158 Australia St\, Newtown.
URL:https://rigpa.org.au/event/overcoming-depression-meditation-and-wisdom-for-every-day/
LOCATION:Rigpa Sydney\, 158 Australia St\, Newtown\, Sydney\, NSW\, 2042\, Australia
CATEGORIES:For Everyone,Online,Sydney - Everyone
ATTACH;FMTTYPE=image/png:https://rigpa.org.au/wp-content/uploads/2026/03/Overcoming-Depression.png
END:VEVENT
END:VCALENDAR