BEGIN:VCALENDAR
VERSION:2.0
PRODID:-//Rigpa Australia - ECPv6.15.20//NONSGML v1.0//EN
CALSCALE:GREGORIAN
METHOD:PUBLISH
X-WR-CALNAME:Rigpa Australia
X-ORIGINAL-URL:https://rigpa.org.au
X-WR-CALDESC:Events for Rigpa Australia
REFRESH-INTERVAL;VALUE=DURATION:PT1H
X-Robots-Tag:noindex
X-PUBLISHED-TTL:PT1H
BEGIN:VTIMEZONE
TZID:Australia/Melbourne
BEGIN:STANDARD
TZOFFSETFROM:+1100
TZOFFSETTO:+1000
TZNAME:AEST
DTSTART:20240406T160000
END:STANDARD
BEGIN:DAYLIGHT
TZOFFSETFROM:+1000
TZOFFSETTO:+1100
TZNAME:AEDT
DTSTART:20241005T160000
END:DAYLIGHT
BEGIN:STANDARD
TZOFFSETFROM:+1100
TZOFFSETTO:+1000
TZNAME:AEST
DTSTART:20250405T160000
END:STANDARD
BEGIN:DAYLIGHT
TZOFFSETFROM:+1000
TZOFFSETTO:+1100
TZNAME:AEDT
DTSTART:20251004T160000
END:DAYLIGHT
BEGIN:STANDARD
TZOFFSETFROM:+1100
TZOFFSETTO:+1000
TZNAME:AEST
DTSTART:20260404T160000
END:STANDARD
BEGIN:DAYLIGHT
TZOFFSETFROM:+1000
TZOFFSETTO:+1100
TZNAME:AEDT
DTSTART:20261003T160000
END:DAYLIGHT
END:VTIMEZONE
BEGIN:VEVENT
DTSTART;TZID=Australia/Melbourne:20250923T190000
DTEND;TZID=Australia/Melbourne:20251223T210000
DTSTAMP:20260424T044233
CREATED:20250915T024625Z
LAST-MODIFIED:20250915T065000Z
UID:10006563-1758654000-1766523600@rigpa.org.au
SUMMARY:The Wisdom of Compassion - The Six Paramitas
DESCRIPTION:Much as we may wish to be kind\, caring and loving\, often this may be difficult for us in practice. As we move from wishing to be more compassionate to grappling with how we put this into action\, the Buddhist teachings include six tools in a how-to guide: \n1. Generosity: cultivating the attitude of generosity. \n2. Discipline: refraining from harm. \n3. Patience: not being perturbed by anything. \n4. Diligence: finding joy in what is virtuous\, positive or wholesome. \n5. Meditative concentration: not being distracted. \n6. Wisdom: the perfect discrimination of all knowable things. \nThese are known as the Six Paramitas\, or transcendent perfections and contain all the vital skills needed for us to transform our mind and open our heart. \nThis twelve-week course addresses each of the Six Paramitas in turn\, offering a wealth of practical advice to help us put our best biggest heart into action everyday. \n 
URL:https://rigpa.org.au/event/the-wisdom-of-compassion-the-six-paramitas/
LOCATION:Online via Zoom\, Australia
CATEGORIES:Established Students,For Everyone,Online,Sydney - Established,Sydney - Everyone
ATTACH;FMTTYPE=image/png:https://rigpa.org.au/wp-content/uploads/2024/11/The-Wisdom-of-Compassion.png
ORGANIZER;CN="Rigpa Sydney":MAILTO:sydney@rigpa.org.au
END:VEVENT
BEGIN:VEVENT
DTSTART;TZID=Australia/Melbourne:20251119T183000
DTEND;TZID=Australia/Melbourne:20251217T203000
DTSTAMP:20260424T044233
CREATED:20251117T053406Z
LAST-MODIFIED:20251117T053448Z
UID:10006838-1763577000-1766003400@rigpa.org.au
SUMMARY:Inspiring a Revolution in Your Heart and Mind | Mind is Like the Sky - Nov/Dec - Sydney and Online
DESCRIPTION:Mind is Like the Sky: Discover Inner Peace and Contentment in the True Nature of Your Mind \nIn this course\, we will learn to: \n· Sit with what is\, cultivating a gentle curiosity toward our inner world.\n· Explore the space between thoughts\, discovering the innate clarity and peace that is always present.\n· Work with energy and emotion not as enemies\, but as natural expressions of a dynamic mind.\n· Rest in awareness itself\, moving from thinking about experience to directly knowing it.\n\nThis is a deeply experiential path. It is for those who feel a call to look inward\, to move beyond concepts\, and to touch the timeless wisdom that has illuminated hearts for centuries. No prior experience is necessary\, only an open heart and a willingness to explore.\n\nJoin us. Let’s journey together from the turbulence of the surface to the profound stillness of the depths.
URL:https://rigpa.org.au/event/inspiring-a-revolution-in-your-heart-and-mind-mind-is-like-the-sky-sydney-and-online-2/
LOCATION:
CATEGORIES:For Everyone,Newcastle - All welcome,Online,Sydney - Everyone
ATTACH;FMTTYPE=image/png:https://rigpa.org.au/wp-content/uploads/2024/11/Inspiring.png
END:VEVENT
BEGIN:VEVENT
DTSTART;TZID=Australia/Melbourne:20251201T080000
DTEND;TZID=Australia/Melbourne:20251201T170000
DTSTAMP:20260424T044233
CREATED:20251204T061747Z
LAST-MODIFIED:20251204T061816Z
UID:10006907-1764576000-1764608400@rigpa.org.au
SUMMARY:Self Forgiveness in the Light of Compassion
DESCRIPTION:A seminar with Christine Longaker \nDiscover how to live with a lighter\, kinder heart. Many of us carry beliefs that we’re unworthy of love or beyond forgiveness\, leaving us trapped in self-blame. But punishing ourselves only deepens our suffering. Through insight\, compassion\, and guided meditations\, you’ll learn to soften your “inner critic\,” release false beliefs\, and understand why you can let yourself off the hook—all of which lightens your heart. As you cultivate forgiveness and compassion for yourself\, you’ll naturally feel empathy and understanding for others— which brings more kindness and healing into your family and the entire world. \nSeminar topics:  \n●      Dismantling the barriers to self-forgiveness \n●      Understanding your life with kindness and acceptance \n●      Transforming your “inner critic” \n●      A few good reasons to let yourself off the hook \n●      Meditations that deepen authentic compassion and forgiveness for yourself and others \n  \nAbout Christine Longaker \nChristine Longaker co-founded one of the first home care hospices in California in 1978\, and helped establish the international Spiritual Care Program in 1993\, in which she trained teams of caregivers who collectively brought the vision of compassionate care for the dying to over 30\,000 people. Her book\, Facing Death and Finding Hope: A Guide to the Emotional and Spiritual Care of the Dying\, is published in eight languages. For forty years\, Christine Longaker has become an internationally renowned teacher on meditation\, compassion\, and care for the dying. Her trainings inspired the founding of four hospices and two spiritual care centers. \nLongaker was developer and faculty for the six-month “Contemplative End-of-Life Care” training that was accredited by Naropa University in Colorado. The long-term benefits of spiritual care training were demonstrated in research she co-authored that was published in the Journal of Palliative Medicine in 2005. \nBecause self-compassion is the most vital ingredient for inner healing\, building resilience and the essential precursor to having compassion for others\, Christine Longaker’s vision is to bring the skills and methods of self-compassion to many areas of endeavor. This\, combined with her decades of spiritual training and skill in communicating with diverse audiences\, bring unique insights and powerful methods to the work.
URL:https://rigpa.org.au/event/self-forgiveness-in-the-light-of-compassion-2/2025-12-01/1/
LOCATION:Online via Zoom\, Australia
CATEGORIES:For Everyone,Newcastle - All welcome,Online
ORGANIZER;CN="Rigpa Sydney":MAILTO:sydney@rigpa.org.au
END:VEVENT
BEGIN:VEVENT
DTSTART;TZID=Australia/Melbourne:20251201T190000
DTEND;TZID=Australia/Melbourne:20251201T210000
DTSTAMP:20260424T044233
CREATED:20251204T061747Z
LAST-MODIFIED:20251204T061816Z
UID:10006694-1764615600-1764622800@rigpa.org.au
SUMMARY:Self Forgiveness in the Light of Compassion
DESCRIPTION:A seminar with Christine Longaker \nDiscover how to live with a lighter\, kinder heart. Many of us carry beliefs that we’re unworthy of love or beyond forgiveness\, leaving us trapped in self-blame. But punishing ourselves only deepens our suffering. Through insight\, compassion\, and guided meditations\, you’ll learn to soften your “inner critic\,” release false beliefs\, and understand why you can let yourself off the hook—all of which lightens your heart. As you cultivate forgiveness and compassion for yourself\, you’ll naturally feel empathy and understanding for others— which brings more kindness and healing into your family and the entire world. \nSeminar topics:  \n●      Dismantling the barriers to self-forgiveness \n●      Understanding your life with kindness and acceptance \n●      Transforming your “inner critic” \n●      A few good reasons to let yourself off the hook \n●      Meditations that deepen authentic compassion and forgiveness for yourself and others \n  \nAbout Christine Longaker \nChristine Longaker co-founded one of the first home care hospices in California in 1978\, and helped establish the international Spiritual Care Program in 1993\, in which she trained teams of caregivers who collectively brought the vision of compassionate care for the dying to over 30\,000 people. Her book\, Facing Death and Finding Hope: A Guide to the Emotional and Spiritual Care of the Dying\, is published in eight languages. For forty years\, Christine Longaker has become an internationally renowned teacher on meditation\, compassion\, and care for the dying. Her trainings inspired the founding of four hospices and two spiritual care centers. \nLongaker was developer and faculty for the six-month “Contemplative End-of-Life Care” training that was accredited by Naropa University in Colorado. The long-term benefits of spiritual care training were demonstrated in research she co-authored that was published in the Journal of Palliative Medicine in 2005. \nBecause self-compassion is the most vital ingredient for inner healing\, building resilience and the essential precursor to having compassion for others\, Christine Longaker’s vision is to bring the skills and methods of self-compassion to many areas of endeavor. This\, combined with her decades of spiritual training and skill in communicating with diverse audiences\, bring unique insights and powerful methods to the work.
URL:https://rigpa.org.au/event/self-forgiveness-in-the-light-of-compassion-2/2025-12-01/2/
LOCATION:Online via Zoom\, Australia
CATEGORIES:For Everyone,Newcastle - All welcome,Online
ORGANIZER;CN="Rigpa Sydney":MAILTO:sydney@rigpa.org.au
END:VEVENT
BEGIN:VEVENT
DTSTART;TZID=Australia/Melbourne:20251204T180000
DTEND;TZID=Australia/Melbourne:20251204T193000
DTSTAMP:20260424T044233
CREATED:20241118T042813Z
LAST-MODIFIED:20241120T083842Z
UID:10003727-1764871200-1764876600@rigpa.org.au
SUMMARY:The All Encompassing Path to Enlightenment
DESCRIPTION:The All-Encompassing Path to Enlightenment (AEPE) is the main study programme in Rigpa\, for students of all levels: new\, more advanced or in-between. This year\, the AEPE will explore the main principles of the preliminary practices\, called Ngöndro in Tibetan. Our most experienced Rigpa teachers will guide us through the key principles of the Ngöndro\, helping us to explore these principles in a fresh\, up-to-date\, real life way\, while preserving their authenticity. \nThese practices are a complete path in themselves and also the foundation for Vajrayana and Dzogchen practice\, encompassing all the elements needed to prepare us to fully receive the Great Perfection teachings of Dzogchen\, the highest and most direct stream of wisdom within the Tibetan Buddhist tradition. So no matter where we are on our path\, the AEPE will support us in taking it to completion.  \nThursday evenings\, all year\n 6:00-7:30pm AEDT (8:00am CET\, 2:00am Mon US East) \nOnline via Zoom
URL:https://rigpa.org.au/event/the-all-encompassing-path-to-enlightenment/2025-12-04/
LOCATION:Online via Zoom\, Australia
CATEGORIES:Established Students,Newcastle - Established Students,Online
ATTACH;FMTTYPE=image/png:https://rigpa.org.au/wp-content/uploads/2024/11/The-All-Encompassing-Path.png
END:VEVENT
BEGIN:VEVENT
DTSTART;TZID=Australia/Melbourne:20251205T093000
DTEND;TZID=Australia/Melbourne:20251205T113000
DTSTAMP:20260424T044233
CREATED:20250924T030544Z
LAST-MODIFIED:20250924T031355Z
UID:10006631-1764927000-1764934200@rigpa.org.au
SUMMARY:Enlightened Courage: the Secret to Training and Transforming your Mind with Wisdom and Compassion. Term Four.
DESCRIPTION:Enlightened Courage: the secret to training and transforming your mind with wisdom and compassion. \nTerm 4\, 9 Sessions\, 17 October – 12 December\, \nOnline – Fridays\, 9.30am – 11.30am. \n/MAHAYANA/ \nThis class is a year long course made up of terms. The class features teachings from Sogyal Rinpoche\, Jetsun Khandro Rinpoche and Patrick Gaffney\, this weekly course presents the Mahayana Seven Points of Mind Training. These points lay out a path of formal meditation practice\, along with guidelines for extending that practice into everyday life. \nThese teachings are precious and unique in presenting the entire depth and breadth of the Buddha’s Mahayana teachings succinctly and practically. Mahayana mind training offers an approach to life that is straightforward\, grounded in sanity\, kindness\, and compassion. Yet it also offers a vision that completely transcends our ordinary way of viewing ourselves and others\, with an all-encompassing vision of enlightenment. \nAt the heart of this vision of enlightenment is the view that our innate\, fundamental identity is vast\, luminous and utterly awake. The Mahayana teachings refer to this as our enlightened heart\, or bodhicitta. Enlightenment is nothing other than who we really are. But for most of us\, our true nature is like a hidden treasure\, concealed behind layers of mental activity and preoccupation. Mahayana mind training helps us give expression to our enlightened heart in everything we think\, say and do. \nFounded on a practice lineage that has been actively practised for hundreds of years\, these teachings are completely relevant to the challenges posed by our modern\, globalised life. \n🗓️ 9 weekly classes: Term 4\, Friday Mornings\, 17 October – 12 December. \n⏰ 9.30am – 11.30am Australian Eastern Standard Time \n📍Online via Zoom \n💰full $180\, concession $90 \nFree for Rigpa subscribers/ members (  please email newcastle@rigpa.org.au to request the subscriber discount code ). \nThis is the third term of a year-long course. If you wish to join after the first two weeks of a term then please register and pay a pro rata amount by sending  an email enquiry to newcastle@rigpa.org.au. If you are a newer student and would like to study this text please email Rigpa Newcastle at newcastle@rigpa.org.au. 
URL:https://rigpa.org.au/event/enlightened-courage-the-secret-to-training-and-transforming-your-mind-with-wisdom-and-compassion-term-four/2025-12-05/
LOCATION:Online via Zoom\, Australia
CATEGORIES:Established Students,Newcastle,Newcastle - Established Students,Online
ATTACH;FMTTYPE=image/jpeg:https://rigpa.org.au/wp-content/uploads/2024/11/Enlightened-Courage-Square.jpg
ORGANIZER;CN="Rigpa Newcastle":MAILTO:newcastle@rigpa.org.au
END:VEVENT
BEGIN:VEVENT
DTSTART;TZID=Australia/Melbourne:20251205T093000
DTEND;TZID=Australia/Melbourne:20251205T113000
DTSTAMP:20260424T044233
CREATED:20251007T040224Z
LAST-MODIFIED:20251007T040224Z
UID:10006688-1764927000-1764934200@rigpa.org.au
SUMMARY:Enlightened Courage: the secret to training and transforming your mind with wisdom and compassion
DESCRIPTION:Featuring teachings from Sogyal Rinpoche\, Jetsun Khandro Rinpoche and Patrick Gaffney\, this weekly course presents the Mahayana Seven Points of Mind Training. These points lay out a path of formal meditation practice\, along with guidelines for extending that practice into everyday life. \nThese teachings are precious and unique in presenting the entire depth and breadth of the Buddha’s Mahayana teachings succinctly and practically. Mahayana mind training offers an approach to life that is straightforward\, grounded in sanity\, kindness\, and compassion. Yet it also offers a vision that completely transcends our ordinary way of viewing ourselves and others\, with an all-encompassing vision of enlightenment. \nAt the heart of this vision of enlightenment is the view that our innate\, fundamental identity is vast\, luminous and utterly awake. The Mahayana teachings refer to this as our enlightened heart\, or bodhicitta. Enlightenment is nothing other than who we really are. But for most of us\, our true nature is like a hidden treasure\, concealed behind layers of mental activity and preoccupation. Mahayana mind training helps us give expression to our enlightened heart in everything we think\, say and do. \n🗓️ Friday Mornings\, 17 October – 12 December\n⏰ 9.30am – 11.30am Australian Eastern Daylight Time\n📍Online via Zoom
URL:https://rigpa.org.au/event/enlightened-courage-the-secret-to-training-and-transforming-your-mind-with-wisdom-and-compassion-2/2025-12-05/
LOCATION:Online via Zoom\, Australia
CATEGORIES:For Everyone,Online
ATTACH;FMTTYPE=image/png:https://rigpa.org.au/wp-content/uploads/2025/10/Enlightened-Courage.png
ORGANIZER;CN="Rigpa Newcastle":MAILTO:newcastle@rigpa.org.au
END:VEVENT
BEGIN:VEVENT
DTSTART;TZID=Australia/Melbourne:20251211T180000
DTEND;TZID=Australia/Melbourne:20251211T193000
DTSTAMP:20260424T044233
CREATED:20241118T042813Z
LAST-MODIFIED:20241120T083842Z
UID:10003728-1765476000-1765481400@rigpa.org.au
SUMMARY:The All Encompassing Path to Enlightenment
DESCRIPTION:The All-Encompassing Path to Enlightenment (AEPE) is the main study programme in Rigpa\, for students of all levels: new\, more advanced or in-between. This year\, the AEPE will explore the main principles of the preliminary practices\, called Ngöndro in Tibetan. Our most experienced Rigpa teachers will guide us through the key principles of the Ngöndro\, helping us to explore these principles in a fresh\, up-to-date\, real life way\, while preserving their authenticity. \nThese practices are a complete path in themselves and also the foundation for Vajrayana and Dzogchen practice\, encompassing all the elements needed to prepare us to fully receive the Great Perfection teachings of Dzogchen\, the highest and most direct stream of wisdom within the Tibetan Buddhist tradition. So no matter where we are on our path\, the AEPE will support us in taking it to completion.  \nThursday evenings\, all year\n 6:00-7:30pm AEDT (8:00am CET\, 2:00am Mon US East) \nOnline via Zoom
URL:https://rigpa.org.au/event/the-all-encompassing-path-to-enlightenment/2025-12-11/
LOCATION:Online via Zoom\, Australia
CATEGORIES:Established Students,Newcastle - Established Students,Online
ATTACH;FMTTYPE=image/png:https://rigpa.org.au/wp-content/uploads/2024/11/The-All-Encompassing-Path.png
END:VEVENT
BEGIN:VEVENT
DTSTART;TZID=Australia/Melbourne:20251212T093000
DTEND;TZID=Australia/Melbourne:20251212T113000
DTSTAMP:20260424T044233
CREATED:20250924T030544Z
LAST-MODIFIED:20250924T031355Z
UID:10006632-1765531800-1765539000@rigpa.org.au
SUMMARY:Enlightened Courage: the Secret to Training and Transforming your Mind with Wisdom and Compassion. Term Four.
DESCRIPTION:Enlightened Courage: the secret to training and transforming your mind with wisdom and compassion. \nTerm 4\, 9 Sessions\, 17 October – 12 December\, \nOnline – Fridays\, 9.30am – 11.30am. \n/MAHAYANA/ \nThis class is a year long course made up of terms. The class features teachings from Sogyal Rinpoche\, Jetsun Khandro Rinpoche and Patrick Gaffney\, this weekly course presents the Mahayana Seven Points of Mind Training. These points lay out a path of formal meditation practice\, along with guidelines for extending that practice into everyday life. \nThese teachings are precious and unique in presenting the entire depth and breadth of the Buddha’s Mahayana teachings succinctly and practically. Mahayana mind training offers an approach to life that is straightforward\, grounded in sanity\, kindness\, and compassion. Yet it also offers a vision that completely transcends our ordinary way of viewing ourselves and others\, with an all-encompassing vision of enlightenment. \nAt the heart of this vision of enlightenment is the view that our innate\, fundamental identity is vast\, luminous and utterly awake. The Mahayana teachings refer to this as our enlightened heart\, or bodhicitta. Enlightenment is nothing other than who we really are. But for most of us\, our true nature is like a hidden treasure\, concealed behind layers of mental activity and preoccupation. Mahayana mind training helps us give expression to our enlightened heart in everything we think\, say and do. \nFounded on a practice lineage that has been actively practised for hundreds of years\, these teachings are completely relevant to the challenges posed by our modern\, globalised life. \n🗓️ 9 weekly classes: Term 4\, Friday Mornings\, 17 October – 12 December. \n⏰ 9.30am – 11.30am Australian Eastern Standard Time \n📍Online via Zoom \n💰full $180\, concession $90 \nFree for Rigpa subscribers/ members (  please email newcastle@rigpa.org.au to request the subscriber discount code ). \nThis is the third term of a year-long course. If you wish to join after the first two weeks of a term then please register and pay a pro rata amount by sending  an email enquiry to newcastle@rigpa.org.au. If you are a newer student and would like to study this text please email Rigpa Newcastle at newcastle@rigpa.org.au. 
URL:https://rigpa.org.au/event/enlightened-courage-the-secret-to-training-and-transforming-your-mind-with-wisdom-and-compassion-term-four/2025-12-12/
LOCATION:Online via Zoom\, Australia
CATEGORIES:Established Students,Newcastle,Newcastle - Established Students,Online
ATTACH;FMTTYPE=image/jpeg:https://rigpa.org.au/wp-content/uploads/2024/11/Enlightened-Courage-Square.jpg
ORGANIZER;CN="Rigpa Newcastle":MAILTO:newcastle@rigpa.org.au
END:VEVENT
BEGIN:VEVENT
DTSTART;TZID=Australia/Melbourne:20251212T093000
DTEND;TZID=Australia/Melbourne:20251212T113000
DTSTAMP:20260424T044233
CREATED:20251007T040224Z
LAST-MODIFIED:20251007T040224Z
UID:10006689-1765531800-1765539000@rigpa.org.au
SUMMARY:Enlightened Courage: the secret to training and transforming your mind with wisdom and compassion
DESCRIPTION:Featuring teachings from Sogyal Rinpoche\, Jetsun Khandro Rinpoche and Patrick Gaffney\, this weekly course presents the Mahayana Seven Points of Mind Training. These points lay out a path of formal meditation practice\, along with guidelines for extending that practice into everyday life. \nThese teachings are precious and unique in presenting the entire depth and breadth of the Buddha’s Mahayana teachings succinctly and practically. Mahayana mind training offers an approach to life that is straightforward\, grounded in sanity\, kindness\, and compassion. Yet it also offers a vision that completely transcends our ordinary way of viewing ourselves and others\, with an all-encompassing vision of enlightenment. \nAt the heart of this vision of enlightenment is the view that our innate\, fundamental identity is vast\, luminous and utterly awake. The Mahayana teachings refer to this as our enlightened heart\, or bodhicitta. Enlightenment is nothing other than who we really are. But for most of us\, our true nature is like a hidden treasure\, concealed behind layers of mental activity and preoccupation. Mahayana mind training helps us give expression to our enlightened heart in everything we think\, say and do. \n🗓️ Friday Mornings\, 17 October – 12 December\n⏰ 9.30am – 11.30am Australian Eastern Daylight Time\n📍Online via Zoom
URL:https://rigpa.org.au/event/enlightened-courage-the-secret-to-training-and-transforming-your-mind-with-wisdom-and-compassion-2/2025-12-12/
LOCATION:Online via Zoom\, Australia
CATEGORIES:For Everyone,Online
ATTACH;FMTTYPE=image/png:https://rigpa.org.au/wp-content/uploads/2025/10/Enlightened-Courage.png
ORGANIZER;CN="Rigpa Newcastle":MAILTO:newcastle@rigpa.org.au
END:VEVENT
BEGIN:VEVENT
DTSTART;TZID=Australia/Melbourne:20251218T180000
DTEND;TZID=Australia/Melbourne:20251218T193000
DTSTAMP:20260424T044233
CREATED:20241118T042813Z
LAST-MODIFIED:20241120T083842Z
UID:10003729-1766080800-1766086200@rigpa.org.au
SUMMARY:The All Encompassing Path to Enlightenment
DESCRIPTION:The All-Encompassing Path to Enlightenment (AEPE) is the main study programme in Rigpa\, for students of all levels: new\, more advanced or in-between. This year\, the AEPE will explore the main principles of the preliminary practices\, called Ngöndro in Tibetan. Our most experienced Rigpa teachers will guide us through the key principles of the Ngöndro\, helping us to explore these principles in a fresh\, up-to-date\, real life way\, while preserving their authenticity. \nThese practices are a complete path in themselves and also the foundation for Vajrayana and Dzogchen practice\, encompassing all the elements needed to prepare us to fully receive the Great Perfection teachings of Dzogchen\, the highest and most direct stream of wisdom within the Tibetan Buddhist tradition. So no matter where we are on our path\, the AEPE will support us in taking it to completion.  \nThursday evenings\, all year\n 6:00-7:30pm AEDT (8:00am CET\, 2:00am Mon US East) \nOnline via Zoom
URL:https://rigpa.org.au/event/the-all-encompassing-path-to-enlightenment/2025-12-18/
LOCATION:Online via Zoom\, Australia
CATEGORIES:Established Students,Newcastle - Established Students,Online
ATTACH;FMTTYPE=image/png:https://rigpa.org.au/wp-content/uploads/2024/11/The-All-Encompassing-Path.png
END:VEVENT
BEGIN:VEVENT
DTSTART;TZID=Australia/Melbourne:20251225T180000
DTEND;TZID=Australia/Melbourne:20251225T193000
DTSTAMP:20260424T044233
CREATED:20241118T042813Z
LAST-MODIFIED:20241120T083842Z
UID:10003730-1766685600-1766691000@rigpa.org.au
SUMMARY:The All Encompassing Path to Enlightenment
DESCRIPTION:The All-Encompassing Path to Enlightenment (AEPE) is the main study programme in Rigpa\, for students of all levels: new\, more advanced or in-between. This year\, the AEPE will explore the main principles of the preliminary practices\, called Ngöndro in Tibetan. Our most experienced Rigpa teachers will guide us through the key principles of the Ngöndro\, helping us to explore these principles in a fresh\, up-to-date\, real life way\, while preserving their authenticity. \nThese practices are a complete path in themselves and also the foundation for Vajrayana and Dzogchen practice\, encompassing all the elements needed to prepare us to fully receive the Great Perfection teachings of Dzogchen\, the highest and most direct stream of wisdom within the Tibetan Buddhist tradition. So no matter where we are on our path\, the AEPE will support us in taking it to completion.  \nThursday evenings\, all year\n 6:00-7:30pm AEDT (8:00am CET\, 2:00am Mon US East) \nOnline via Zoom
URL:https://rigpa.org.au/event/the-all-encompassing-path-to-enlightenment/2025-12-25/
LOCATION:Online via Zoom\, Australia
CATEGORIES:Established Students,Newcastle - Established Students,Online
ATTACH;FMTTYPE=image/png:https://rigpa.org.au/wp-content/uploads/2024/11/The-All-Encompassing-Path.png
END:VEVENT
END:VCALENDAR