BEGIN:VCALENDAR
VERSION:2.0
PRODID:-//Rigpa Australia - ECPv6.15.20//NONSGML v1.0//EN
CALSCALE:GREGORIAN
METHOD:PUBLISH
X-ORIGINAL-URL:https://rigpa.org.au
X-WR-CALDESC:Events for Rigpa Australia
REFRESH-INTERVAL;VALUE=DURATION:PT1H
X-Robots-Tag:noindex
X-PUBLISHED-TTL:PT1H
BEGIN:VTIMEZONE
TZID:Australia/Melbourne
BEGIN:STANDARD
TZOFFSETFROM:+1100
TZOFFSETTO:+1000
TZNAME:AEST
DTSTART:20240406T160000
END:STANDARD
BEGIN:DAYLIGHT
TZOFFSETFROM:+1000
TZOFFSETTO:+1100
TZNAME:AEDT
DTSTART:20241005T160000
END:DAYLIGHT
BEGIN:STANDARD
TZOFFSETFROM:+1100
TZOFFSETTO:+1000
TZNAME:AEST
DTSTART:20250405T160000
END:STANDARD
BEGIN:DAYLIGHT
TZOFFSETFROM:+1000
TZOFFSETTO:+1100
TZNAME:AEDT
DTSTART:20251004T160000
END:DAYLIGHT
BEGIN:STANDARD
TZOFFSETFROM:+1100
TZOFFSETTO:+1000
TZNAME:AEST
DTSTART:20260404T160000
END:STANDARD
BEGIN:DAYLIGHT
TZOFFSETFROM:+1000
TZOFFSETTO:+1100
TZNAME:AEDT
DTSTART:20261003T160000
END:DAYLIGHT
END:VTIMEZONE
BEGIN:VEVENT
DTSTART;TZID=Australia/Melbourne:20250403T180000
DTEND;TZID=Australia/Melbourne:20250403T193000
DTSTAMP:20260425T020032
CREATED:20241118T042813Z
LAST-MODIFIED:20241120T083842Z
UID:10003692-1743703200-1743708600@rigpa.org.au
SUMMARY:The All Encompassing Path to Enlightenment
DESCRIPTION:The All-Encompassing Path to Enlightenment (AEPE) is the main study programme in Rigpa\, for students of all levels: new\, more advanced or in-between. This year\, the AEPE will explore the main principles of the preliminary practices\, called Ngöndro in Tibetan. Our most experienced Rigpa teachers will guide us through the key principles of the Ngöndro\, helping us to explore these principles in a fresh\, up-to-date\, real life way\, while preserving their authenticity. \nThese practices are a complete path in themselves and also the foundation for Vajrayana and Dzogchen practice\, encompassing all the elements needed to prepare us to fully receive the Great Perfection teachings of Dzogchen\, the highest and most direct stream of wisdom within the Tibetan Buddhist tradition. So no matter where we are on our path\, the AEPE will support us in taking it to completion.  \nThursday evenings\, all year\n 6:00-7:30pm AEDT (8:00am CET\, 2:00am Mon US East) \nOnline via Zoom
URL:https://rigpa.org.au/event/the-all-encompassing-path-to-enlightenment/2025-04-03/
LOCATION:Online via Zoom\, Australia
CATEGORIES:Established Students,Newcastle - Established Students,Online
ATTACH;FMTTYPE=image/png:https://rigpa.org.au/wp-content/uploads/2024/11/The-All-Encompassing-Path.png
END:VEVENT
BEGIN:VEVENT
DTSTART;TZID=Australia/Melbourne:20250404T093000
DTEND;TZID=Australia/Melbourne:20250404T113000
DTSTAMP:20260425T020032
CREATED:20241104T041535Z
LAST-MODIFIED:20250327T030857Z
UID:10003601-1743759000-1743766200@rigpa.org.au
SUMMARY:Enlightened Courage: the Secret to Training and Transforming your Mind with Wisdom and Compassion.
DESCRIPTION:Enlightened Courage: the secret to training and transforming your mind with wisdom and compassion. \nTerm 1\, 10 Sessions\, 7 February – 11 April \nOnline – Fridays\, 9.30am – 11.30am \n/MAHAYANA/ \nFeaturing teachings from Sogyal Rinpoche\, Jetsun Khandro Rinpoche and Patrick Gaffney\, this weekly course presents the Mahayana Seven Points of Mind Training. These points lay out a path of formal meditation practice\, along with guidelines for extending that practice into everyday life. \nThese teachings are precious and unique in presenting the entire depth and breadth of the Buddha’s Mahayana teachings succinctly and practically. Mahayana mind training offers an approach to life that is straightforward\, grounded in sanity\, kindness\, and compassion. Yet it also offers a vision that completely transcends our ordinary way of viewing ourselves and others\, with an all-encompassing vision of enlightenment. \nAt the heart of this vision of enlightenment is the view that our innate\, fundamental identity is vast\, luminous and utterly awake. The Mahayana teachings refer to this as our enlightened heart\, or bodhicitta. Enlightenment is nothing other than who we really are. But for most of us\, our true nature is like a hidden treasure\, concealed behind layers of mental activity and preoccupation. Mahayana mind training helps us give expression to our enlightened heart in everything we think\, say and do. \nFounded on a practice lineage that has been actively practised for hundreds of years\, these teachings are completely relevant to the challenges posed by our modern\, globalised life. \n🗓️ 10 weekly classes: Friday Mornings\, 7 February – 11 April \n⏰ 9.30am – 11.30am Australian Eastern Daylight Savings Time (11:30pm CET\, 5.30pm Thurs US East\, 2.30pm Thurs US Pacific) \n📍Online via Zoom \n💰full $200\, concession $100 \nFree for Rigpa subscribers/ members (  please email newcastle@rigpa.org.au to request the subscriber discount code ). \nThis is the first term of a year-long course. If you wish to join after the first two weeks of a term then please register and pay a pro rata amount by sending  an email enquiry to newcastle@rigpa.org.au. If you are a newer student and would like to study this text please email Rigpa Newcastle at newcastle@rigpa.org.au. 
URL:https://rigpa.org.au/event/enlightened-courage-the-secret-to-training-and-transforming-your-mind-with-wisdom-and-compassion/2025-04-04/
LOCATION:Online via Zoom\, Australia
CATEGORIES:Established Students,Newcastle,Newcastle - Established Students,Online
ATTACH;FMTTYPE=image/jpeg:https://rigpa.org.au/wp-content/uploads/2024/11/Enlightened-Courage-Square.jpg
END:VEVENT
BEGIN:VEVENT
DTSTART;TZID=Australia/Melbourne:20250406T093000
DTEND;TZID=Australia/Melbourne:20250406T130000
DTSTAMP:20260425T020032
CREATED:20250108T025114Z
LAST-MODIFIED:20250203T040353Z
UID:10004760-1743931800-1743944400@rigpa.org.au
SUMMARY:Sydney Sangha Day - April 2025 - Knowing what to do and what not to do
DESCRIPTION:Sydney Sangha Day – 6 April 2025 \nPowerful reminders: Knowing what to do and what not to do – Kirsten Czeczor 
URL:https://rigpa.org.au/event/sydney-sangha-day-april-2025/
LOCATION:Rigpa Sydney\, 158 Australia St\, Newtown\, Sydney\, NSW\, 2042\, Australia
CATEGORIES:For Everyone,Newcastle - All welcome,Online,Sydney - Everyone
ATTACH;FMTTYPE=image/png:https://rigpa.org.au/wp-content/uploads/2025/01/Sydney-Sangha-Day-Square-540-×-540-px.png
END:VEVENT
BEGIN:VEVENT
DTSTART;TZID=Australia/Melbourne:20250410T180000
DTEND;TZID=Australia/Melbourne:20250410T193000
DTSTAMP:20260425T020032
CREATED:20241118T042813Z
LAST-MODIFIED:20241120T083842Z
UID:10003693-1744308000-1744313400@rigpa.org.au
SUMMARY:The All Encompassing Path to Enlightenment
DESCRIPTION:The All-Encompassing Path to Enlightenment (AEPE) is the main study programme in Rigpa\, for students of all levels: new\, more advanced or in-between. This year\, the AEPE will explore the main principles of the preliminary practices\, called Ngöndro in Tibetan. Our most experienced Rigpa teachers will guide us through the key principles of the Ngöndro\, helping us to explore these principles in a fresh\, up-to-date\, real life way\, while preserving their authenticity. \nThese practices are a complete path in themselves and also the foundation for Vajrayana and Dzogchen practice\, encompassing all the elements needed to prepare us to fully receive the Great Perfection teachings of Dzogchen\, the highest and most direct stream of wisdom within the Tibetan Buddhist tradition. So no matter where we are on our path\, the AEPE will support us in taking it to completion.  \nThursday evenings\, all year\n 6:00-7:30pm AEDT (8:00am CET\, 2:00am Mon US East) \nOnline via Zoom
URL:https://rigpa.org.au/event/the-all-encompassing-path-to-enlightenment/2025-04-10/
LOCATION:Online via Zoom\, Australia
CATEGORIES:Established Students,Newcastle - Established Students,Online
ATTACH;FMTTYPE=image/png:https://rigpa.org.au/wp-content/uploads/2024/11/The-All-Encompassing-Path.png
END:VEVENT
BEGIN:VEVENT
DTSTART;TZID=Australia/Melbourne:20250411T093000
DTEND;TZID=Australia/Melbourne:20250411T113000
DTSTAMP:20260425T020032
CREATED:20241104T041535Z
LAST-MODIFIED:20250327T030857Z
UID:10003602-1744363800-1744371000@rigpa.org.au
SUMMARY:Enlightened Courage: the Secret to Training and Transforming your Mind with Wisdom and Compassion.
DESCRIPTION:Enlightened Courage: the secret to training and transforming your mind with wisdom and compassion. \nTerm 1\, 10 Sessions\, 7 February – 11 April \nOnline – Fridays\, 9.30am – 11.30am \n/MAHAYANA/ \nFeaturing teachings from Sogyal Rinpoche\, Jetsun Khandro Rinpoche and Patrick Gaffney\, this weekly course presents the Mahayana Seven Points of Mind Training. These points lay out a path of formal meditation practice\, along with guidelines for extending that practice into everyday life. \nThese teachings are precious and unique in presenting the entire depth and breadth of the Buddha’s Mahayana teachings succinctly and practically. Mahayana mind training offers an approach to life that is straightforward\, grounded in sanity\, kindness\, and compassion. Yet it also offers a vision that completely transcends our ordinary way of viewing ourselves and others\, with an all-encompassing vision of enlightenment. \nAt the heart of this vision of enlightenment is the view that our innate\, fundamental identity is vast\, luminous and utterly awake. The Mahayana teachings refer to this as our enlightened heart\, or bodhicitta. Enlightenment is nothing other than who we really are. But for most of us\, our true nature is like a hidden treasure\, concealed behind layers of mental activity and preoccupation. Mahayana mind training helps us give expression to our enlightened heart in everything we think\, say and do. \nFounded on a practice lineage that has been actively practised for hundreds of years\, these teachings are completely relevant to the challenges posed by our modern\, globalised life. \n🗓️ 10 weekly classes: Friday Mornings\, 7 February – 11 April \n⏰ 9.30am – 11.30am Australian Eastern Daylight Savings Time (11:30pm CET\, 5.30pm Thurs US East\, 2.30pm Thurs US Pacific) \n📍Online via Zoom \n💰full $200\, concession $100 \nFree for Rigpa subscribers/ members (  please email newcastle@rigpa.org.au to request the subscriber discount code ). \nThis is the first term of a year-long course. If you wish to join after the first two weeks of a term then please register and pay a pro rata amount by sending  an email enquiry to newcastle@rigpa.org.au. If you are a newer student and would like to study this text please email Rigpa Newcastle at newcastle@rigpa.org.au. 
URL:https://rigpa.org.au/event/enlightened-courage-the-secret-to-training-and-transforming-your-mind-with-wisdom-and-compassion/2025-04-11/
LOCATION:Online via Zoom\, Australia
CATEGORIES:Established Students,Newcastle,Newcastle - Established Students,Online
ATTACH;FMTTYPE=image/jpeg:https://rigpa.org.au/wp-content/uploads/2024/11/Enlightened-Courage-Square.jpg
END:VEVENT
BEGIN:VEVENT
DTSTART;TZID=Australia/Melbourne:20250412T150000
DTEND;TZID=Australia/Melbourne:20250412T170000
DTSTAMP:20260425T020032
CREATED:20250322T060501Z
LAST-MODIFIED:20250408T020943Z
UID:10005301-1744470000-1744477200@rigpa.org.au
SUMMARY:Finding Courage in a World Full of Fear
DESCRIPTION:Fear is a useful tool for staying alive; recognizing danger we avoid harm and survive. Fear for fear’s sake\, however\, can be debilitating. \nA connection with meditation practice\, which shows us the true capacity of our mind and heart for insight\, clarity and compassion can transform the way we perceive ourselves and our world around us. Buddhism offers a path toward fearlessness by confronting fear with inner strength and open-hearted courage\, to help us step out of the clutches of fear and discover new meaning\, inspiration\, and joy in our lives. \n🗓️ Saturday 12 April\n⏰3:00-5:00pm\n📍Rigpa Sydney and Online \n💰$20 standard\, $10 concession
URL:https://rigpa.org.au/event/finding-courage-in-a-world-full-of-fear/
LOCATION:Rigpa Sydney\, 158 Australia St\, Newtown\, Sydney\, NSW\, 2042\, Australia
CATEGORIES:For Everyone,Newcastle - All welcome,Online,Sydney - Everyone
ORGANIZER;CN="Rigpa Sydney":MAILTO:sydney@rigpa.org.au
END:VEVENT
BEGIN:VEVENT
DTSTART;TZID=Australia/Melbourne:20250417T180000
DTEND;TZID=Australia/Melbourne:20250417T193000
DTSTAMP:20260425T020032
CREATED:20241118T042813Z
LAST-MODIFIED:20241120T083842Z
UID:10003694-1744912800-1744918200@rigpa.org.au
SUMMARY:The All Encompassing Path to Enlightenment
DESCRIPTION:The All-Encompassing Path to Enlightenment (AEPE) is the main study programme in Rigpa\, for students of all levels: new\, more advanced or in-between. This year\, the AEPE will explore the main principles of the preliminary practices\, called Ngöndro in Tibetan. Our most experienced Rigpa teachers will guide us through the key principles of the Ngöndro\, helping us to explore these principles in a fresh\, up-to-date\, real life way\, while preserving their authenticity. \nThese practices are a complete path in themselves and also the foundation for Vajrayana and Dzogchen practice\, encompassing all the elements needed to prepare us to fully receive the Great Perfection teachings of Dzogchen\, the highest and most direct stream of wisdom within the Tibetan Buddhist tradition. So no matter where we are on our path\, the AEPE will support us in taking it to completion.  \nThursday evenings\, all year\n 6:00-7:30pm AEDT (8:00am CET\, 2:00am Mon US East) \nOnline via Zoom
URL:https://rigpa.org.au/event/the-all-encompassing-path-to-enlightenment/2025-04-17/
LOCATION:Online via Zoom\, Australia
CATEGORIES:Established Students,Newcastle - Established Students,Online
ATTACH;FMTTYPE=image/png:https://rigpa.org.au/wp-content/uploads/2024/11/The-All-Encompassing-Path.png
END:VEVENT
BEGIN:VEVENT
DTSTART;TZID=Australia/Melbourne:20250418T083000
DTEND;TZID=Australia/Melbourne:20250425T170000
DTSTAMP:20260425T020032
CREATED:20250110T225357Z
LAST-MODIFIED:20250423T033141Z
UID:10004864-1744965000-1745600400@rigpa.org.au
SUMMARY:Contemplating Reality | A retreat with Andy Karr and Lynn Friedman | Sydney & Online
DESCRIPTION:Acquire transformative tools for life—honed by an ancient Buddhist tradition and adapted for the modern world—to experience deep meditation and profound insight into reality. \nThis is a rare and unique\, life-enhancing opportunity—and a first in Australia. \nJoin Andy Karr and Lynn Friedman\, two senior teachers and long-time students of the renowned Tibetan master Chögyam Trungpa Rinpoche (1939–1987)\, for an inspiring one- to eight-day urban retreat that blends the spacious clarity of meditation with the rich wisdom of Buddhist philosophy and practical know how. \nThrough a unique combination of guided contemplation\, experiential exercises\, and extended meditation sessions\, this retreat offers a powerful opportunity to explore the nature of consciousness and awaken to the true potential of your own mind and heart. \nRooted in the teachings from Andy Karr’s acclaimed books\, Into the Mirror and Contemplating Reality\, this retreat provides a welcoming and accessible path into classical Buddhist inquiry—bridging ancient insight with modern understanding. \nWhether you’re new to Buddhist philosophy or looking to deepen your practice\, you’ll leave with a clearer sense of reality\, a stronger connection to your inner wisdom\, and tools to integrate these insights into daily life. \nDiscover the buddha nature within you. Step into a space of clarity\, compassion\, and transformation. \n  \n🗓️ 18-25 April\n🧘 Short option 18-21 April\n📍In person at 158 Australia St\, Newtown & Online \n  \nAbout Andy Karr \nAndy Karr has practiced and studied the dharma for over fifty years under the guidance of such great masters as Chögyam Trungpa Rinpoche and Khenpo Tsültrim Gyamtso Rinpoche. He is the author of Into the Mirror: A Buddhist Journey through Mind\, Matter\, and the Nature of Reality and Contemplating Reality. He is also the co-author of The Practice of Contemplative Photography: Seeing the World with Fresh Eyes. \nAbout Lynn Friedman \nLynn Friedman has been a student of Chögyam Trungpa Rinpoche since the mid 1970s and has been teaching shamatha-vipashyana meditation in his tradition for 35 years. She had a long career as a software architect\, and is now the director of the Chögyam Trungpa Digital Library\, a project to transcribe and make available to the public the entire collection of recorded teachings of Trungpa Rinpoche.
URL:https://rigpa.org.au/event/contemplating-reality-a-retreat-with-andy-karr-and-lynne-friedman-sydney-online/
LOCATION:Rigpa Sydney\, 158 Australia St\, Newtown\, Sydney\, NSW\, 2042\, Australia
CATEGORIES:For Everyone,Newcastle - All welcome,Online,Sydney - Everyone
ORGANIZER;CN="Rigpa Sydney":MAILTO:sydney@rigpa.org.au
END:VEVENT
BEGIN:VEVENT
DTSTART;TZID=Australia/Melbourne:20250418T093000
DTEND;TZID=Australia/Melbourne:20250418T113000
DTSTAMP:20260425T020032
CREATED:20241104T041535Z
LAST-MODIFIED:20250327T030857Z
UID:10003603-1744968600-1744975800@rigpa.org.au
SUMMARY:Enlightened Courage: the Secret to Training and Transforming your Mind with Wisdom and Compassion.
DESCRIPTION:Enlightened Courage: the secret to training and transforming your mind with wisdom and compassion. \nTerm 1\, 10 Sessions\, 7 February – 11 April \nOnline – Fridays\, 9.30am – 11.30am \n/MAHAYANA/ \nFeaturing teachings from Sogyal Rinpoche\, Jetsun Khandro Rinpoche and Patrick Gaffney\, this weekly course presents the Mahayana Seven Points of Mind Training. These points lay out a path of formal meditation practice\, along with guidelines for extending that practice into everyday life. \nThese teachings are precious and unique in presenting the entire depth and breadth of the Buddha’s Mahayana teachings succinctly and practically. Mahayana mind training offers an approach to life that is straightforward\, grounded in sanity\, kindness\, and compassion. Yet it also offers a vision that completely transcends our ordinary way of viewing ourselves and others\, with an all-encompassing vision of enlightenment. \nAt the heart of this vision of enlightenment is the view that our innate\, fundamental identity is vast\, luminous and utterly awake. The Mahayana teachings refer to this as our enlightened heart\, or bodhicitta. Enlightenment is nothing other than who we really are. But for most of us\, our true nature is like a hidden treasure\, concealed behind layers of mental activity and preoccupation. Mahayana mind training helps us give expression to our enlightened heart in everything we think\, say and do. \nFounded on a practice lineage that has been actively practised for hundreds of years\, these teachings are completely relevant to the challenges posed by our modern\, globalised life. \n🗓️ 10 weekly classes: Friday Mornings\, 7 February – 11 April \n⏰ 9.30am – 11.30am Australian Eastern Daylight Savings Time (11:30pm CET\, 5.30pm Thurs US East\, 2.30pm Thurs US Pacific) \n📍Online via Zoom \n💰full $200\, concession $100 \nFree for Rigpa subscribers/ members (  please email newcastle@rigpa.org.au to request the subscriber discount code ). \nThis is the first term of a year-long course. If you wish to join after the first two weeks of a term then please register and pay a pro rata amount by sending  an email enquiry to newcastle@rigpa.org.au. If you are a newer student and would like to study this text please email Rigpa Newcastle at newcastle@rigpa.org.au. 
URL:https://rigpa.org.au/event/enlightened-courage-the-secret-to-training-and-transforming-your-mind-with-wisdom-and-compassion/2025-04-18/
LOCATION:Online via Zoom\, Australia
CATEGORIES:Established Students,Newcastle,Newcastle - Established Students,Online
ATTACH;FMTTYPE=image/jpeg:https://rigpa.org.au/wp-content/uploads/2024/11/Enlightened-Courage-Square.jpg
END:VEVENT
BEGIN:VEVENT
DTSTART;TZID=Australia/Melbourne:20250424T180000
DTEND;TZID=Australia/Melbourne:20250424T193000
DTSTAMP:20260425T020032
CREATED:20241118T042813Z
LAST-MODIFIED:20241120T083842Z
UID:10003695-1745517600-1745523000@rigpa.org.au
SUMMARY:The All Encompassing Path to Enlightenment
DESCRIPTION:The All-Encompassing Path to Enlightenment (AEPE) is the main study programme in Rigpa\, for students of all levels: new\, more advanced or in-between. This year\, the AEPE will explore the main principles of the preliminary practices\, called Ngöndro in Tibetan. Our most experienced Rigpa teachers will guide us through the key principles of the Ngöndro\, helping us to explore these principles in a fresh\, up-to-date\, real life way\, while preserving their authenticity. \nThese practices are a complete path in themselves and also the foundation for Vajrayana and Dzogchen practice\, encompassing all the elements needed to prepare us to fully receive the Great Perfection teachings of Dzogchen\, the highest and most direct stream of wisdom within the Tibetan Buddhist tradition. So no matter where we are on our path\, the AEPE will support us in taking it to completion.  \nThursday evenings\, all year\n 6:00-7:30pm AEDT (8:00am CET\, 2:00am Mon US East) \nOnline via Zoom
URL:https://rigpa.org.au/event/the-all-encompassing-path-to-enlightenment/2025-04-24/
LOCATION:Online via Zoom\, Australia
CATEGORIES:Established Students,Newcastle - Established Students,Online
ATTACH;FMTTYPE=image/png:https://rigpa.org.au/wp-content/uploads/2024/11/The-All-Encompassing-Path.png
END:VEVENT
BEGIN:VEVENT
DTSTART;TZID=Australia/Melbourne:20250430T183000
DTEND;TZID=Australia/Melbourne:20250528T203000
DTSTAMP:20260425T020032
CREATED:20250109T031728Z
LAST-MODIFIED:20250408T020742Z
UID:10004762-1746037800-1748464200@rigpa.org.au
SUMMARY:Inspiring a Revolution in Your Heart and Mind | The Deathless Unending Nature of Mind - Sydney and Online
DESCRIPTION:The Deathless and Unending Nature of Mind (Module 3 of the full-year course) \nIn this module we explore the power of our mind as the universal ordering principle; it is the creator of suffering and the creator of happiness. We investigate two aspects of the mind: the appearance of the mind – our thoughts\, emotions\, all the stories\, the ordinary mind; and the essence of mind – which is clear\, cognizant and has unconfined capacity. And we look at how to make our meditation practice truly meaningful.
URL:https://rigpa.org.au/event/inspiring-a-revolution-in-your-heart-and-mind-the-deathless-unending-nature-of-mind-sydney-and-online/2025-04-30/
LOCATION:
CATEGORIES:For Everyone,Newcastle - All welcome,Online,Sydney - Everyone
ATTACH;FMTTYPE=image/png:https://rigpa.org.au/wp-content/uploads/2024/11/Inspiring.png
END:VEVENT
END:VCALENDAR