BEGIN:VCALENDAR
VERSION:2.0
PRODID:-//Rigpa Australia - ECPv6.15.20//NONSGML v1.0//EN
CALSCALE:GREGORIAN
METHOD:PUBLISH
X-WR-CALNAME:Rigpa Australia
X-ORIGINAL-URL:https://rigpa.org.au
X-WR-CALDESC:Events for Rigpa Australia
REFRESH-INTERVAL;VALUE=DURATION:PT1H
X-Robots-Tag:noindex
X-PUBLISHED-TTL:PT1H
BEGIN:VTIMEZONE
TZID:Australia/Melbourne
BEGIN:STANDARD
TZOFFSETFROM:+1100
TZOFFSETTO:+1000
TZNAME:AEST
DTSTART:20230401T160000
END:STANDARD
BEGIN:DAYLIGHT
TZOFFSETFROM:+1000
TZOFFSETTO:+1100
TZNAME:AEDT
DTSTART:20230930T160000
END:DAYLIGHT
BEGIN:STANDARD
TZOFFSETFROM:+1100
TZOFFSETTO:+1000
TZNAME:AEST
DTSTART:20240406T160000
END:STANDARD
BEGIN:DAYLIGHT
TZOFFSETFROM:+1000
TZOFFSETTO:+1100
TZNAME:AEDT
DTSTART:20241005T160000
END:DAYLIGHT
BEGIN:STANDARD
TZOFFSETFROM:+1100
TZOFFSETTO:+1000
TZNAME:AEST
DTSTART:20250405T160000
END:STANDARD
BEGIN:DAYLIGHT
TZOFFSETFROM:+1000
TZOFFSETTO:+1100
TZNAME:AEDT
DTSTART:20251004T160000
END:DAYLIGHT
END:VTIMEZONE
BEGIN:VEVENT
DTSTART;TZID=Australia/Melbourne:20241203T190000
DTEND;TZID=Australia/Melbourne:20241203T210000
DTSTAMP:20260425T213837
CREATED:20240629T224025Z
LAST-MODIFIED:20241026T012913Z
UID:10003209-1733252400-1733259600@rigpa.org.au
SUMMARY:Bring a Big Heart to Everything that You Do
DESCRIPTION:Much as we may wish to be kind\, caring and loving\, often this may be difficult for us in practice. As we move from wishing to be more compassionate to grappling with how we put this into action\, the Buddhist teachings include six tools in a how-to guide: \n1. Generosity: cultivating the attitude of generosity. \n2. Discipline: refraining from harm. \n3. Patience: not being perturbed by anything. \n4. Diligence: finding joy in what is virtuous\, positive or wholesome. \n5. Meditative concentration: not being distracted. \n6. Wisdom: the perfect discrimination of all knowable things. \nThese are known as the Six Paramitas\, or transcendent perfections and contain all the vital skills needed for us to transform our mind \nand open our heart. \nThis ten-week course addresses each of the Six Paramitas in turn\, offering a wealth of practical advice to help us put our best biggest heart into \naction everyday. \nHeld over ten Tuesday evenings from 7 – 9pm\, from 15 October to 17 December\, 2024.\nMelbourne: 803 Nicholson St\, Carlton North\nSydney: 158 Australia St\, Newtown\nOnline via Zoom \nNote – this course is also known as Module 4 of the Wisdom of Compassion full year course. New students are welcome to join this module \nLed by western meditation instructors with many years of experience\, each session consists of: \n\nVideo teachings from Tibetan and Western Buddhist masters including Sogyal Rinpoche\, Jetsün Khandro Rinpoche\, Ringu Tulku Rinpoche\, Mingyur Rinpoche\, Pema Chödrön and Sharon Salzberg;\nMeditation practice;\nTime for contemplation;\nGroup discussions and Q&A\, offering each student the opportunity to explore the teachings and practices in an open supportive environment and to connect with a community of practitioners.\n\nFREE for Rigpa members/subscribers using a discount code. Email sydney@rigpa.org.au for the code.
URL:https://rigpa.org.au/event/bring-a-big-heart-to-everything-that-you-do/2024-12-03/
LOCATION:Rigpa Sydney\, 158 Australia St\, Newtown\, Sydney\, NSW\, 2042\, Australia
CATEGORIES:For Everyone,Melbourne - Everyone,Online,Sydney - Everyone
ORGANIZER;CN="Rigpa Sydney":MAILTO:sydney@rigpa.org.au
END:VEVENT
BEGIN:VEVENT
DTSTART;TZID=Australia/Melbourne:20241205T180000
DTEND;TZID=Australia/Melbourne:20241205T193000
DTSTAMP:20260425T213837
CREATED:20241118T042813Z
LAST-MODIFIED:20241120T083842Z
UID:10003675-1733421600-1733427000@rigpa.org.au
SUMMARY:The All Encompassing Path to Enlightenment
DESCRIPTION:The All-Encompassing Path to Enlightenment (AEPE) is the main study programme in Rigpa\, for students of all levels: new\, more advanced or in-between. This year\, the AEPE will explore the main principles of the preliminary practices\, called Ngöndro in Tibetan. Our most experienced Rigpa teachers will guide us through the key principles of the Ngöndro\, helping us to explore these principles in a fresh\, up-to-date\, real life way\, while preserving their authenticity. \nThese practices are a complete path in themselves and also the foundation for Vajrayana and Dzogchen practice\, encompassing all the elements needed to prepare us to fully receive the Great Perfection teachings of Dzogchen\, the highest and most direct stream of wisdom within the Tibetan Buddhist tradition. So no matter where we are on our path\, the AEPE will support us in taking it to completion.  \nThursday evenings\, all year\n 6:00-7:30pm AEDT (8:00am CET\, 2:00am Mon US East) \nOnline via Zoom
URL:https://rigpa.org.au/event/the-all-encompassing-path-to-enlightenment/2024-12-05/
LOCATION:Online via Zoom\, Australia
CATEGORIES:Established Students,Newcastle - Established Students,Online
ATTACH;FMTTYPE=image/png:https://rigpa.org.au/wp-content/uploads/2024/11/The-All-Encompassing-Path.png
END:VEVENT
BEGIN:VEVENT
DTSTART;TZID=Australia/Melbourne:20241210T190000
DTEND;TZID=Australia/Melbourne:20241210T210000
DTSTAMP:20260425T213837
CREATED:20240629T224025Z
LAST-MODIFIED:20241026T012913Z
UID:10003210-1733857200-1733864400@rigpa.org.au
SUMMARY:Bring a Big Heart to Everything that You Do
DESCRIPTION:Much as we may wish to be kind\, caring and loving\, often this may be difficult for us in practice. As we move from wishing to be more compassionate to grappling with how we put this into action\, the Buddhist teachings include six tools in a how-to guide: \n1. Generosity: cultivating the attitude of generosity. \n2. Discipline: refraining from harm. \n3. Patience: not being perturbed by anything. \n4. Diligence: finding joy in what is virtuous\, positive or wholesome. \n5. Meditative concentration: not being distracted. \n6. Wisdom: the perfect discrimination of all knowable things. \nThese are known as the Six Paramitas\, or transcendent perfections and contain all the vital skills needed for us to transform our mind \nand open our heart. \nThis ten-week course addresses each of the Six Paramitas in turn\, offering a wealth of practical advice to help us put our best biggest heart into \naction everyday. \nHeld over ten Tuesday evenings from 7 – 9pm\, from 15 October to 17 December\, 2024.\nMelbourne: 803 Nicholson St\, Carlton North\nSydney: 158 Australia St\, Newtown\nOnline via Zoom \nNote – this course is also known as Module 4 of the Wisdom of Compassion full year course. New students are welcome to join this module \nLed by western meditation instructors with many years of experience\, each session consists of: \n\nVideo teachings from Tibetan and Western Buddhist masters including Sogyal Rinpoche\, Jetsün Khandro Rinpoche\, Ringu Tulku Rinpoche\, Mingyur Rinpoche\, Pema Chödrön and Sharon Salzberg;\nMeditation practice;\nTime for contemplation;\nGroup discussions and Q&A\, offering each student the opportunity to explore the teachings and practices in an open supportive environment and to connect with a community of practitioners.\n\nFREE for Rigpa members/subscribers using a discount code. Email sydney@rigpa.org.au for the code.
URL:https://rigpa.org.au/event/bring-a-big-heart-to-everything-that-you-do/2024-12-10/
LOCATION:Rigpa Sydney\, 158 Australia St\, Newtown\, Sydney\, NSW\, 2042\, Australia
CATEGORIES:For Everyone,Melbourne - Everyone,Online,Sydney - Everyone
ORGANIZER;CN="Rigpa Sydney":MAILTO:sydney@rigpa.org.au
END:VEVENT
BEGIN:VEVENT
DTSTART;TZID=Australia/Melbourne:20241212T180000
DTEND;TZID=Australia/Melbourne:20241212T193000
DTSTAMP:20260425T213837
CREATED:20241118T042813Z
LAST-MODIFIED:20241120T083842Z
UID:10003676-1734026400-1734031800@rigpa.org.au
SUMMARY:The All Encompassing Path to Enlightenment
DESCRIPTION:The All-Encompassing Path to Enlightenment (AEPE) is the main study programme in Rigpa\, for students of all levels: new\, more advanced or in-between. This year\, the AEPE will explore the main principles of the preliminary practices\, called Ngöndro in Tibetan. Our most experienced Rigpa teachers will guide us through the key principles of the Ngöndro\, helping us to explore these principles in a fresh\, up-to-date\, real life way\, while preserving their authenticity. \nThese practices are a complete path in themselves and also the foundation for Vajrayana and Dzogchen practice\, encompassing all the elements needed to prepare us to fully receive the Great Perfection teachings of Dzogchen\, the highest and most direct stream of wisdom within the Tibetan Buddhist tradition. So no matter where we are on our path\, the AEPE will support us in taking it to completion.  \nThursday evenings\, all year\n 6:00-7:30pm AEDT (8:00am CET\, 2:00am Mon US East) \nOnline via Zoom
URL:https://rigpa.org.au/event/the-all-encompassing-path-to-enlightenment/2024-12-12/
LOCATION:Online via Zoom\, Australia
CATEGORIES:Established Students,Newcastle - Established Students,Online
ATTACH;FMTTYPE=image/png:https://rigpa.org.au/wp-content/uploads/2024/11/The-All-Encompassing-Path.png
END:VEVENT
BEGIN:VEVENT
DTSTART;TZID=Australia/Melbourne:20241217T190000
DTEND;TZID=Australia/Melbourne:20241217T210000
DTSTAMP:20260425T213837
CREATED:20240629T224025Z
LAST-MODIFIED:20241026T012913Z
UID:10003211-1734462000-1734469200@rigpa.org.au
SUMMARY:Bring a Big Heart to Everything that You Do
DESCRIPTION:Much as we may wish to be kind\, caring and loving\, often this may be difficult for us in practice. As we move from wishing to be more compassionate to grappling with how we put this into action\, the Buddhist teachings include six tools in a how-to guide: \n1. Generosity: cultivating the attitude of generosity. \n2. Discipline: refraining from harm. \n3. Patience: not being perturbed by anything. \n4. Diligence: finding joy in what is virtuous\, positive or wholesome. \n5. Meditative concentration: not being distracted. \n6. Wisdom: the perfect discrimination of all knowable things. \nThese are known as the Six Paramitas\, or transcendent perfections and contain all the vital skills needed for us to transform our mind \nand open our heart. \nThis ten-week course addresses each of the Six Paramitas in turn\, offering a wealth of practical advice to help us put our best biggest heart into \naction everyday. \nHeld over ten Tuesday evenings from 7 – 9pm\, from 15 October to 17 December\, 2024.\nMelbourne: 803 Nicholson St\, Carlton North\nSydney: 158 Australia St\, Newtown\nOnline via Zoom \nNote – this course is also known as Module 4 of the Wisdom of Compassion full year course. New students are welcome to join this module \nLed by western meditation instructors with many years of experience\, each session consists of: \n\nVideo teachings from Tibetan and Western Buddhist masters including Sogyal Rinpoche\, Jetsün Khandro Rinpoche\, Ringu Tulku Rinpoche\, Mingyur Rinpoche\, Pema Chödrön and Sharon Salzberg;\nMeditation practice;\nTime for contemplation;\nGroup discussions and Q&A\, offering each student the opportunity to explore the teachings and practices in an open supportive environment and to connect with a community of practitioners.\n\nFREE for Rigpa members/subscribers using a discount code. Email sydney@rigpa.org.au for the code.
URL:https://rigpa.org.au/event/bring-a-big-heart-to-everything-that-you-do/2024-12-17/
LOCATION:Rigpa Sydney\, 158 Australia St\, Newtown\, Sydney\, NSW\, 2042\, Australia
CATEGORIES:For Everyone,Melbourne - Everyone,Online,Sydney - Everyone
ORGANIZER;CN="Rigpa Sydney":MAILTO:sydney@rigpa.org.au
END:VEVENT
BEGIN:VEVENT
DTSTART;TZID=Australia/Melbourne:20241219T180000
DTEND;TZID=Australia/Melbourne:20241219T193000
DTSTAMP:20260425T213837
CREATED:20241118T042813Z
LAST-MODIFIED:20241120T083842Z
UID:10003677-1734631200-1734636600@rigpa.org.au
SUMMARY:The All Encompassing Path to Enlightenment
DESCRIPTION:The All-Encompassing Path to Enlightenment (AEPE) is the main study programme in Rigpa\, for students of all levels: new\, more advanced or in-between. This year\, the AEPE will explore the main principles of the preliminary practices\, called Ngöndro in Tibetan. Our most experienced Rigpa teachers will guide us through the key principles of the Ngöndro\, helping us to explore these principles in a fresh\, up-to-date\, real life way\, while preserving their authenticity. \nThese practices are a complete path in themselves and also the foundation for Vajrayana and Dzogchen practice\, encompassing all the elements needed to prepare us to fully receive the Great Perfection teachings of Dzogchen\, the highest and most direct stream of wisdom within the Tibetan Buddhist tradition. So no matter where we are on our path\, the AEPE will support us in taking it to completion.  \nThursday evenings\, all year\n 6:00-7:30pm AEDT (8:00am CET\, 2:00am Mon US East) \nOnline via Zoom
URL:https://rigpa.org.au/event/the-all-encompassing-path-to-enlightenment/2024-12-19/
LOCATION:Online via Zoom\, Australia
CATEGORIES:Established Students,Newcastle - Established Students,Online
ATTACH;FMTTYPE=image/png:https://rigpa.org.au/wp-content/uploads/2024/11/The-All-Encompassing-Path.png
END:VEVENT
BEGIN:VEVENT
DTSTART;TZID=Australia/Melbourne:20241221T103000
DTEND;TZID=Australia/Melbourne:20241221T123000
DTSTAMP:20260425T213837
CREATED:20231101T002244Z
LAST-MODIFIED:20231101T002244Z
UID:10001078-1734777000-1734784200@rigpa.org.au
SUMMARY:Cultivating Compassion: A Practical Guide to Being Kind | Online
DESCRIPTION:In a world full of turmoil\, stress\, anxiety and disconnect\, we are all looking for simple\, practical ways in which we can nurture our own inner goodness and find the peace and courage to live well. \nGeshe Chekawa’s summation of the Tibetan Buddhist guidelines for living a compassionate life\, known as the Seven Points of Mind Training\, have guided practitioners for more than a thousand years. His pithy slogans open the way for each of us to nurture our own compassionate nature and put compassion into action in everyday life. These slogans offer a vital practical antidote to despair and despondency. \nCultivating Compassion presents teachings on the Seven Points given by Jetsün Khandro Rinpoche accompanied by reflections from Traleg Rinpoche. \nJetsün Khandro Rinpoche is one of the outstanding meditation teachers of our time. She is known for her penetrating wisdom and humour\, conveying the Buddhist teachings in a concise and lively manner\, enriched with personal anecdotes\, which are of particular relevance to the everyday life of the modern\, fast-paced world. \nFrom the early 1980s onwards\, Traleg Kyabgon Rinpoche was a pioneer in bringing Tibetan Buddhism to Australia and was a strong advocate of non-sectarianism. He taught extensively on many aspects of Buddhist psychology and philosophy\, comparative religion\, and Buddhist and Western thought. \nThis program is open to all\, but does assume some familiarity with meditation and the Buddhist understanding of interdependence.
URL:https://rigpa.org.au/event/cultivating-compassion-a-practical-guide-to-being-kind-online/2024-12-21/
LOCATION:Online via Zoom\, Australia
CATEGORIES:Established Students,For Everyone,Online
ATTACH;FMTTYPE=image/png:https://rigpa.org.au/wp-content/uploads/2023/11/Cultivating-Compassion.png
ORGANIZER;CN="Rigpa Sydney":MAILTO:sydney@rigpa.org.au
END:VEVENT
BEGIN:VEVENT
DTSTART;TZID=Australia/Melbourne:20241226T180000
DTEND;TZID=Australia/Melbourne:20241226T193000
DTSTAMP:20260425T213837
CREATED:20241118T042813Z
LAST-MODIFIED:20241120T083842Z
UID:10003678-1735236000-1735241400@rigpa.org.au
SUMMARY:The All Encompassing Path to Enlightenment
DESCRIPTION:The All-Encompassing Path to Enlightenment (AEPE) is the main study programme in Rigpa\, for students of all levels: new\, more advanced or in-between. This year\, the AEPE will explore the main principles of the preliminary practices\, called Ngöndro in Tibetan. Our most experienced Rigpa teachers will guide us through the key principles of the Ngöndro\, helping us to explore these principles in a fresh\, up-to-date\, real life way\, while preserving their authenticity. \nThese practices are a complete path in themselves and also the foundation for Vajrayana and Dzogchen practice\, encompassing all the elements needed to prepare us to fully receive the Great Perfection teachings of Dzogchen\, the highest and most direct stream of wisdom within the Tibetan Buddhist tradition. So no matter where we are on our path\, the AEPE will support us in taking it to completion.  \nThursday evenings\, all year\n 6:00-7:30pm AEDT (8:00am CET\, 2:00am Mon US East) \nOnline via Zoom
URL:https://rigpa.org.au/event/the-all-encompassing-path-to-enlightenment/2024-12-26/
LOCATION:Online via Zoom\, Australia
CATEGORIES:Established Students,Newcastle - Established Students,Online
ATTACH;FMTTYPE=image/png:https://rigpa.org.au/wp-content/uploads/2024/11/The-All-Encompassing-Path.png
END:VEVENT
END:VCALENDAR