BEGIN:VCALENDAR
VERSION:2.0
PRODID:-//Rigpa Australia - ECPv6.15.20//NONSGML v1.0//EN
CALSCALE:GREGORIAN
METHOD:PUBLISH
X-WR-CALNAME:Rigpa Australia
X-ORIGINAL-URL:https://rigpa.org.au
X-WR-CALDESC:Events for Rigpa Australia
REFRESH-INTERVAL;VALUE=DURATION:PT1H
X-Robots-Tag:noindex
X-PUBLISHED-TTL:PT1H
BEGIN:VTIMEZONE
TZID:Australia/Melbourne
BEGIN:STANDARD
TZOFFSETFROM:+1100
TZOFFSETTO:+1000
TZNAME:AEST
DTSTART:20230401T160000
END:STANDARD
BEGIN:DAYLIGHT
TZOFFSETFROM:+1000
TZOFFSETTO:+1100
TZNAME:AEDT
DTSTART:20230930T160000
END:DAYLIGHT
BEGIN:STANDARD
TZOFFSETFROM:+1100
TZOFFSETTO:+1000
TZNAME:AEST
DTSTART:20240406T160000
END:STANDARD
BEGIN:DAYLIGHT
TZOFFSETFROM:+1000
TZOFFSETTO:+1100
TZNAME:AEDT
DTSTART:20241005T160000
END:DAYLIGHT
BEGIN:STANDARD
TZOFFSETFROM:+1100
TZOFFSETTO:+1000
TZNAME:AEST
DTSTART:20250405T160000
END:STANDARD
BEGIN:DAYLIGHT
TZOFFSETFROM:+1000
TZOFFSETTO:+1100
TZNAME:AEDT
DTSTART:20251004T160000
END:DAYLIGHT
END:VTIMEZONE
BEGIN:VTIMEZONE
TZID:Australia/Sydney
BEGIN:STANDARD
TZOFFSETFROM:+1100
TZOFFSETTO:+1000
TZNAME:AEST
DTSTART:20230401T160000
END:STANDARD
BEGIN:DAYLIGHT
TZOFFSETFROM:+1000
TZOFFSETTO:+1100
TZNAME:AEDT
DTSTART:20230930T160000
END:DAYLIGHT
BEGIN:STANDARD
TZOFFSETFROM:+1100
TZOFFSETTO:+1000
TZNAME:AEST
DTSTART:20240406T160000
END:STANDARD
BEGIN:DAYLIGHT
TZOFFSETFROM:+1000
TZOFFSETTO:+1100
TZNAME:AEDT
DTSTART:20241005T160000
END:DAYLIGHT
BEGIN:STANDARD
TZOFFSETFROM:+1100
TZOFFSETTO:+1000
TZNAME:AEST
DTSTART:20250405T160000
END:STANDARD
BEGIN:DAYLIGHT
TZOFFSETFROM:+1000
TZOFFSETTO:+1100
TZNAME:AEDT
DTSTART:20251004T160000
END:DAYLIGHT
END:VTIMEZONE
BEGIN:VEVENT
DTSTART;TZID=Australia/Melbourne:20241002T183000
DTEND;TZID=Australia/Melbourne:20241002T203000
DTSTAMP:20260426T051941
CREATED:20240805T014131Z
LAST-MODIFIED:20241026T013346Z
UID:10003313-1727893800-1727901000@rigpa.org.au
SUMMARY:Inspring a Revolution in Your Heart and Mind | The Spiritual Path
DESCRIPTION:The first declaration that the Buddha made at the time of his enlightenment was: “Profound peace\, free of complexity\, natural simplicity\, uncompounded luminosity.” This module of Inspiring a Revolution in Your Heart and Mind examines what enlightenment is and explores the practical training of the Tibetan Buddhist Dzogchen Path in terms of View\, Meditation and Action. To see directly the absolute state\, the Ground of our being\, is the View; the way of stabilizing that View and making it an unbroken experience is Meditation; and integrating the View into our entire reality\, and life\, is what is meant by Action.
URL:https://rigpa.org.au/event/inspring-a-revolution-in-your-heart-and-mind-the-spiritual-path/2024-10-02/
LOCATION:Rigpa Sydney\, 158 Australia St\, Newtown\, Sydney\, NSW\, 2042\, Australia
CATEGORIES:For Everyone,Online,Sydney - Established,Sydney - Everyone
ORGANIZER;CN="Rigpa Sydney":MAILTO:sydney@rigpa.org.au
END:VEVENT
BEGIN:VEVENT
DTSTART;TZID=Australia/Melbourne:20241005T090000
DTEND;TZID=Australia/Melbourne:20241009T170000
DTSTAMP:20260426T051941
CREATED:20240611T042223Z
LAST-MODIFIED:20241005T091029Z
UID:10003148-1728118800-1728493200@rigpa.org.au
SUMMARY:Finding Inner Peace and Contentment
DESCRIPTION:Spend five days immersing yourself in the Tibetan Buddhist wisdom tradition. \n(If you can’t attend for five days\, a weekend-only option is available.) \nJoin us in our Buddhist temple by the park to: \n🌻 establish or deepen your daily meditation practice \n🌻 learn how to work with distractions and obstacles that may arise during your practice \n🌻 hear\, contemplate and meditate on the essence of the Buddha’s teachings \n🌻 create space to experience genuine inner peace and contentment \n🌻 begin a lasting transformation of your life \nYou will be supported by experienced meditation teachers Jan van der Breggen and Marianne Gizycki\, and receive video teachings from Sogyal Rinpoche\, a renowned master of the Tibetan Nyingma lineage and Dzogchen\, or “Great Perfection”\, tradition. The Dzogchen approach cuts to the essence of Buddha’s teachings to shows us who we really are: clear\, wise\, and fundamentally good.  \nEach day will feature a rich yet spacious program of teachings\, guided meditation\, and time for reflection and discussion. \n📍Sydney and online
URL:https://rigpa.org.au/event/finding-inner-peace-and-contentment-3/
LOCATION:Rigpa Sydney\, 158 Australia St\, Newtown\, Sydney\, NSW\, 2042\, Australia
CATEGORIES:For Everyone,Newcastle,Newcastle - All welcome,Online,Sydney - Everyone
ATTACH;FMTTYPE=image/png:https://rigpa.org.au/wp-content/uploads/2024/06/FIPC-2024-Square-no-text.png
ORGANIZER;CN="Rigpa Sydney":MAILTO:sydney@rigpa.org.au
END:VEVENT
BEGIN:VEVENT
DTSTART;TZID=Australia/Melbourne:20241009T183000
DTEND;TZID=Australia/Melbourne:20241009T203000
DTSTAMP:20260426T051941
CREATED:20240805T014131Z
LAST-MODIFIED:20241026T013346Z
UID:10003314-1728498600-1728505800@rigpa.org.au
SUMMARY:Inspring a Revolution in Your Heart and Mind | The Spiritual Path
DESCRIPTION:The first declaration that the Buddha made at the time of his enlightenment was: “Profound peace\, free of complexity\, natural simplicity\, uncompounded luminosity.” This module of Inspiring a Revolution in Your Heart and Mind examines what enlightenment is and explores the practical training of the Tibetan Buddhist Dzogchen Path in terms of View\, Meditation and Action. To see directly the absolute state\, the Ground of our being\, is the View; the way of stabilizing that View and making it an unbroken experience is Meditation; and integrating the View into our entire reality\, and life\, is what is meant by Action.
URL:https://rigpa.org.au/event/inspring-a-revolution-in-your-heart-and-mind-the-spiritual-path/2024-10-09/
LOCATION:Rigpa Sydney\, 158 Australia St\, Newtown\, Sydney\, NSW\, 2042\, Australia
CATEGORIES:For Everyone,Online,Sydney - Established,Sydney - Everyone
ORGANIZER;CN="Rigpa Sydney":MAILTO:sydney@rigpa.org.au
END:VEVENT
BEGIN:VEVENT
DTSTART;TZID=Australia/Melbourne:20241009T183000
DTEND;TZID=Australia/Melbourne:20241009T203000
DTSTAMP:20260426T051941
CREATED:20240805T014650Z
LAST-MODIFIED:20240805T020145Z
UID:10003366-1728498600-1728505800@rigpa.org.au
SUMMARY:Inspiring a Revolution in Your Heart and Mind | Open Heart
DESCRIPTION:An introduction to the Tibetan Buddhist compassion practices with a particular focus on loving kindness practice. Meditating on loving kindness can help us restore our love and confidence\, and heal unresolved emotional wounds. It also puts us back in touch with the fundamental goodness of our core being\, and once that has happened\, we are able to love ourselves and others.
URL:https://rigpa.org.au/event/inspiring-a-revolution-in-your-heart-and-mind-open-heart/2024-10-09/
LOCATION:Rigpa Sydney\, 158 Australia St\, Newtown\, Sydney\, NSW\, 2042\, Australia
CATEGORIES:For Everyone,Online,Sydney - Everyone
END:VEVENT
BEGIN:VEVENT
DTSTART;TZID=Australia/Melbourne:20241015T190000
DTEND;TZID=Australia/Melbourne:20241015T210000
DTSTAMP:20260426T051941
CREATED:20240629T224025Z
LAST-MODIFIED:20241026T012913Z
UID:10003202-1729018800-1729026000@rigpa.org.au
SUMMARY:Bring a Big Heart to Everything that You Do
DESCRIPTION:Much as we may wish to be kind\, caring and loving\, often this may be difficult for us in practice. As we move from wishing to be more compassionate to grappling with how we put this into action\, the Buddhist teachings include six tools in a how-to guide: \n1. Generosity: cultivating the attitude of generosity. \n2. Discipline: refraining from harm. \n3. Patience: not being perturbed by anything. \n4. Diligence: finding joy in what is virtuous\, positive or wholesome. \n5. Meditative concentration: not being distracted. \n6. Wisdom: the perfect discrimination of all knowable things. \nThese are known as the Six Paramitas\, or transcendent perfections and contain all the vital skills needed for us to transform our mind \nand open our heart. \nThis ten-week course addresses each of the Six Paramitas in turn\, offering a wealth of practical advice to help us put our best biggest heart into \naction everyday. \nHeld over ten Tuesday evenings from 7 – 9pm\, from 15 October to 17 December\, 2024.\nMelbourne: 803 Nicholson St\, Carlton North\nSydney: 158 Australia St\, Newtown\nOnline via Zoom \nNote – this course is also known as Module 4 of the Wisdom of Compassion full year course. New students are welcome to join this module \nLed by western meditation instructors with many years of experience\, each session consists of: \n\nVideo teachings from Tibetan and Western Buddhist masters including Sogyal Rinpoche\, Jetsün Khandro Rinpoche\, Ringu Tulku Rinpoche\, Mingyur Rinpoche\, Pema Chödrön and Sharon Salzberg;\nMeditation practice;\nTime for contemplation;\nGroup discussions and Q&A\, offering each student the opportunity to explore the teachings and practices in an open supportive environment and to connect with a community of practitioners.\n\nFREE for Rigpa members/subscribers using a discount code. Email sydney@rigpa.org.au for the code.
URL:https://rigpa.org.au/event/bring-a-big-heart-to-everything-that-you-do/2024-10-15/
LOCATION:Rigpa Sydney\, 158 Australia St\, Newtown\, Sydney\, NSW\, 2042\, Australia
CATEGORIES:For Everyone,Melbourne - Everyone,Online,Sydney - Everyone
ORGANIZER;CN="Rigpa Sydney":MAILTO:sydney@rigpa.org.au
END:VEVENT
BEGIN:VEVENT
DTSTART;TZID=Australia/Melbourne:20241016T183000
DTEND;TZID=Australia/Melbourne:20241016T203000
DTSTAMP:20260426T051941
CREATED:20240805T014131Z
LAST-MODIFIED:20241026T013346Z
UID:10003315-1729103400-1729110600@rigpa.org.au
SUMMARY:Inspring a Revolution in Your Heart and Mind | The Spiritual Path
DESCRIPTION:The first declaration that the Buddha made at the time of his enlightenment was: “Profound peace\, free of complexity\, natural simplicity\, uncompounded luminosity.” This module of Inspiring a Revolution in Your Heart and Mind examines what enlightenment is and explores the practical training of the Tibetan Buddhist Dzogchen Path in terms of View\, Meditation and Action. To see directly the absolute state\, the Ground of our being\, is the View; the way of stabilizing that View and making it an unbroken experience is Meditation; and integrating the View into our entire reality\, and life\, is what is meant by Action.
URL:https://rigpa.org.au/event/inspring-a-revolution-in-your-heart-and-mind-the-spiritual-path/2024-10-16/
LOCATION:Rigpa Sydney\, 158 Australia St\, Newtown\, Sydney\, NSW\, 2042\, Australia
CATEGORIES:For Everyone,Online,Sydney - Established,Sydney - Everyone
ORGANIZER;CN="Rigpa Sydney":MAILTO:sydney@rigpa.org.au
END:VEVENT
BEGIN:VEVENT
DTSTART;TZID=Australia/Melbourne:20241016T183000
DTEND;TZID=Australia/Melbourne:20241016T203000
DTSTAMP:20260426T051941
CREATED:20240805T014650Z
LAST-MODIFIED:20240805T020145Z
UID:10003367-1729103400-1729110600@rigpa.org.au
SUMMARY:Inspiring a Revolution in Your Heart and Mind | Open Heart
DESCRIPTION:An introduction to the Tibetan Buddhist compassion practices with a particular focus on loving kindness practice. Meditating on loving kindness can help us restore our love and confidence\, and heal unresolved emotional wounds. It also puts us back in touch with the fundamental goodness of our core being\, and once that has happened\, we are able to love ourselves and others.
URL:https://rigpa.org.au/event/inspiring-a-revolution-in-your-heart-and-mind-open-heart/2024-10-16/
LOCATION:Rigpa Sydney\, 158 Australia St\, Newtown\, Sydney\, NSW\, 2042\, Australia
CATEGORIES:For Everyone,Online,Sydney - Everyone
END:VEVENT
BEGIN:VEVENT
DTSTART;TZID=Australia/Sydney:20241018T093000
DTEND;TZID=Australia/Sydney:20241018T113000
DTSTAMP:20260426T051941
CREATED:20240918T064914Z
LAST-MODIFIED:20240920T021408Z
UID:10003520-1729243800-1729251000@rigpa.org.au
SUMMARY:Turning Suffering and Happiness into Enlightenment/Term 4/Online
DESCRIPTION:The Buddhist teachings show us a way to find a deep sense of fulfillment that does not depend on outer circumstances and is naturally ours. Through a process of reflection and meditation\, we find inner strength\, which allows us to fully and fearlessly engage with everything we experience in our lives. Then\, all our experiences – happy or sad\, good or bad – will become a source of personal growth and spiritual awakening: they have the potential to open our eyes and our heart\, and make us grow wiser and more compassionate. \nTurning Suffering and Happiness into Enlightenment will present teachings that offer commentary of the classic\, short and pithy text\, Taking Happiness and Suffering on our Path\, by the great Dzogchen master Dodrupchen Jigme Tenpe Nyima. This text presents the Buddha’s teachings on how to transform suffering and happiness in a manner that is easy to understand and put into practice. \nDetails for Term 4 \nWhere: Online \nWhen: Friday mornings\, Five sessions\, 18 October to 15 November \nTime: 9.30am – 11:30 am\, Australian Eastern Daylight Savings Time \nThis is the fourth term of a year-long course. If you wish to join after the first two weeks of a term then please register and pay a pro rata amount by sending  an email enquiry to newcastle@rigpa.org.au. If you are a newer student and would like to study this text please email Rigpa Newcastle   newcastle@rigpa.org.au. \nCost for Term 4: \nFive sessions: Full $100\, Concession $50 \nIf you are experiencing financial hardship please email us at newcastle@rigpa.org.au to request a further concession. \nFREE for Rigpa members/subscribers. Please email newcastle@rigpa.org.au to request the discount code.
URL:https://rigpa.org.au/event/turning-suffering-and-happiness-into-enlightenment-term-4-online/2024-10-18/
LOCATION:Online via Zoom\, Australia
CATEGORIES:Established Students,Newcastle,Newcastle - Established Students,Online
ATTACH;FMTTYPE=image/png:https://rigpa.org.au/wp-content/uploads/2023/11/Turning-Suffering-and-Happiness-into-Enlightenment.png
ORGANIZER;CN="Rigpa Newcastle":MAILTO:newcastle@rigpa.org.au
END:VEVENT
BEGIN:VEVENT
DTSTART;TZID=Australia/Melbourne:20241019T103000
DTEND;TZID=Australia/Melbourne:20241019T123000
DTSTAMP:20260426T051941
CREATED:20231101T002244Z
LAST-MODIFIED:20231101T002244Z
UID:10001076-1729333800-1729341000@rigpa.org.au
SUMMARY:Cultivating Compassion: A Practical Guide to Being Kind | Online
DESCRIPTION:In a world full of turmoil\, stress\, anxiety and disconnect\, we are all looking for simple\, practical ways in which we can nurture our own inner goodness and find the peace and courage to live well. \nGeshe Chekawa’s summation of the Tibetan Buddhist guidelines for living a compassionate life\, known as the Seven Points of Mind Training\, have guided practitioners for more than a thousand years. His pithy slogans open the way for each of us to nurture our own compassionate nature and put compassion into action in everyday life. These slogans offer a vital practical antidote to despair and despondency. \nCultivating Compassion presents teachings on the Seven Points given by Jetsün Khandro Rinpoche accompanied by reflections from Traleg Rinpoche. \nJetsün Khandro Rinpoche is one of the outstanding meditation teachers of our time. She is known for her penetrating wisdom and humour\, conveying the Buddhist teachings in a concise and lively manner\, enriched with personal anecdotes\, which are of particular relevance to the everyday life of the modern\, fast-paced world. \nFrom the early 1980s onwards\, Traleg Kyabgon Rinpoche was a pioneer in bringing Tibetan Buddhism to Australia and was a strong advocate of non-sectarianism. He taught extensively on many aspects of Buddhist psychology and philosophy\, comparative religion\, and Buddhist and Western thought. \nThis program is open to all\, but does assume some familiarity with meditation and the Buddhist understanding of interdependence.
URL:https://rigpa.org.au/event/cultivating-compassion-a-practical-guide-to-being-kind-online/2024-10-19/
LOCATION:Online via Zoom\, Australia
CATEGORIES:Established Students,For Everyone,Online
ATTACH;FMTTYPE=image/png:https://rigpa.org.au/wp-content/uploads/2023/11/Cultivating-Compassion.png
ORGANIZER;CN="Rigpa Sydney":MAILTO:sydney@rigpa.org.au
END:VEVENT
BEGIN:VEVENT
DTSTART;TZID=Australia/Melbourne:20241022T190000
DTEND;TZID=Australia/Melbourne:20241022T210000
DTSTAMP:20260426T051941
CREATED:20240629T224025Z
LAST-MODIFIED:20241026T012913Z
UID:10003203-1729623600-1729630800@rigpa.org.au
SUMMARY:Bring a Big Heart to Everything that You Do
DESCRIPTION:Much as we may wish to be kind\, caring and loving\, often this may be difficult for us in practice. As we move from wishing to be more compassionate to grappling with how we put this into action\, the Buddhist teachings include six tools in a how-to guide: \n1. Generosity: cultivating the attitude of generosity. \n2. Discipline: refraining from harm. \n3. Patience: not being perturbed by anything. \n4. Diligence: finding joy in what is virtuous\, positive or wholesome. \n5. Meditative concentration: not being distracted. \n6. Wisdom: the perfect discrimination of all knowable things. \nThese are known as the Six Paramitas\, or transcendent perfections and contain all the vital skills needed for us to transform our mind \nand open our heart. \nThis ten-week course addresses each of the Six Paramitas in turn\, offering a wealth of practical advice to help us put our best biggest heart into \naction everyday. \nHeld over ten Tuesday evenings from 7 – 9pm\, from 15 October to 17 December\, 2024.\nMelbourne: 803 Nicholson St\, Carlton North\nSydney: 158 Australia St\, Newtown\nOnline via Zoom \nNote – this course is also known as Module 4 of the Wisdom of Compassion full year course. New students are welcome to join this module \nLed by western meditation instructors with many years of experience\, each session consists of: \n\nVideo teachings from Tibetan and Western Buddhist masters including Sogyal Rinpoche\, Jetsün Khandro Rinpoche\, Ringu Tulku Rinpoche\, Mingyur Rinpoche\, Pema Chödrön and Sharon Salzberg;\nMeditation practice;\nTime for contemplation;\nGroup discussions and Q&A\, offering each student the opportunity to explore the teachings and practices in an open supportive environment and to connect with a community of practitioners.\n\nFREE for Rigpa members/subscribers using a discount code. Email sydney@rigpa.org.au for the code.
URL:https://rigpa.org.au/event/bring-a-big-heart-to-everything-that-you-do/2024-10-22/
LOCATION:Rigpa Sydney\, 158 Australia St\, Newtown\, Sydney\, NSW\, 2042\, Australia
CATEGORIES:For Everyone,Melbourne - Everyone,Online,Sydney - Everyone
ORGANIZER;CN="Rigpa Sydney":MAILTO:sydney@rigpa.org.au
END:VEVENT
BEGIN:VEVENT
DTSTART;TZID=Australia/Melbourne:20241023T183000
DTEND;TZID=Australia/Melbourne:20241023T203000
DTSTAMP:20260426T051941
CREATED:20240805T014131Z
LAST-MODIFIED:20241026T013346Z
UID:10003316-1729708200-1729715400@rigpa.org.au
SUMMARY:Inspring a Revolution in Your Heart and Mind | The Spiritual Path
DESCRIPTION:The first declaration that the Buddha made at the time of his enlightenment was: “Profound peace\, free of complexity\, natural simplicity\, uncompounded luminosity.” This module of Inspiring a Revolution in Your Heart and Mind examines what enlightenment is and explores the practical training of the Tibetan Buddhist Dzogchen Path in terms of View\, Meditation and Action. To see directly the absolute state\, the Ground of our being\, is the View; the way of stabilizing that View and making it an unbroken experience is Meditation; and integrating the View into our entire reality\, and life\, is what is meant by Action.
URL:https://rigpa.org.au/event/inspring-a-revolution-in-your-heart-and-mind-the-spiritual-path/2024-10-23/
LOCATION:Rigpa Sydney\, 158 Australia St\, Newtown\, Sydney\, NSW\, 2042\, Australia
CATEGORIES:For Everyone,Online,Sydney - Established,Sydney - Everyone
ORGANIZER;CN="Rigpa Sydney":MAILTO:sydney@rigpa.org.au
END:VEVENT
BEGIN:VEVENT
DTSTART;TZID=Australia/Melbourne:20241023T183000
DTEND;TZID=Australia/Melbourne:20241023T203000
DTSTAMP:20260426T051941
CREATED:20240805T014650Z
LAST-MODIFIED:20240805T020145Z
UID:10003368-1729708200-1729715400@rigpa.org.au
SUMMARY:Inspiring a Revolution in Your Heart and Mind | Open Heart
DESCRIPTION:An introduction to the Tibetan Buddhist compassion practices with a particular focus on loving kindness practice. Meditating on loving kindness can help us restore our love and confidence\, and heal unresolved emotional wounds. It also puts us back in touch with the fundamental goodness of our core being\, and once that has happened\, we are able to love ourselves and others.
URL:https://rigpa.org.au/event/inspiring-a-revolution-in-your-heart-and-mind-open-heart/2024-10-23/
LOCATION:Rigpa Sydney\, 158 Australia St\, Newtown\, Sydney\, NSW\, 2042\, Australia
CATEGORIES:For Everyone,Online,Sydney - Everyone
END:VEVENT
BEGIN:VEVENT
DTSTART;TZID=Australia/Sydney:20241025T093000
DTEND;TZID=Australia/Sydney:20241025T113000
DTSTAMP:20260426T051941
CREATED:20240918T064914Z
LAST-MODIFIED:20240920T021408Z
UID:10003521-1729848600-1729855800@rigpa.org.au
SUMMARY:Turning Suffering and Happiness into Enlightenment/Term 4/Online
DESCRIPTION:The Buddhist teachings show us a way to find a deep sense of fulfillment that does not depend on outer circumstances and is naturally ours. Through a process of reflection and meditation\, we find inner strength\, which allows us to fully and fearlessly engage with everything we experience in our lives. Then\, all our experiences – happy or sad\, good or bad – will become a source of personal growth and spiritual awakening: they have the potential to open our eyes and our heart\, and make us grow wiser and more compassionate. \nTurning Suffering and Happiness into Enlightenment will present teachings that offer commentary of the classic\, short and pithy text\, Taking Happiness and Suffering on our Path\, by the great Dzogchen master Dodrupchen Jigme Tenpe Nyima. This text presents the Buddha’s teachings on how to transform suffering and happiness in a manner that is easy to understand and put into practice. \nDetails for Term 4 \nWhere: Online \nWhen: Friday mornings\, Five sessions\, 18 October to 15 November \nTime: 9.30am – 11:30 am\, Australian Eastern Daylight Savings Time \nThis is the fourth term of a year-long course. If you wish to join after the first two weeks of a term then please register and pay a pro rata amount by sending  an email enquiry to newcastle@rigpa.org.au. If you are a newer student and would like to study this text please email Rigpa Newcastle   newcastle@rigpa.org.au. \nCost for Term 4: \nFive sessions: Full $100\, Concession $50 \nIf you are experiencing financial hardship please email us at newcastle@rigpa.org.au to request a further concession. \nFREE for Rigpa members/subscribers. Please email newcastle@rigpa.org.au to request the discount code.
URL:https://rigpa.org.au/event/turning-suffering-and-happiness-into-enlightenment-term-4-online/2024-10-25/
LOCATION:Online via Zoom\, Australia
CATEGORIES:Established Students,Newcastle,Newcastle - Established Students,Online
ATTACH;FMTTYPE=image/png:https://rigpa.org.au/wp-content/uploads/2023/11/Turning-Suffering-and-Happiness-into-Enlightenment.png
ORGANIZER;CN="Rigpa Newcastle":MAILTO:newcastle@rigpa.org.au
END:VEVENT
BEGIN:VEVENT
DTSTART;TZID=Australia/Melbourne:20241029T190000
DTEND;TZID=Australia/Melbourne:20241029T210000
DTSTAMP:20260426T051941
CREATED:20240629T224025Z
LAST-MODIFIED:20241026T012913Z
UID:10003204-1730228400-1730235600@rigpa.org.au
SUMMARY:Bring a Big Heart to Everything that You Do
DESCRIPTION:Much as we may wish to be kind\, caring and loving\, often this may be difficult for us in practice. As we move from wishing to be more compassionate to grappling with how we put this into action\, the Buddhist teachings include six tools in a how-to guide: \n1. Generosity: cultivating the attitude of generosity. \n2. Discipline: refraining from harm. \n3. Patience: not being perturbed by anything. \n4. Diligence: finding joy in what is virtuous\, positive or wholesome. \n5. Meditative concentration: not being distracted. \n6. Wisdom: the perfect discrimination of all knowable things. \nThese are known as the Six Paramitas\, or transcendent perfections and contain all the vital skills needed for us to transform our mind \nand open our heart. \nThis ten-week course addresses each of the Six Paramitas in turn\, offering a wealth of practical advice to help us put our best biggest heart into \naction everyday. \nHeld over ten Tuesday evenings from 7 – 9pm\, from 15 October to 17 December\, 2024.\nMelbourne: 803 Nicholson St\, Carlton North\nSydney: 158 Australia St\, Newtown\nOnline via Zoom \nNote – this course is also known as Module 4 of the Wisdom of Compassion full year course. New students are welcome to join this module \nLed by western meditation instructors with many years of experience\, each session consists of: \n\nVideo teachings from Tibetan and Western Buddhist masters including Sogyal Rinpoche\, Jetsün Khandro Rinpoche\, Ringu Tulku Rinpoche\, Mingyur Rinpoche\, Pema Chödrön and Sharon Salzberg;\nMeditation practice;\nTime for contemplation;\nGroup discussions and Q&A\, offering each student the opportunity to explore the teachings and practices in an open supportive environment and to connect with a community of practitioners.\n\nFREE for Rigpa members/subscribers using a discount code. Email sydney@rigpa.org.au for the code.
URL:https://rigpa.org.au/event/bring-a-big-heart-to-everything-that-you-do/2024-10-29/
LOCATION:Rigpa Sydney\, 158 Australia St\, Newtown\, Sydney\, NSW\, 2042\, Australia
CATEGORIES:For Everyone,Melbourne - Everyone,Online,Sydney - Everyone
ORGANIZER;CN="Rigpa Sydney":MAILTO:sydney@rigpa.org.au
END:VEVENT
BEGIN:VEVENT
DTSTART;TZID=Australia/Melbourne:20241030T183000
DTEND;TZID=Australia/Melbourne:20241030T203000
DTSTAMP:20260426T051941
CREATED:20240805T014131Z
LAST-MODIFIED:20241026T013346Z
UID:10003317-1730313000-1730320200@rigpa.org.au
SUMMARY:Inspring a Revolution in Your Heart and Mind | The Spiritual Path
DESCRIPTION:The first declaration that the Buddha made at the time of his enlightenment was: “Profound peace\, free of complexity\, natural simplicity\, uncompounded luminosity.” This module of Inspiring a Revolution in Your Heart and Mind examines what enlightenment is and explores the practical training of the Tibetan Buddhist Dzogchen Path in terms of View\, Meditation and Action. To see directly the absolute state\, the Ground of our being\, is the View; the way of stabilizing that View and making it an unbroken experience is Meditation; and integrating the View into our entire reality\, and life\, is what is meant by Action.
URL:https://rigpa.org.au/event/inspring-a-revolution-in-your-heart-and-mind-the-spiritual-path/2024-10-30/
LOCATION:Rigpa Sydney\, 158 Australia St\, Newtown\, Sydney\, NSW\, 2042\, Australia
CATEGORIES:For Everyone,Online,Sydney - Established,Sydney - Everyone
ORGANIZER;CN="Rigpa Sydney":MAILTO:sydney@rigpa.org.au
END:VEVENT
BEGIN:VEVENT
DTSTART;TZID=Australia/Melbourne:20241030T183000
DTEND;TZID=Australia/Melbourne:20241030T203000
DTSTAMP:20260426T051941
CREATED:20240805T014650Z
LAST-MODIFIED:20240805T020145Z
UID:10003369-1730313000-1730320200@rigpa.org.au
SUMMARY:Inspiring a Revolution in Your Heart and Mind | Open Heart
DESCRIPTION:An introduction to the Tibetan Buddhist compassion practices with a particular focus on loving kindness practice. Meditating on loving kindness can help us restore our love and confidence\, and heal unresolved emotional wounds. It also puts us back in touch with the fundamental goodness of our core being\, and once that has happened\, we are able to love ourselves and others.
URL:https://rigpa.org.au/event/inspiring-a-revolution-in-your-heart-and-mind-open-heart/2024-10-30/
LOCATION:Rigpa Sydney\, 158 Australia St\, Newtown\, Sydney\, NSW\, 2042\, Australia
CATEGORIES:For Everyone,Online,Sydney - Everyone
END:VEVENT
END:VCALENDAR