BEGIN:VCALENDAR
VERSION:2.0
PRODID:-//Rigpa Australia - ECPv6.15.20//NONSGML v1.0//EN
CALSCALE:GREGORIAN
METHOD:PUBLISH
X-WR-CALNAME:Rigpa Australia
X-ORIGINAL-URL:https://rigpa.org.au
X-WR-CALDESC:Events for Rigpa Australia
REFRESH-INTERVAL;VALUE=DURATION:PT1H
X-Robots-Tag:noindex
X-PUBLISHED-TTL:PT1H
BEGIN:VTIMEZONE
TZID:Australia/Melbourne
BEGIN:STANDARD
TZOFFSETFROM:+1100
TZOFFSETTO:+1000
TZNAME:AEST
DTSTART:20250405T160000
END:STANDARD
BEGIN:DAYLIGHT
TZOFFSETFROM:+1000
TZOFFSETTO:+1100
TZNAME:AEDT
DTSTART:20251004T160000
END:DAYLIGHT
BEGIN:STANDARD
TZOFFSETFROM:+1100
TZOFFSETTO:+1000
TZNAME:AEST
DTSTART:20260404T160000
END:STANDARD
BEGIN:DAYLIGHT
TZOFFSETFROM:+1000
TZOFFSETTO:+1100
TZNAME:AEDT
DTSTART:20261003T160000
END:DAYLIGHT
BEGIN:STANDARD
TZOFFSETFROM:+1100
TZOFFSETTO:+1000
TZNAME:AEST
DTSTART:20270403T160000
END:STANDARD
BEGIN:DAYLIGHT
TZOFFSETFROM:+1000
TZOFFSETTO:+1100
TZNAME:AEDT
DTSTART:20271002T160000
END:DAYLIGHT
END:VTIMEZONE
BEGIN:VEVENT
DTSTART;TZID=Australia/Melbourne:20260424T093000
DTEND;TZID=Australia/Melbourne:20260424T113000
DTSTAMP:20260423T211408
CREATED:20260319T061419Z
LAST-MODIFIED:20260325T102755Z
UID:10009380-1777023000-1777030200@rigpa.org.au
SUMMARY:Enlightened Courage: the Secret to Training and Transforming your Mind with Wisdom and Compassion. Term Six\, 2026.
DESCRIPTION:Enlightened Courage: the secret to training and transforming your mind with wisdom and compassion. \nTerm 6\, 11 Sessions\, 24 April – 3 July\, \nOnline via Zoom and In Person\, 2/2 Smith Street\, Charlestown\, 2290 \nFridays\, 9.30am – 11.30am. \n/MAHAYANA/ \nThis class is a continuing course made up of terms. The class features teachings from Sogyal Rinpoche\, Jetsun Khandro Rinpoche and Patrick Gaffney\, this weekly course presents the Mahayana Seven Points of Mind Training. These points lay out a path of formal meditation practice\, along with guidelines for extending that practice into everyday life. \nThese teachings are precious and unique in presenting the entire depth and breadth of the Buddha’s Mahayana teachings succinctly and practically. Mahayana mind training offers an approach to life that is straightforward\, grounded in sanity\, kindness\, and compassion. Yet it also offers a vision that completely transcends our ordinary way of viewing ourselves and others\, with an all-encompassing vision of enlightenment. \nAt the heart of this vision of enlightenment is the view that our innate\, fundamental identity is vast\, luminous and utterly awake. The Mahayana teachings refer to this as our enlightened heart\, or bodhicitta. Enlightenment is nothing other than who we really are. But for most of us\, our true nature is like a hidden treasure\, concealed behind layers of mental activity and preoccupation. Mahayana mind training helps us give expression to our enlightened heart in everything we think\, say and do. \nFounded on a practice lineage that has been actively practised for hundreds of years\, these teachings are completely relevant to the challenges posed by our modern\, globalised life. \n 11 weekly classes: Term 6\, Friday Mornings\, 24 April – 3 July. \n 9.30am – 11.30am Australian Eastern Standard Time \nOnline via Zoom and In Person at 2/2 Smith Street\, Charlestown. 2290 \nfull $220\, concession $110 \nFree for Rigpa subscribers/ members (  please email newcastle@rigpa.org.au to request the subscriber discount code ). \nThis is the sixth term of a continuing course. If you wish to join after the first two weeks of a term then please register and pay a pro rata amount by sending  an email enquiry to newcastle@rigpa.org.au. If you are a newer student and would like to study this text please email Rigpa Newcastle at newcastle@rigpa.org.au. 
URL:https://rigpa.org.au/event/enlightened-courage-the-secret-to-training-and-transforming-your-mind-with-wisdom-and-compassion-term-six-2026/2026-04-24/
LOCATION:Rigpa Newcastle\, 2/2 Smith Street\, Charlestown\, nsw\, 2290\, Australia
CATEGORIES:Established Students,Newcastle - Established Students,Online
ATTACH;FMTTYPE=image/jpeg:https://rigpa.org.au/wp-content/uploads/2026/03/Enlightened-Courage-Square-2.jpg
ORGANIZER;CN="Rigpa Newcastle":MAILTO:newcastle@rigpa.org.au
END:VEVENT
BEGIN:VEVENT
DTSTART;TZID=Australia/Melbourne:20260430T180000
DTEND;TZID=Australia/Melbourne:20260430T193000
DTSTAMP:20260423T211408
CREATED:20241118T042813Z
LAST-MODIFIED:20241120T083842Z
UID:10003748-1777572000-1777577400@rigpa.org.au
SUMMARY:The All Encompassing Path to Enlightenment
DESCRIPTION:The All-Encompassing Path to Enlightenment (AEPE) is the main study programme in Rigpa\, for students of all levels: new\, more advanced or in-between. This year\, the AEPE will explore the main principles of the preliminary practices\, called Ngöndro in Tibetan. Our most experienced Rigpa teachers will guide us through the key principles of the Ngöndro\, helping us to explore these principles in a fresh\, up-to-date\, real life way\, while preserving their authenticity. \nThese practices are a complete path in themselves and also the foundation for Vajrayana and Dzogchen practice\, encompassing all the elements needed to prepare us to fully receive the Great Perfection teachings of Dzogchen\, the highest and most direct stream of wisdom within the Tibetan Buddhist tradition. So no matter where we are on our path\, the AEPE will support us in taking it to completion.  \nThursday evenings\, all year\n 6:00-7:30pm AEDT (8:00am CET\, 2:00am Mon US East) \nOnline via Zoom
URL:https://rigpa.org.au/event/the-all-encompassing-path-to-enlightenment/2026-04-30/
LOCATION:Online via Zoom\, Australia
CATEGORIES:Established Students,Newcastle - Established Students,Online
ATTACH;FMTTYPE=image/png:https://rigpa.org.au/wp-content/uploads/2024/11/The-All-Encompassing-Path.png
END:VEVENT
END:VCALENDAR