BEGIN:VCALENDAR
VERSION:2.0
PRODID:-//Rigpa Australia - ECPv6.15.20//NONSGML v1.0//EN
CALSCALE:GREGORIAN
METHOD:PUBLISH
X-ORIGINAL-URL:https://rigpa.org.au
X-WR-CALDESC:Events for Rigpa Australia
REFRESH-INTERVAL;VALUE=DURATION:PT1H
X-Robots-Tag:noindex
X-PUBLISHED-TTL:PT1H
BEGIN:VTIMEZONE
TZID:Australia/Melbourne
BEGIN:STANDARD
TZOFFSETFROM:+1100
TZOFFSETTO:+1000
TZNAME:AEST
DTSTART:20230401T160000
END:STANDARD
BEGIN:DAYLIGHT
TZOFFSETFROM:+1000
TZOFFSETTO:+1100
TZNAME:AEDT
DTSTART:20230930T160000
END:DAYLIGHT
BEGIN:STANDARD
TZOFFSETFROM:+1100
TZOFFSETTO:+1000
TZNAME:AEST
DTSTART:20240406T160000
END:STANDARD
BEGIN:DAYLIGHT
TZOFFSETFROM:+1000
TZOFFSETTO:+1100
TZNAME:AEDT
DTSTART:20241005T160000
END:DAYLIGHT
BEGIN:STANDARD
TZOFFSETFROM:+1100
TZOFFSETTO:+1000
TZNAME:AEST
DTSTART:20250405T160000
END:STANDARD
BEGIN:DAYLIGHT
TZOFFSETFROM:+1000
TZOFFSETTO:+1100
TZNAME:AEDT
DTSTART:20251004T160000
END:DAYLIGHT
BEGIN:STANDARD
TZOFFSETFROM:+1100
TZOFFSETTO:+1000
TZNAME:AEST
DTSTART:20260404T160000
END:STANDARD
BEGIN:DAYLIGHT
TZOFFSETFROM:+1000
TZOFFSETTO:+1100
TZNAME:AEDT
DTSTART:20261003T160000
END:DAYLIGHT
BEGIN:STANDARD
TZOFFSETFROM:+1100
TZOFFSETTO:+1000
TZNAME:AEST
DTSTART:20270403T160000
END:STANDARD
BEGIN:DAYLIGHT
TZOFFSETFROM:+1000
TZOFFSETTO:+1100
TZNAME:AEDT
DTSTART:20271002T160000
END:DAYLIGHT
END:VTIMEZONE
BEGIN:VTIMEZONE
TZID:Australia/Sydney
BEGIN:STANDARD
TZOFFSETFROM:+1100
TZOFFSETTO:+1000
TZNAME:AEST
DTSTART:20230401T160000
END:STANDARD
BEGIN:DAYLIGHT
TZOFFSETFROM:+1000
TZOFFSETTO:+1100
TZNAME:AEDT
DTSTART:20230930T160000
END:DAYLIGHT
BEGIN:STANDARD
TZOFFSETFROM:+1100
TZOFFSETTO:+1000
TZNAME:AEST
DTSTART:20240406T160000
END:STANDARD
BEGIN:DAYLIGHT
TZOFFSETFROM:+1000
TZOFFSETTO:+1100
TZNAME:AEDT
DTSTART:20241005T160000
END:DAYLIGHT
BEGIN:STANDARD
TZOFFSETFROM:+1100
TZOFFSETTO:+1000
TZNAME:AEST
DTSTART:20250405T160000
END:STANDARD
BEGIN:DAYLIGHT
TZOFFSETFROM:+1000
TZOFFSETTO:+1100
TZNAME:AEDT
DTSTART:20251004T160000
END:DAYLIGHT
END:VTIMEZONE
BEGIN:VEVENT
DTSTART;TZID=Australia/Melbourne:20260423T180000
DTEND;TZID=Australia/Melbourne:20260423T193000
DTSTAMP:20260424T024427
CREATED:20241118T042813Z
LAST-MODIFIED:20241120T083842Z
UID:10003747-1776967200-1776972600@rigpa.org.au
SUMMARY:The All Encompassing Path to Enlightenment
DESCRIPTION:The All-Encompassing Path to Enlightenment (AEPE) is the main study programme in Rigpa\, for students of all levels: new\, more advanced or in-between. This year\, the AEPE will explore the main principles of the preliminary practices\, called Ngöndro in Tibetan. Our most experienced Rigpa teachers will guide us through the key principles of the Ngöndro\, helping us to explore these principles in a fresh\, up-to-date\, real life way\, while preserving their authenticity. \nThese practices are a complete path in themselves and also the foundation for Vajrayana and Dzogchen practice\, encompassing all the elements needed to prepare us to fully receive the Great Perfection teachings of Dzogchen\, the highest and most direct stream of wisdom within the Tibetan Buddhist tradition. So no matter where we are on our path\, the AEPE will support us in taking it to completion.  \nThursday evenings\, all year\n 6:00-7:30pm AEDT (8:00am CET\, 2:00am Mon US East) \nOnline via Zoom
URL:https://rigpa.org.au/event/the-all-encompassing-path-to-enlightenment/2026-04-23/
LOCATION:Online via Zoom\, Australia
CATEGORIES:Established Students,Newcastle - Established Students,Online
ATTACH;FMTTYPE=image/png:https://rigpa.org.au/wp-content/uploads/2024/11/The-All-Encompassing-Path.png
END:VEVENT
BEGIN:VEVENT
DTSTART;TZID=Australia/Melbourne:20260327T093000
DTEND;TZID=Australia/Melbourne:20260327T113000
DTSTAMP:20260424T024427
CREATED:20251128T024609Z
LAST-MODIFIED:20251128T024655Z
UID:10006855-1774603800-1774611000@rigpa.org.au
SUMMARY:Enlightened Courage: the Secret to Training and Transforming your Mind with Wisdom and Compassion. Term Five\, 2026.
DESCRIPTION:Enlightened Courage: the secret to training and transforming your mind with wisdom and compassion. \nTerm 5\, 8 Sessions\, 6 February – 27 March\, \nOnline – Fridays\, 9.30am – 11.30am. \n/MAHAYANA/ \nThis class is a continuing course made up of terms. The class features teachings from Sogyal Rinpoche\, Jetsun Khandro Rinpoche and Patrick Gaffney\, this weekly course presents the Mahayana Seven Points of Mind Training. These points lay out a path of formal meditation practice\, along with guidelines for extending that practice into everyday life. \nThese teachings are precious and unique in presenting the entire depth and breadth of the Buddha’s Mahayana teachings succinctly and practically. Mahayana mind training offers an approach to life that is straightforward\, grounded in sanity\, kindness\, and compassion. Yet it also offers a vision that completely transcends our ordinary way of viewing ourselves and others\, with an all-encompassing vision of enlightenment. \nAt the heart of this vision of enlightenment is the view that our innate\, fundamental identity is vast\, luminous and utterly awake. The Mahayana teachings refer to this as our enlightened heart\, or bodhicitta. Enlightenment is nothing other than who we really are. But for most of us\, our true nature is like a hidden treasure\, concealed behind layers of mental activity and preoccupation. Mahayana mind training helps us give expression to our enlightened heart in everything we think\, say and do. \nFounded on a practice lineage that has been actively practised for hundreds of years\, these teachings are completely relevant to the challenges posed by our modern\, globalised life. \n🗓️ 8 weekly classes: Term 5\, Friday Mornings\, 6 February – 27 March. \n⏰ 9.30am – 11.30am Australian Eastern Standard Time \n📍Online via Zoom \n💰full $160\, concession $80 \nFree for Rigpa subscribers/ members (  please email newcastle@rigpa.org.au to request the subscriber discount code ). \nThis is the fifth term of a continuing course. If you wish to join after the first two weeks of a term then please register and pay a pro rata amount by sending  an email enquiry to newcastle@rigpa.org.au. If you are a newer student and would like to study this text please email Rigpa Newcastle at newcastle@rigpa.org.au. 
URL:https://rigpa.org.au/event/enlightened-courage-the-secret-to-training-and-transforming-your-mind-with-wisdom-and-compassion-term-five-2026/2026-03-27/
LOCATION:Online via Zoom\, Australia
CATEGORIES:Established Students,Newcastle,Newcastle - Established Students,Online
ATTACH;FMTTYPE=image/jpeg:https://rigpa.org.au/wp-content/uploads/2024/11/Enlightened-Courage-Square.jpg
ORGANIZER;CN="Rigpa Newcastle":MAILTO:newcastle@rigpa.org.au
END:VEVENT
BEGIN:VEVENT
DTSTART;TZID=Australia/Sydney:20241115T093000
DTEND;TZID=Australia/Sydney:20241115T113000
DTSTAMP:20260424T024427
CREATED:20240918T064914Z
LAST-MODIFIED:20240920T021408Z
UID:10003524-1731663000-1731670200@rigpa.org.au
SUMMARY:Turning Suffering and Happiness into Enlightenment/Term 4/Online
DESCRIPTION:The Buddhist teachings show us a way to find a deep sense of fulfillment that does not depend on outer circumstances and is naturally ours. Through a process of reflection and meditation\, we find inner strength\, which allows us to fully and fearlessly engage with everything we experience in our lives. Then\, all our experiences – happy or sad\, good or bad – will become a source of personal growth and spiritual awakening: they have the potential to open our eyes and our heart\, and make us grow wiser and more compassionate. \nTurning Suffering and Happiness into Enlightenment will present teachings that offer commentary of the classic\, short and pithy text\, Taking Happiness and Suffering on our Path\, by the great Dzogchen master Dodrupchen Jigme Tenpe Nyima. This text presents the Buddha’s teachings on how to transform suffering and happiness in a manner that is easy to understand and put into practice. \nDetails for Term 4 \nWhere: Online \nWhen: Friday mornings\, Five sessions\, 18 October to 15 November \nTime: 9.30am – 11:30 am\, Australian Eastern Daylight Savings Time \nThis is the fourth term of a year-long course. If you wish to join after the first two weeks of a term then please register and pay a pro rata amount by sending  an email enquiry to newcastle@rigpa.org.au. If you are a newer student and would like to study this text please email Rigpa Newcastle   newcastle@rigpa.org.au. \nCost for Term 4: \nFive sessions: Full $100\, Concession $50 \nIf you are experiencing financial hardship please email us at newcastle@rigpa.org.au to request a further concession. \nFREE for Rigpa members/subscribers. Please email newcastle@rigpa.org.au to request the discount code.
URL:https://rigpa.org.au/event/turning-suffering-and-happiness-into-enlightenment-term-4-online/2024-11-15/
LOCATION:Online via Zoom\, Australia
CATEGORIES:Established Students,Newcastle,Newcastle - Established Students,Online
ATTACH;FMTTYPE=image/png:https://rigpa.org.au/wp-content/uploads/2023/11/Turning-Suffering-and-Happiness-into-Enlightenment.png
ORGANIZER;CN="Rigpa Newcastle":MAILTO:newcastle@rigpa.org.au
END:VEVENT
BEGIN:VEVENT
DTSTART;TZID=Australia/Melbourne:20240804T093000
DTEND;TZID=Australia/Melbourne:20240804T130000
DTSTAMP:20260424T024427
CREATED:20240708T091144Z
LAST-MODIFIED:20240708T091926Z
UID:10003291-1722763800-1722776400@rigpa.org.au
SUMMARY:August Monthly Sangha Gathering: The Way of the Great Perfection
DESCRIPTION:Sunday 4 August\, 9.30am-1.00pm\nIn Person at the Sydney Centre (158 Australia Street\, Newtown) & Online \nIn August we will present: Liberation: Is it possible in this life? – a teaching by Alain Beauregard \nNo matter who we are\, we all share the same wish to be happy and free from suffering. But when we are immersed in the responsibilities of this life and in all our frenetic daily activity\, it may seem impossible to achieve liberation\, that is only for special beings. But nothing could be further from the truth: when we realize the suffering caused by our way of living in samsara\, a desire arises within us to be free from it\, and the practice of the dharma offers us the possibility of liberation in this life. \nThis session is part of our Monthly Sangha Gathering series presenting highlights from: The Way of the Great Perfection \, a new cycle of the All-Encompassing Path to Enlightenment. \nThe ground is our buddha nature\, \nThe support is this precious human life\, \nThe wonderful circumstance is meeting a spiritual teacher\, and \nThe method is the pith instructions through which we can realise our true nature\, the buddha. \nGampopa\, The Jewel Ornament of Liberation \nThe All-Encompassing Path to Enlightenment is the main study programme in Rigpa\, for students of all levels: new\, more advanced or in-between. In this cycle\, The Way of the Great Perfection\, we will explore the main principles of the preliminary practices in a fresh way. These practices are a complete path in themselves and also the foundation for Vajrayana and Dzogchen practice. \nThe preliminary practices\, called Ngöndro in Tibetan\, encompasses all the elements needed to prepare us to fully receive the Great Perfection teachings of Dzogchen\, the highest and most direct stream of wisdom within the Buddhist tradition of Tibet. \nSo no matter where we are on our path\, this new cycle will support us in taking it to completion. Our senior and most experienced Rigpa teachers will guide us through the key principles of the Ngöndro\, helping us to discover or revisit these principles in a fresh\, up-to-date\, real life way\, while preserving their authenticity. \nEach session will offer guided contemplations\, group meditations\, exercises and discussions. \nThe goal of this multi-year programme of The Way of the Great Perfection is for us to arrive at a thorough and complete understanding of what the teachings tell us about the different methods of Buddhist practice\, to reach a complete certainty on how we apply them in daily life\, and ultimately realise the innermost nature of our own minds. \nWe warmly invite you to attend in person at our National Centre in Newtown but if this is really not possible for you\, you may join online by Zoom. \nHeld on one Sunday each Month\, 9.30am – 1.00pm \nNext sessions on 4 August\, 1 September\, 27 October\, 3 November\, 1 December \nCost: Adult: $20\, Concession $10\, Rigpa Subscribers (members): free \n(Subscribers\, if you have not received a discount code\, please email sydney@rigpa.org.au.) \nPlease Note: Sangha members who wish to engage in this All Encompassing Path Program: The Way of the Great Perfection more fully please email us at newcastle@rigpa.org.au. \nLapsed sangha members who wish to reengage with sangha studies can also contact us at the above Newcastle Rigpa email address.
URL:https://rigpa.org.au/event/august-monthly-sangha-gathering-the-way-of-the-great-perfection/
LOCATION:nsw
CATEGORIES:Newcastle,Newcastle - Established Students
END:VEVENT
BEGIN:VEVENT
DTSTART;TZID=Australia/Sydney:20240726T093000
DTEND;TZID=Australia/Sydney:20240726T113000
DTSTAMP:20260424T024427
CREATED:20240526T083415Z
LAST-MODIFIED:20240627T030949Z
UID:10003160-1721986200-1721993400@rigpa.org.au
SUMMARY:Turning Suffering and Happiness into Enlightenment/Term 3/Online
DESCRIPTION:The Buddhist teachings show us a way to find a deep sense of fulfillment that does not depend on outer circumstances and is naturally ours. Through a process of reflection and meditation\, we find inner strength\, which allows us to fully and fearlessly engage with everything we experience in our lives. Then\, all our experiences – happy or sad\, good or bad – will become a source of personal growth and spiritual awakening: they have the potential to open our eyes and our heart\, and make us grow wiser and more compassionate. \nTurning Suffering and Happiness into Enlightenment will present teachings that offer commentary of the classic\, short and pithy text\, Taking Happiness and Suffering on our Path\, by the great Dzogchen master Dodrupchen Jigme Tenpe Nyima. This text presents the Buddha’s teachings on how to transform suffering and happiness in a manner that is easy to understand and put into practice. \nDetails for Term 3 \nWhere: Online \nWhen: Friday mornings\, eight sessions\, 26 July to 27 September with a break from  16th August to Friday 23rd August \nTime: 9.30am – 11:30 am\, Australian Eastern Time \n(Thursday 11.30pm Central European Time; Thursday 5.30pm US East Coast Time) \nThis is the third term of a year-long course. If you wish to join after the first two weeks of a term then please register and pay a pro rata amount by sending  an email enquiry to newcastle@rigpa.org.au. If you are a newer student and would like to study this text please email Rigpa Newcastle   newcastle@rigpa.org.au. \nCost for Term 3: \nEight sessions: Full $160\, Concession $80 \nIf you are experiencing financial hardship please email us at newcastle@rigpa.org.au to request a further concession. \nFREE for Rigpa members/subscribers. Please email newcastle@rigpa.org.au to request the discount code.
URL:https://rigpa.org.au/event/turning-suffering-and-happiness-into-enlightenment-term-3-online-2/
LOCATION:Online via Zoom\, Australia
CATEGORIES:Established Students,Newcastle,Newcastle - Established Students,Online
ATTACH;FMTTYPE=image/png:https://rigpa.org.au/wp-content/uploads/2023/11/Turning-Suffering-and-Happiness-into-Enlightenment.png
ORGANIZER;CN="Rigpa Newcastle":MAILTO:newcastle@rigpa.org.au
END:VEVENT
BEGIN:VEVENT
DTSTART;TZID=Australia/Melbourne:20240707T093000
DTEND;TZID=Australia/Melbourne:20240707T130000
DTSTAMP:20260424T024427
CREATED:20240614T072433Z
LAST-MODIFIED:20240615T044150Z
UID:10001969-1720344600-1720357200@rigpa.org.au
SUMMARY:Monthly Sangha Gathering: The Way of the Great Perfection
DESCRIPTION:On 7 July we will present: Sorting out what karma really is – a teaching by Philippe Cornu \nWe often have misleading ideas about what karma is. We confuse it with a destiny to which we are bound and cannot change. In fact\, when we really understand what karma is\, it gives us greater freedom and hope on our spiritual path. \nThis session is part of our Monthly Sangha Gathering series presenting highlights from: The Way of the Great Perfection \, a new cycle of the All-Encompassing Path to Enlightenment \nThe ground is our buddha nature\, \nThe support is this precious human life\, \nThe wonderful circumstance is meeting a spiritual teacher\, and \nThe method is the pith instructions through which we can realise our true nature\, the buddha. \nGampopa\, The Jewel Ornament of Liberation \nThe All-Encompassing Path to Enlightenment is the main study programme in Rigpa\, for students of all levels: new\, more advanced or in-between. In this cycle\, The Way of the Great Perfection\, we will explore the main principles of the preliminary practices in a fresh way. These practices are a complete path in themselves and also the foundation for Vajrayana and Dzogchen practice. \nThe preliminary practices\, called Ngöndro in Tibetan\, encompasses all the elements needed to prepare us to fully receive the Great Perfection teachings of Dzogchen\, the highest and most direct stream of wisdom within the Buddhist tradition of Tibet. \nSo no matter where we are on our path\, this new cycle will support us in taking it to completion. Our senior and most experienced Rigpa teachers will guide us through the key principles of the Ngöndro\, helping us to discover or revisit these principles in a fresh\, up-to-date\, real life way\, while preserving their authenticity. \nEach session will offer guided contemplations\, group meditations\, exercises and discussions. \nThe goal of this multi-year programme of The Way of the Great Perfection is for us to arrive at a thorough and complete understanding of what the teachings tell us about the different methods of Buddhist practice\, to reach a complete certainty on how we apply them in daily life\, and ultimately realise the innermost nature of our own minds. \nWe warmly invite you to attend in person at our National Center in Newtown. If this is really not possible for you\, you may join online by Zoom. \nHeld on one Sunday each Month\, 9.30am – 1.00pm \nNext session on 7 July\, 4 August\, 1 September\, 27 October\, 3 November\, 1 December \nCost: Adult: $20\, Concession $10\, Rigpa Subscribers (members): free \n(Subscribers\, if you have not received a discount code\, please email sydney@rigpa.org.au.)
URL:https://rigpa.org.au/event/monthly-sangha-gathering-the-way-of-the-great-perfection/
LOCATION:nsw
CATEGORIES:Newcastle,Newcastle - Established Students
END:VEVENT
END:VCALENDAR