BEGIN:VCALENDAR
VERSION:2.0
PRODID:-//Rigpa Australia - ECPv6.15.20//NONSGML v1.0//EN
CALSCALE:GREGORIAN
METHOD:PUBLISH
X-ORIGINAL-URL:https://rigpa.org.au
X-WR-CALDESC:Events for Rigpa Australia
REFRESH-INTERVAL;VALUE=DURATION:PT1H
X-Robots-Tag:noindex
X-PUBLISHED-TTL:PT1H
BEGIN:VTIMEZONE
TZID:Australia/Sydney
BEGIN:STANDARD
TZOFFSETFROM:+1100
TZOFFSETTO:+1000
TZNAME:AEST
DTSTART:20230401T160000
END:STANDARD
BEGIN:DAYLIGHT
TZOFFSETFROM:+1000
TZOFFSETTO:+1100
TZNAME:AEDT
DTSTART:20230930T160000
END:DAYLIGHT
BEGIN:STANDARD
TZOFFSETFROM:+1100
TZOFFSETTO:+1000
TZNAME:AEST
DTSTART:20240406T160000
END:STANDARD
BEGIN:DAYLIGHT
TZOFFSETFROM:+1000
TZOFFSETTO:+1100
TZNAME:AEDT
DTSTART:20241005T160000
END:DAYLIGHT
BEGIN:STANDARD
TZOFFSETFROM:+1100
TZOFFSETTO:+1000
TZNAME:AEST
DTSTART:20250405T160000
END:STANDARD
BEGIN:DAYLIGHT
TZOFFSETFROM:+1000
TZOFFSETTO:+1100
TZNAME:AEDT
DTSTART:20251004T160000
END:DAYLIGHT
END:VTIMEZONE
BEGIN:VEVENT
DTSTART;TZID=Australia/Sydney:20241018T093000
DTEND;TZID=Australia/Sydney:20241018T113000
DTSTAMP:20260425T234930
CREATED:20240918T064914Z
LAST-MODIFIED:20240920T021408Z
UID:10003520-1729243800-1729251000@rigpa.org.au
SUMMARY:Turning Suffering and Happiness into Enlightenment/Term 4/Online
DESCRIPTION:The Buddhist teachings show us a way to find a deep sense of fulfillment that does not depend on outer circumstances and is naturally ours. Through a process of reflection and meditation\, we find inner strength\, which allows us to fully and fearlessly engage with everything we experience in our lives. Then\, all our experiences – happy or sad\, good or bad – will become a source of personal growth and spiritual awakening: they have the potential to open our eyes and our heart\, and make us grow wiser and more compassionate. \nTurning Suffering and Happiness into Enlightenment will present teachings that offer commentary of the classic\, short and pithy text\, Taking Happiness and Suffering on our Path\, by the great Dzogchen master Dodrupchen Jigme Tenpe Nyima. This text presents the Buddha’s teachings on how to transform suffering and happiness in a manner that is easy to understand and put into practice. \nDetails for Term 4 \nWhere: Online \nWhen: Friday mornings\, Five sessions\, 18 October to 15 November \nTime: 9.30am – 11:30 am\, Australian Eastern Daylight Savings Time \nThis is the fourth term of a year-long course. If you wish to join after the first two weeks of a term then please register and pay a pro rata amount by sending  an email enquiry to newcastle@rigpa.org.au. If you are a newer student and would like to study this text please email Rigpa Newcastle   newcastle@rigpa.org.au. \nCost for Term 4: \nFive sessions: Full $100\, Concession $50 \nIf you are experiencing financial hardship please email us at newcastle@rigpa.org.au to request a further concession. \nFREE for Rigpa members/subscribers. Please email newcastle@rigpa.org.au to request the discount code.
URL:https://rigpa.org.au/event/turning-suffering-and-happiness-into-enlightenment-term-4-online/2024-10-18/
LOCATION:Online via Zoom\, Australia
CATEGORIES:Established Students,Newcastle,Newcastle - Established Students,Online
ATTACH;FMTTYPE=image/png:https://rigpa.org.au/wp-content/uploads/2023/11/Turning-Suffering-and-Happiness-into-Enlightenment.png
ORGANIZER;CN="Rigpa Newcastle":MAILTO:newcastle@rigpa.org.au
END:VEVENT
BEGIN:VEVENT
DTSTART;TZID=Australia/Sydney:20241025T093000
DTEND;TZID=Australia/Sydney:20241025T113000
DTSTAMP:20260425T234930
CREATED:20240918T064914Z
LAST-MODIFIED:20240920T021408Z
UID:10003521-1729848600-1729855800@rigpa.org.au
SUMMARY:Turning Suffering and Happiness into Enlightenment/Term 4/Online
DESCRIPTION:The Buddhist teachings show us a way to find a deep sense of fulfillment that does not depend on outer circumstances and is naturally ours. Through a process of reflection and meditation\, we find inner strength\, which allows us to fully and fearlessly engage with everything we experience in our lives. Then\, all our experiences – happy or sad\, good or bad – will become a source of personal growth and spiritual awakening: they have the potential to open our eyes and our heart\, and make us grow wiser and more compassionate. \nTurning Suffering and Happiness into Enlightenment will present teachings that offer commentary of the classic\, short and pithy text\, Taking Happiness and Suffering on our Path\, by the great Dzogchen master Dodrupchen Jigme Tenpe Nyima. This text presents the Buddha’s teachings on how to transform suffering and happiness in a manner that is easy to understand and put into practice. \nDetails for Term 4 \nWhere: Online \nWhen: Friday mornings\, Five sessions\, 18 October to 15 November \nTime: 9.30am – 11:30 am\, Australian Eastern Daylight Savings Time \nThis is the fourth term of a year-long course. If you wish to join after the first two weeks of a term then please register and pay a pro rata amount by sending  an email enquiry to newcastle@rigpa.org.au. If you are a newer student and would like to study this text please email Rigpa Newcastle   newcastle@rigpa.org.au. \nCost for Term 4: \nFive sessions: Full $100\, Concession $50 \nIf you are experiencing financial hardship please email us at newcastle@rigpa.org.au to request a further concession. \nFREE for Rigpa members/subscribers. Please email newcastle@rigpa.org.au to request the discount code.
URL:https://rigpa.org.au/event/turning-suffering-and-happiness-into-enlightenment-term-4-online/2024-10-25/
LOCATION:Online via Zoom\, Australia
CATEGORIES:Established Students,Newcastle,Newcastle - Established Students,Online
ATTACH;FMTTYPE=image/png:https://rigpa.org.au/wp-content/uploads/2023/11/Turning-Suffering-and-Happiness-into-Enlightenment.png
ORGANIZER;CN="Rigpa Newcastle":MAILTO:newcastle@rigpa.org.au
END:VEVENT
END:VCALENDAR