BEGIN:VCALENDAR
VERSION:2.0
PRODID:-//Rigpa Australia - ECPv6.15.20//NONSGML v1.0//EN
CALSCALE:GREGORIAN
METHOD:PUBLISH
X-WR-CALNAME:Rigpa Australia
X-ORIGINAL-URL:https://rigpa.org.au
X-WR-CALDESC:Events for Rigpa Australia
REFRESH-INTERVAL;VALUE=DURATION:PT1H
X-Robots-Tag:noindex
X-PUBLISHED-TTL:PT1H
BEGIN:VTIMEZONE
TZID:Australia/Melbourne
BEGIN:STANDARD
TZOFFSETFROM:+1100
TZOFFSETTO:+1000
TZNAME:AEST
DTSTART:20270403T160000
END:STANDARD
BEGIN:DAYLIGHT
TZOFFSETFROM:+1000
TZOFFSETTO:+1100
TZNAME:AEDT
DTSTART:20271002T160000
END:DAYLIGHT
BEGIN:STANDARD
TZOFFSETFROM:+1100
TZOFFSETTO:+1000
TZNAME:AEST
DTSTART:20280401T160000
END:STANDARD
BEGIN:DAYLIGHT
TZOFFSETFROM:+1000
TZOFFSETTO:+1100
TZNAME:AEDT
DTSTART:20280930T160000
END:DAYLIGHT
BEGIN:STANDARD
TZOFFSETFROM:+1100
TZOFFSETTO:+1000
TZNAME:AEST
DTSTART:20290331T160000
END:STANDARD
BEGIN:DAYLIGHT
TZOFFSETFROM:+1000
TZOFFSETTO:+1100
TZNAME:AEDT
DTSTART:20291006T160000
END:DAYLIGHT
END:VTIMEZONE
BEGIN:VEVENT
DTSTART;TZID=Australia/Melbourne:20280201T184500
DTEND;TZID=Australia/Melbourne:20280201T193000
DTSTAMP:20260426T041936
CREATED:20240917T123632Z
LAST-MODIFIED:20240918T124847Z
UID:10003076-1833043500-1833046200@rigpa.org.au
SUMMARY:Tuesday Evening\, Drop in Meditation\, Rigpa Newcastle.
DESCRIPTION:Tuesday Evening Drop-in Meditation\n6:45pm to 7:30pm.\nHeld at and Supported by Infuse Health.\n4/10 William Street\, Adamstown. NSW. 2289.\n  \nThe first and basic practice of meditation is to allow the mind to settle into a state of ‘calm abiding’\, where it will find peace and stability. Training in mindfulness and calm abiding (shamatha) meditation pacifies our scattered minds\, defuses our powerful emotions and overcomes distraction. \nThese sessions are perfect for busy people without any meditation experience\, right through to seasoned meditators. Step by step guidance will help you build confidence in your own meditation practice and inspire you to establish a daily practice. \nDetails\n\n\nled by experienced meditators/ Rigpa instructors\nno booking required\nmultiple short sessions of meditation\nsome gentle guidance\nplease join the session no later than about 5 minutes before the session starts\ncushions and seats provided\nFree for Infuse Health members and Rigpa students\nOptional donation for others\n\n\n 
URL:https://rigpa.org.au/event/tuesday-evening-drop-in-meditation-rigpa-newcastle-2-2/2028-02-01/
LOCATION:Rigpa Newcastle at Infuse Health\, 4/10 William Street\, Adamstown\, Newcastle\, New South Wales\, 2289\, Australia
CATEGORIES:For Everyone,Newcastle,Newcastle - All welcome
ATTACH;FMTTYPE=image/png:https://rigpa.org.au/wp-content/uploads/2024/05/newcastle-drop-in-pic-180924.png
END:VEVENT
BEGIN:VEVENT
DTSTART;TZID=Australia/Melbourne:20280208T184500
DTEND;TZID=Australia/Melbourne:20280208T193000
DTSTAMP:20260426T041936
CREATED:20240917T123632Z
LAST-MODIFIED:20240918T124847Z
UID:10003077-1833648300-1833651000@rigpa.org.au
SUMMARY:Tuesday Evening\, Drop in Meditation\, Rigpa Newcastle.
DESCRIPTION:Tuesday Evening Drop-in Meditation\n6:45pm to 7:30pm.\nHeld at and Supported by Infuse Health.\n4/10 William Street\, Adamstown. NSW. 2289.\n  \nThe first and basic practice of meditation is to allow the mind to settle into a state of ‘calm abiding’\, where it will find peace and stability. Training in mindfulness and calm abiding (shamatha) meditation pacifies our scattered minds\, defuses our powerful emotions and overcomes distraction. \nThese sessions are perfect for busy people without any meditation experience\, right through to seasoned meditators. Step by step guidance will help you build confidence in your own meditation practice and inspire you to establish a daily practice. \nDetails\n\n\nled by experienced meditators/ Rigpa instructors\nno booking required\nmultiple short sessions of meditation\nsome gentle guidance\nplease join the session no later than about 5 minutes before the session starts\ncushions and seats provided\nFree for Infuse Health members and Rigpa students\nOptional donation for others\n\n\n 
URL:https://rigpa.org.au/event/tuesday-evening-drop-in-meditation-rigpa-newcastle-2-2/2028-02-08/
LOCATION:Rigpa Newcastle at Infuse Health\, 4/10 William Street\, Adamstown\, Newcastle\, New South Wales\, 2289\, Australia
CATEGORIES:For Everyone,Newcastle,Newcastle - All welcome
ATTACH;FMTTYPE=image/png:https://rigpa.org.au/wp-content/uploads/2024/05/newcastle-drop-in-pic-180924.png
END:VEVENT
BEGIN:VEVENT
DTSTART;TZID=Australia/Melbourne:20280215T184500
DTEND;TZID=Australia/Melbourne:20280215T193000
DTSTAMP:20260426T041936
CREATED:20240917T123632Z
LAST-MODIFIED:20240918T124847Z
UID:10003078-1834253100-1834255800@rigpa.org.au
SUMMARY:Tuesday Evening\, Drop in Meditation\, Rigpa Newcastle.
DESCRIPTION:Tuesday Evening Drop-in Meditation\n6:45pm to 7:30pm.\nHeld at and Supported by Infuse Health.\n4/10 William Street\, Adamstown. NSW. 2289.\n  \nThe first and basic practice of meditation is to allow the mind to settle into a state of ‘calm abiding’\, where it will find peace and stability. Training in mindfulness and calm abiding (shamatha) meditation pacifies our scattered minds\, defuses our powerful emotions and overcomes distraction. \nThese sessions are perfect for busy people without any meditation experience\, right through to seasoned meditators. Step by step guidance will help you build confidence in your own meditation practice and inspire you to establish a daily practice. \nDetails\n\n\nled by experienced meditators/ Rigpa instructors\nno booking required\nmultiple short sessions of meditation\nsome gentle guidance\nplease join the session no later than about 5 minutes before the session starts\ncushions and seats provided\nFree for Infuse Health members and Rigpa students\nOptional donation for others\n\n\n 
URL:https://rigpa.org.au/event/tuesday-evening-drop-in-meditation-rigpa-newcastle-2-2/2028-02-15/
LOCATION:Rigpa Newcastle at Infuse Health\, 4/10 William Street\, Adamstown\, Newcastle\, New South Wales\, 2289\, Australia
CATEGORIES:For Everyone,Newcastle,Newcastle - All welcome
ATTACH;FMTTYPE=image/png:https://rigpa.org.au/wp-content/uploads/2024/05/newcastle-drop-in-pic-180924.png
END:VEVENT
BEGIN:VEVENT
DTSTART;TZID=Australia/Melbourne:20280222T184500
DTEND;TZID=Australia/Melbourne:20280222T193000
DTSTAMP:20260426T041936
CREATED:20240917T123632Z
LAST-MODIFIED:20240918T124847Z
UID:10003079-1834857900-1834860600@rigpa.org.au
SUMMARY:Tuesday Evening\, Drop in Meditation\, Rigpa Newcastle.
DESCRIPTION:Tuesday Evening Drop-in Meditation\n6:45pm to 7:30pm.\nHeld at and Supported by Infuse Health.\n4/10 William Street\, Adamstown. NSW. 2289.\n  \nThe first and basic practice of meditation is to allow the mind to settle into a state of ‘calm abiding’\, where it will find peace and stability. Training in mindfulness and calm abiding (shamatha) meditation pacifies our scattered minds\, defuses our powerful emotions and overcomes distraction. \nThese sessions are perfect for busy people without any meditation experience\, right through to seasoned meditators. Step by step guidance will help you build confidence in your own meditation practice and inspire you to establish a daily practice. \nDetails\n\n\nled by experienced meditators/ Rigpa instructors\nno booking required\nmultiple short sessions of meditation\nsome gentle guidance\nplease join the session no later than about 5 minutes before the session starts\ncushions and seats provided\nFree for Infuse Health members and Rigpa students\nOptional donation for others\n\n\n 
URL:https://rigpa.org.au/event/tuesday-evening-drop-in-meditation-rigpa-newcastle-2-2/2028-02-22/
LOCATION:Rigpa Newcastle at Infuse Health\, 4/10 William Street\, Adamstown\, Newcastle\, New South Wales\, 2289\, Australia
CATEGORIES:For Everyone,Newcastle,Newcastle - All welcome
ATTACH;FMTTYPE=image/png:https://rigpa.org.au/wp-content/uploads/2024/05/newcastle-drop-in-pic-180924.png
END:VEVENT
BEGIN:VEVENT
DTSTART;TZID=Australia/Melbourne:20280229T184500
DTEND;TZID=Australia/Melbourne:20280229T193000
DTSTAMP:20260426T041936
CREATED:20240917T123632Z
LAST-MODIFIED:20240918T124847Z
UID:10003080-1835462700-1835465400@rigpa.org.au
SUMMARY:Tuesday Evening\, Drop in Meditation\, Rigpa Newcastle.
DESCRIPTION:Tuesday Evening Drop-in Meditation\n6:45pm to 7:30pm.\nHeld at and Supported by Infuse Health.\n4/10 William Street\, Adamstown. NSW. 2289.\n  \nThe first and basic practice of meditation is to allow the mind to settle into a state of ‘calm abiding’\, where it will find peace and stability. Training in mindfulness and calm abiding (shamatha) meditation pacifies our scattered minds\, defuses our powerful emotions and overcomes distraction. \nThese sessions are perfect for busy people without any meditation experience\, right through to seasoned meditators. Step by step guidance will help you build confidence in your own meditation practice and inspire you to establish a daily practice. \nDetails\n\n\nled by experienced meditators/ Rigpa instructors\nno booking required\nmultiple short sessions of meditation\nsome gentle guidance\nplease join the session no later than about 5 minutes before the session starts\ncushions and seats provided\nFree for Infuse Health members and Rigpa students\nOptional donation for others\n\n\n 
URL:https://rigpa.org.au/event/tuesday-evening-drop-in-meditation-rigpa-newcastle-2-2/2028-02-29/
LOCATION:Rigpa Newcastle at Infuse Health\, 4/10 William Street\, Adamstown\, Newcastle\, New South Wales\, 2289\, Australia
CATEGORIES:For Everyone,Newcastle,Newcastle - All welcome
ATTACH;FMTTYPE=image/png:https://rigpa.org.au/wp-content/uploads/2024/05/newcastle-drop-in-pic-180924.png
END:VEVENT
END:VCALENDAR