BEGIN:VCALENDAR
VERSION:2.0
PRODID:-//Rigpa Australia - ECPv6.15.20//NONSGML v1.0//EN
CALSCALE:GREGORIAN
METHOD:PUBLISH
X-ORIGINAL-URL:https://rigpa.org.au
X-WR-CALDESC:Events for Rigpa Australia
REFRESH-INTERVAL;VALUE=DURATION:PT1H
X-Robots-Tag:noindex
X-PUBLISHED-TTL:PT1H
BEGIN:VTIMEZONE
TZID:Australia/Melbourne
BEGIN:STANDARD
TZOFFSETFROM:+1100
TZOFFSETTO:+1000
TZNAME:AEST
DTSTART:20240406T160000
END:STANDARD
BEGIN:DAYLIGHT
TZOFFSETFROM:+1000
TZOFFSETTO:+1100
TZNAME:AEDT
DTSTART:20241005T160000
END:DAYLIGHT
BEGIN:STANDARD
TZOFFSETFROM:+1100
TZOFFSETTO:+1000
TZNAME:AEST
DTSTART:20250405T160000
END:STANDARD
BEGIN:DAYLIGHT
TZOFFSETFROM:+1000
TZOFFSETTO:+1100
TZNAME:AEDT
DTSTART:20251004T160000
END:DAYLIGHT
BEGIN:STANDARD
TZOFFSETFROM:+1100
TZOFFSETTO:+1000
TZNAME:AEST
DTSTART:20260404T160000
END:STANDARD
BEGIN:DAYLIGHT
TZOFFSETFROM:+1000
TZOFFSETTO:+1100
TZNAME:AEDT
DTSTART:20261003T160000
END:DAYLIGHT
END:VTIMEZONE
BEGIN:VEVENT
DTSTART;TZID=Australia/Melbourne:20251119T183000
DTEND;TZID=Australia/Melbourne:20251217T203000
DTSTAMP:20260424T125904
CREATED:20251117T053406Z
LAST-MODIFIED:20251117T053448Z
UID:10006838-1763577000-1766003400@rigpa.org.au
SUMMARY:Inspiring a Revolution in Your Heart and Mind | Mind is Like the Sky - Nov/Dec - Sydney and Online
DESCRIPTION:Mind is Like the Sky: Discover Inner Peace and Contentment in the True Nature of Your Mind \nIn this course\, we will learn to: \n· Sit with what is\, cultivating a gentle curiosity toward our inner world.\n· Explore the space between thoughts\, discovering the innate clarity and peace that is always present.\n· Work with energy and emotion not as enemies\, but as natural expressions of a dynamic mind.\n· Rest in awareness itself\, moving from thinking about experience to directly knowing it.\n\nThis is a deeply experiential path. It is for those who feel a call to look inward\, to move beyond concepts\, and to touch the timeless wisdom that has illuminated hearts for centuries. No prior experience is necessary\, only an open heart and a willingness to explore.\n\nJoin us. Let’s journey together from the turbulence of the surface to the profound stillness of the depths.
URL:https://rigpa.org.au/event/inspiring-a-revolution-in-your-heart-and-mind-mind-is-like-the-sky-sydney-and-online-2/
LOCATION:
CATEGORIES:For Everyone,Newcastle - All welcome,Online,Sydney - Everyone
ATTACH;FMTTYPE=image/png:https://rigpa.org.au/wp-content/uploads/2024/11/Inspiring.png
END:VEVENT
BEGIN:VEVENT
DTSTART;TZID=Australia/Melbourne:20251201T080000
DTEND;TZID=Australia/Melbourne:20251201T170000
DTSTAMP:20260424T125904
CREATED:20251204T061747Z
LAST-MODIFIED:20251204T061816Z
UID:10006907-1764576000-1764608400@rigpa.org.au
SUMMARY:Self Forgiveness in the Light of Compassion
DESCRIPTION:A seminar with Christine Longaker \nDiscover how to live with a lighter\, kinder heart. Many of us carry beliefs that we’re unworthy of love or beyond forgiveness\, leaving us trapped in self-blame. But punishing ourselves only deepens our suffering. Through insight\, compassion\, and guided meditations\, you’ll learn to soften your “inner critic\,” release false beliefs\, and understand why you can let yourself off the hook—all of which lightens your heart. As you cultivate forgiveness and compassion for yourself\, you’ll naturally feel empathy and understanding for others— which brings more kindness and healing into your family and the entire world. \nSeminar topics:  \n●      Dismantling the barriers to self-forgiveness \n●      Understanding your life with kindness and acceptance \n●      Transforming your “inner critic” \n●      A few good reasons to let yourself off the hook \n●      Meditations that deepen authentic compassion and forgiveness for yourself and others \n  \nAbout Christine Longaker \nChristine Longaker co-founded one of the first home care hospices in California in 1978\, and helped establish the international Spiritual Care Program in 1993\, in which she trained teams of caregivers who collectively brought the vision of compassionate care for the dying to over 30\,000 people. Her book\, Facing Death and Finding Hope: A Guide to the Emotional and Spiritual Care of the Dying\, is published in eight languages. For forty years\, Christine Longaker has become an internationally renowned teacher on meditation\, compassion\, and care for the dying. Her trainings inspired the founding of four hospices and two spiritual care centers. \nLongaker was developer and faculty for the six-month “Contemplative End-of-Life Care” training that was accredited by Naropa University in Colorado. The long-term benefits of spiritual care training were demonstrated in research she co-authored that was published in the Journal of Palliative Medicine in 2005. \nBecause self-compassion is the most vital ingredient for inner healing\, building resilience and the essential precursor to having compassion for others\, Christine Longaker’s vision is to bring the skills and methods of self-compassion to many areas of endeavor. This\, combined with her decades of spiritual training and skill in communicating with diverse audiences\, bring unique insights and powerful methods to the work.
URL:https://rigpa.org.au/event/self-forgiveness-in-the-light-of-compassion-2/2025-12-01/1/
LOCATION:Online via Zoom\, Australia
CATEGORIES:For Everyone,Newcastle - All welcome,Online
ORGANIZER;CN="Rigpa Sydney":MAILTO:sydney@rigpa.org.au
END:VEVENT
BEGIN:VEVENT
DTSTART;TZID=Australia/Melbourne:20251201T190000
DTEND;TZID=Australia/Melbourne:20251201T210000
DTSTAMP:20260424T125904
CREATED:20251204T061747Z
LAST-MODIFIED:20251204T061816Z
UID:10006694-1764615600-1764622800@rigpa.org.au
SUMMARY:Self Forgiveness in the Light of Compassion
DESCRIPTION:A seminar with Christine Longaker \nDiscover how to live with a lighter\, kinder heart. Many of us carry beliefs that we’re unworthy of love or beyond forgiveness\, leaving us trapped in self-blame. But punishing ourselves only deepens our suffering. Through insight\, compassion\, and guided meditations\, you’ll learn to soften your “inner critic\,” release false beliefs\, and understand why you can let yourself off the hook—all of which lightens your heart. As you cultivate forgiveness and compassion for yourself\, you’ll naturally feel empathy and understanding for others— which brings more kindness and healing into your family and the entire world. \nSeminar topics:  \n●      Dismantling the barriers to self-forgiveness \n●      Understanding your life with kindness and acceptance \n●      Transforming your “inner critic” \n●      A few good reasons to let yourself off the hook \n●      Meditations that deepen authentic compassion and forgiveness for yourself and others \n  \nAbout Christine Longaker \nChristine Longaker co-founded one of the first home care hospices in California in 1978\, and helped establish the international Spiritual Care Program in 1993\, in which she trained teams of caregivers who collectively brought the vision of compassionate care for the dying to over 30\,000 people. Her book\, Facing Death and Finding Hope: A Guide to the Emotional and Spiritual Care of the Dying\, is published in eight languages. For forty years\, Christine Longaker has become an internationally renowned teacher on meditation\, compassion\, and care for the dying. Her trainings inspired the founding of four hospices and two spiritual care centers. \nLongaker was developer and faculty for the six-month “Contemplative End-of-Life Care” training that was accredited by Naropa University in Colorado. The long-term benefits of spiritual care training were demonstrated in research she co-authored that was published in the Journal of Palliative Medicine in 2005. \nBecause self-compassion is the most vital ingredient for inner healing\, building resilience and the essential precursor to having compassion for others\, Christine Longaker’s vision is to bring the skills and methods of self-compassion to many areas of endeavor. This\, combined with her decades of spiritual training and skill in communicating with diverse audiences\, bring unique insights and powerful methods to the work.
URL:https://rigpa.org.au/event/self-forgiveness-in-the-light-of-compassion-2/2025-12-01/2/
LOCATION:Online via Zoom\, Australia
CATEGORIES:For Everyone,Newcastle - All welcome,Online
ORGANIZER;CN="Rigpa Sydney":MAILTO:sydney@rigpa.org.au
END:VEVENT
BEGIN:VEVENT
DTSTART;TZID=Australia/Melbourne:20251202T184500
DTEND;TZID=Australia/Melbourne:20251202T193000
DTSTAMP:20260424T125904
CREATED:20240917T123632Z
LAST-MODIFIED:20240918T124847Z
UID:10002963-1764701100-1764703800@rigpa.org.au
SUMMARY:Tuesday Evening\, Drop in Meditation\, Rigpa Newcastle.
DESCRIPTION:Tuesday Evening Drop-in Meditation\n6:45pm to 7:30pm.\nHeld at and Supported by Infuse Health.\n4/10 William Street\, Adamstown. NSW. 2289.\n  \nThe first and basic practice of meditation is to allow the mind to settle into a state of ‘calm abiding’\, where it will find peace and stability. Training in mindfulness and calm abiding (shamatha) meditation pacifies our scattered minds\, defuses our powerful emotions and overcomes distraction. \nThese sessions are perfect for busy people without any meditation experience\, right through to seasoned meditators. Step by step guidance will help you build confidence in your own meditation practice and inspire you to establish a daily practice. \nDetails\n\n\nled by experienced meditators/ Rigpa instructors\nno booking required\nmultiple short sessions of meditation\nsome gentle guidance\nplease join the session no later than about 5 minutes before the session starts\ncushions and seats provided\nFree for Infuse Health members and Rigpa students\nOptional donation for others\n\n\n 
URL:https://rigpa.org.au/event/tuesday-evening-drop-in-meditation-rigpa-newcastle-2-2/2025-12-02/
LOCATION:Rigpa Newcastle at Infuse Health\, 4/10 William Street\, Adamstown\, Newcastle\, New South Wales\, 2289\, Australia
CATEGORIES:For Everyone,Newcastle,Newcastle - All welcome
ATTACH;FMTTYPE=image/png:https://rigpa.org.au/wp-content/uploads/2024/05/newcastle-drop-in-pic-180924.png
END:VEVENT
BEGIN:VEVENT
DTSTART;TZID=Australia/Melbourne:20251206T150000
DTEND;TZID=Australia/Melbourne:20251206T170000
DTSTAMP:20260424T125904
CREATED:20250719T052637Z
LAST-MODIFIED:20250719T052637Z
UID:10006472-1765033200-1765040400@rigpa.org.au
SUMMARY:Break Free from Self Obsession
DESCRIPTION:  \nWe invite you to join us to investigate how self-centredness stacks up against a\nmore compassionate view\, look at some simple\, practical things we can do to\nsoften our self-obsession\, and introduce loving kindness practice\, one of the\ncore entryways into the vast toolkit of the Buddhist compassion practices. \n🗓️ Saturday 6 December \n⏰ 3-5pm AEDT (12 noon Perth\, 2.30pm Adelaide\, 5.00am CET\, 11 pm Friday US East\, 8:00pm Friday US West) \n📍Online & Sydney
URL:https://rigpa.org.au/event/break-free-from-self-obsession/
LOCATION:Rigpa Sydney\, 158 Australia St\, Newtown\, Sydney\, NSW\, 2042\, Australia
CATEGORIES:For Everyone,Newcastle,Newcastle - All welcome,Sydney - Everyone
ORGANIZER;CN="Rigpa Sydney":MAILTO:sydney@rigpa.org.au
END:VEVENT
BEGIN:VEVENT
DTSTART;TZID=Australia/Melbourne:20251209T184500
DTEND;TZID=Australia/Melbourne:20251209T193000
DTSTAMP:20260424T125904
CREATED:20240917T123632Z
LAST-MODIFIED:20240918T124847Z
UID:10002964-1765305900-1765308600@rigpa.org.au
SUMMARY:Tuesday Evening\, Drop in Meditation\, Rigpa Newcastle.
DESCRIPTION:Tuesday Evening Drop-in Meditation\n6:45pm to 7:30pm.\nHeld at and Supported by Infuse Health.\n4/10 William Street\, Adamstown. NSW. 2289.\n  \nThe first and basic practice of meditation is to allow the mind to settle into a state of ‘calm abiding’\, where it will find peace and stability. Training in mindfulness and calm abiding (shamatha) meditation pacifies our scattered minds\, defuses our powerful emotions and overcomes distraction. \nThese sessions are perfect for busy people without any meditation experience\, right through to seasoned meditators. Step by step guidance will help you build confidence in your own meditation practice and inspire you to establish a daily practice. \nDetails\n\n\nled by experienced meditators/ Rigpa instructors\nno booking required\nmultiple short sessions of meditation\nsome gentle guidance\nplease join the session no later than about 5 minutes before the session starts\ncushions and seats provided\nFree for Infuse Health members and Rigpa students\nOptional donation for others\n\n\n 
URL:https://rigpa.org.au/event/tuesday-evening-drop-in-meditation-rigpa-newcastle-2-2/2025-12-09/
LOCATION:Rigpa Newcastle at Infuse Health\, 4/10 William Street\, Adamstown\, Newcastle\, New South Wales\, 2289\, Australia
CATEGORIES:For Everyone,Newcastle,Newcastle - All welcome
ATTACH;FMTTYPE=image/png:https://rigpa.org.au/wp-content/uploads/2024/05/newcastle-drop-in-pic-180924.png
END:VEVENT
BEGIN:VEVENT
DTSTART;TZID=Australia/Melbourne:20251216T184500
DTEND;TZID=Australia/Melbourne:20251216T193000
DTSTAMP:20260424T125904
CREATED:20240917T123632Z
LAST-MODIFIED:20240918T124847Z
UID:10002965-1765910700-1765913400@rigpa.org.au
SUMMARY:Tuesday Evening\, Drop in Meditation\, Rigpa Newcastle.
DESCRIPTION:Tuesday Evening Drop-in Meditation\n6:45pm to 7:30pm.\nHeld at and Supported by Infuse Health.\n4/10 William Street\, Adamstown. NSW. 2289.\n  \nThe first and basic practice of meditation is to allow the mind to settle into a state of ‘calm abiding’\, where it will find peace and stability. Training in mindfulness and calm abiding (shamatha) meditation pacifies our scattered minds\, defuses our powerful emotions and overcomes distraction. \nThese sessions are perfect for busy people without any meditation experience\, right through to seasoned meditators. Step by step guidance will help you build confidence in your own meditation practice and inspire you to establish a daily practice. \nDetails\n\n\nled by experienced meditators/ Rigpa instructors\nno booking required\nmultiple short sessions of meditation\nsome gentle guidance\nplease join the session no later than about 5 minutes before the session starts\ncushions and seats provided\nFree for Infuse Health members and Rigpa students\nOptional donation for others\n\n\n 
URL:https://rigpa.org.au/event/tuesday-evening-drop-in-meditation-rigpa-newcastle-2-2/2025-12-16/
LOCATION:Rigpa Newcastle at Infuse Health\, 4/10 William Street\, Adamstown\, Newcastle\, New South Wales\, 2289\, Australia
CATEGORIES:For Everyone,Newcastle,Newcastle - All welcome
ATTACH;FMTTYPE=image/png:https://rigpa.org.au/wp-content/uploads/2024/05/newcastle-drop-in-pic-180924.png
END:VEVENT
BEGIN:VEVENT
DTSTART;TZID=Australia/Melbourne:20251223T184500
DTEND;TZID=Australia/Melbourne:20251223T193000
DTSTAMP:20260424T125904
CREATED:20240917T123632Z
LAST-MODIFIED:20240918T124847Z
UID:10002966-1766515500-1766518200@rigpa.org.au
SUMMARY:Tuesday Evening\, Drop in Meditation\, Rigpa Newcastle.
DESCRIPTION:Tuesday Evening Drop-in Meditation\n6:45pm to 7:30pm.\nHeld at and Supported by Infuse Health.\n4/10 William Street\, Adamstown. NSW. 2289.\n  \nThe first and basic practice of meditation is to allow the mind to settle into a state of ‘calm abiding’\, where it will find peace and stability. Training in mindfulness and calm abiding (shamatha) meditation pacifies our scattered minds\, defuses our powerful emotions and overcomes distraction. \nThese sessions are perfect for busy people without any meditation experience\, right through to seasoned meditators. Step by step guidance will help you build confidence in your own meditation practice and inspire you to establish a daily practice. \nDetails\n\n\nled by experienced meditators/ Rigpa instructors\nno booking required\nmultiple short sessions of meditation\nsome gentle guidance\nplease join the session no later than about 5 minutes before the session starts\ncushions and seats provided\nFree for Infuse Health members and Rigpa students\nOptional donation for others\n\n\n 
URL:https://rigpa.org.au/event/tuesday-evening-drop-in-meditation-rigpa-newcastle-2-2/2025-12-23/
LOCATION:Rigpa Newcastle at Infuse Health\, 4/10 William Street\, Adamstown\, Newcastle\, New South Wales\, 2289\, Australia
CATEGORIES:For Everyone,Newcastle,Newcastle - All welcome
ATTACH;FMTTYPE=image/png:https://rigpa.org.au/wp-content/uploads/2024/05/newcastle-drop-in-pic-180924.png
END:VEVENT
BEGIN:VEVENT
DTSTART;TZID=Australia/Melbourne:20251230T184500
DTEND;TZID=Australia/Melbourne:20251230T193000
DTSTAMP:20260424T125904
CREATED:20240917T123632Z
LAST-MODIFIED:20240918T124847Z
UID:10002967-1767120300-1767123000@rigpa.org.au
SUMMARY:Tuesday Evening\, Drop in Meditation\, Rigpa Newcastle.
DESCRIPTION:Tuesday Evening Drop-in Meditation\n6:45pm to 7:30pm.\nHeld at and Supported by Infuse Health.\n4/10 William Street\, Adamstown. NSW. 2289.\n  \nThe first and basic practice of meditation is to allow the mind to settle into a state of ‘calm abiding’\, where it will find peace and stability. Training in mindfulness and calm abiding (shamatha) meditation pacifies our scattered minds\, defuses our powerful emotions and overcomes distraction. \nThese sessions are perfect for busy people without any meditation experience\, right through to seasoned meditators. Step by step guidance will help you build confidence in your own meditation practice and inspire you to establish a daily practice. \nDetails\n\n\nled by experienced meditators/ Rigpa instructors\nno booking required\nmultiple short sessions of meditation\nsome gentle guidance\nplease join the session no later than about 5 minutes before the session starts\ncushions and seats provided\nFree for Infuse Health members and Rigpa students\nOptional donation for others\n\n\n 
URL:https://rigpa.org.au/event/tuesday-evening-drop-in-meditation-rigpa-newcastle-2-2/2025-12-30/
LOCATION:Rigpa Newcastle at Infuse Health\, 4/10 William Street\, Adamstown\, Newcastle\, New South Wales\, 2289\, Australia
CATEGORIES:For Everyone,Newcastle,Newcastle - All welcome
ATTACH;FMTTYPE=image/png:https://rigpa.org.au/wp-content/uploads/2024/05/newcastle-drop-in-pic-180924.png
END:VEVENT
END:VCALENDAR