BEGIN:VCALENDAR
VERSION:2.0
PRODID:-//Rigpa Australia - ECPv6.15.20//NONSGML v1.0//EN
CALSCALE:GREGORIAN
METHOD:PUBLISH
X-WR-CALNAME:Rigpa Australia
X-ORIGINAL-URL:https://rigpa.org.au
X-WR-CALDESC:Events for Rigpa Australia
REFRESH-INTERVAL;VALUE=DURATION:PT1H
X-Robots-Tag:noindex
X-PUBLISHED-TTL:PT1H
BEGIN:VTIMEZONE
TZID:Australia/Melbourne
BEGIN:STANDARD
TZOFFSETFROM:+1100
TZOFFSETTO:+1000
TZNAME:AEST
DTSTART:20240406T160000
END:STANDARD
BEGIN:DAYLIGHT
TZOFFSETFROM:+1000
TZOFFSETTO:+1100
TZNAME:AEDT
DTSTART:20241005T160000
END:DAYLIGHT
BEGIN:STANDARD
TZOFFSETFROM:+1100
TZOFFSETTO:+1000
TZNAME:AEST
DTSTART:20250405T160000
END:STANDARD
BEGIN:DAYLIGHT
TZOFFSETFROM:+1000
TZOFFSETTO:+1100
TZNAME:AEDT
DTSTART:20251004T160000
END:DAYLIGHT
BEGIN:STANDARD
TZOFFSETFROM:+1100
TZOFFSETTO:+1000
TZNAME:AEST
DTSTART:20260404T160000
END:STANDARD
BEGIN:DAYLIGHT
TZOFFSETFROM:+1000
TZOFFSETTO:+1100
TZNAME:AEDT
DTSTART:20261003T160000
END:DAYLIGHT
END:VTIMEZONE
BEGIN:VEVENT
DTSTART;TZID=Australia/Melbourne:20250401T111500
DTEND;TZID=Australia/Melbourne:20250401T131500
DTSTAMP:20260425T132218
CREATED:20241121T041153Z
LAST-MODIFIED:20250102T024017Z
UID:10003791-1743506100-1743513300@rigpa.org.au
SUMMARY:The Wisdom of Compassion | Newcastle
DESCRIPTION:The Wisdom of Compassion\nTerm 1\, 10 Sessions\, 4 February to 8 April\, 11:15am to 1:15pm.\nIn Person at Infuse Health\, 4/10 William Street\, Adamstown\, 2289.\n  \nThe Wisdom of Compassion presents key Buddhist teachings on the powerful logic of compassion and practical methods for developing a more kind relationship with ourselves\, those around us and ultimately all beings. \nOur innate capacity for empathy is the source of the very best of human qualities : love\, kindness\, generosity\, warm-heartedness\, courage … compassion. Although we are born with a vast capacity to love\, we may not know how to do so unconditionally\, or how to express that love in practice. \nWhen our heart and mind are filled with love\, we find the greatest inner healing\, tranquillity and well-being. Modern research shows that with empathy and compassion we can be more fully ourselves\, connect more easily with others\, improve self worth and reduce self-criticism\, and lead healthier lives. \nParticipants in this course will learn how to: \n\ndevelop loving kindness for themselves\nextend that loving kindness to all beings\nmove along the path from compassion to fully enlightened courage\n\nLed by Western meditation instructors with many years of experience \, each session consists of: \n\nVideo teachings from Tibetan and Western Buddhist masters including Sogyal Rinpoche\, Jetsün Khandro Rinpoche\, Ringu Tulku Rinpoche\, Mingyur Rinpoche\, Pema Chödrön and Sharon Salzberg.\nMeditation practice\nTime for contemplation\nGroup discussions and Q&A\, offering each student the opportunity to explore the teachings and practices in an open supportive environment and to connect with a community of practitioners.\n\nThis is the first module of a year-long course made up of 10-week long modules. You can join at any time.  If you wish to join after the commencement of each term and the registration is closed\, then please email us at newcastle@rigpa.org.au. It is possible to join and pay a pro rata amount. \nCost:  \nTen sessions: Full $200\, Concession $100. \nIf you are experiencing financial hardship please email us at newcastle@rigpa.org.au to request a further concession. \nFREE for Rigpa members/subscribers. Please email newcastle@rigpa.org.au to request the discount code.
URL:https://rigpa.org.au/event/the-wisdom-of-compassion-2/2025-04-01/
LOCATION:Rigpa Newcastle at Infuse Health\, 4/10 William Street\, Adamstown\, Newcastle\, New South Wales\, 2289\, Australia
CATEGORIES:For Everyone,Newcastle,Newcastle - All welcome
ATTACH;FMTTYPE=image/png:https://rigpa.org.au/wp-content/uploads/2024/11/The-Wisdom-of-Compassion.png
END:VEVENT
BEGIN:VEVENT
DTSTART;TZID=Australia/Melbourne:20250401T184500
DTEND;TZID=Australia/Melbourne:20250401T193000
DTSTAMP:20260425T132218
CREATED:20240917T123632Z
LAST-MODIFIED:20240918T124847Z
UID:10002928-1743533100-1743535800@rigpa.org.au
SUMMARY:Tuesday Evening\, Drop in Meditation\, Rigpa Newcastle.
DESCRIPTION:Tuesday Evening Drop-in Meditation\n6:45pm to 7:30pm.\nHeld at and Supported by Infuse Health.\n4/10 William Street\, Adamstown. NSW. 2289.\n  \nThe first and basic practice of meditation is to allow the mind to settle into a state of ‘calm abiding’\, where it will find peace and stability. Training in mindfulness and calm abiding (shamatha) meditation pacifies our scattered minds\, defuses our powerful emotions and overcomes distraction. \nThese sessions are perfect for busy people without any meditation experience\, right through to seasoned meditators. Step by step guidance will help you build confidence in your own meditation practice and inspire you to establish a daily practice. \nDetails\n\n\nled by experienced meditators/ Rigpa instructors\nno booking required\nmultiple short sessions of meditation\nsome gentle guidance\nplease join the session no later than about 5 minutes before the session starts\ncushions and seats provided\nFree for Infuse Health members and Rigpa students\nOptional donation for others\n\n\n 
URL:https://rigpa.org.au/event/tuesday-evening-drop-in-meditation-rigpa-newcastle-2-2/2025-04-01/
LOCATION:Rigpa Newcastle at Infuse Health\, 4/10 William Street\, Adamstown\, Newcastle\, New South Wales\, 2289\, Australia
CATEGORIES:For Everyone,Newcastle,Newcastle - All welcome
ATTACH;FMTTYPE=image/png:https://rigpa.org.au/wp-content/uploads/2024/05/newcastle-drop-in-pic-180924.png
END:VEVENT
BEGIN:VEVENT
DTSTART;TZID=Australia/Melbourne:20250406T093000
DTEND;TZID=Australia/Melbourne:20250406T130000
DTSTAMP:20260425T132218
CREATED:20250108T025114Z
LAST-MODIFIED:20250203T040353Z
UID:10004760-1743931800-1743944400@rigpa.org.au
SUMMARY:Sydney Sangha Day - April 2025 - Knowing what to do and what not to do
DESCRIPTION:Sydney Sangha Day – 6 April 2025 \nPowerful reminders: Knowing what to do and what not to do – Kirsten Czeczor 
URL:https://rigpa.org.au/event/sydney-sangha-day-april-2025/
LOCATION:Rigpa Sydney\, 158 Australia St\, Newtown\, Sydney\, NSW\, 2042\, Australia
CATEGORIES:For Everyone,Newcastle - All welcome,Online,Sydney - Everyone
ATTACH;FMTTYPE=image/png:https://rigpa.org.au/wp-content/uploads/2025/01/Sydney-Sangha-Day-Square-540-×-540-px.png
END:VEVENT
BEGIN:VEVENT
DTSTART;TZID=Australia/Melbourne:20250408T111500
DTEND;TZID=Australia/Melbourne:20250408T131500
DTSTAMP:20260425T132218
CREATED:20241121T041153Z
LAST-MODIFIED:20250102T024017Z
UID:10003792-1744110900-1744118100@rigpa.org.au
SUMMARY:The Wisdom of Compassion | Newcastle
DESCRIPTION:The Wisdom of Compassion\nTerm 1\, 10 Sessions\, 4 February to 8 April\, 11:15am to 1:15pm.\nIn Person at Infuse Health\, 4/10 William Street\, Adamstown\, 2289.\n  \nThe Wisdom of Compassion presents key Buddhist teachings on the powerful logic of compassion and practical methods for developing a more kind relationship with ourselves\, those around us and ultimately all beings. \nOur innate capacity for empathy is the source of the very best of human qualities : love\, kindness\, generosity\, warm-heartedness\, courage … compassion. Although we are born with a vast capacity to love\, we may not know how to do so unconditionally\, or how to express that love in practice. \nWhen our heart and mind are filled with love\, we find the greatest inner healing\, tranquillity and well-being. Modern research shows that with empathy and compassion we can be more fully ourselves\, connect more easily with others\, improve self worth and reduce self-criticism\, and lead healthier lives. \nParticipants in this course will learn how to: \n\ndevelop loving kindness for themselves\nextend that loving kindness to all beings\nmove along the path from compassion to fully enlightened courage\n\nLed by Western meditation instructors with many years of experience \, each session consists of: \n\nVideo teachings from Tibetan and Western Buddhist masters including Sogyal Rinpoche\, Jetsün Khandro Rinpoche\, Ringu Tulku Rinpoche\, Mingyur Rinpoche\, Pema Chödrön and Sharon Salzberg.\nMeditation practice\nTime for contemplation\nGroup discussions and Q&A\, offering each student the opportunity to explore the teachings and practices in an open supportive environment and to connect with a community of practitioners.\n\nThis is the first module of a year-long course made up of 10-week long modules. You can join at any time.  If you wish to join after the commencement of each term and the registration is closed\, then please email us at newcastle@rigpa.org.au. It is possible to join and pay a pro rata amount. \nCost:  \nTen sessions: Full $200\, Concession $100. \nIf you are experiencing financial hardship please email us at newcastle@rigpa.org.au to request a further concession. \nFREE for Rigpa members/subscribers. Please email newcastle@rigpa.org.au to request the discount code.
URL:https://rigpa.org.au/event/the-wisdom-of-compassion-2/2025-04-08/
LOCATION:Rigpa Newcastle at Infuse Health\, 4/10 William Street\, Adamstown\, Newcastle\, New South Wales\, 2289\, Australia
CATEGORIES:For Everyone,Newcastle,Newcastle - All welcome
ATTACH;FMTTYPE=image/png:https://rigpa.org.au/wp-content/uploads/2024/11/The-Wisdom-of-Compassion.png
END:VEVENT
BEGIN:VEVENT
DTSTART;TZID=Australia/Melbourne:20250408T184500
DTEND;TZID=Australia/Melbourne:20250408T193000
DTSTAMP:20260425T132218
CREATED:20240917T123632Z
LAST-MODIFIED:20240918T124847Z
UID:10002929-1744137900-1744140600@rigpa.org.au
SUMMARY:Tuesday Evening\, Drop in Meditation\, Rigpa Newcastle.
DESCRIPTION:Tuesday Evening Drop-in Meditation\n6:45pm to 7:30pm.\nHeld at and Supported by Infuse Health.\n4/10 William Street\, Adamstown. NSW. 2289.\n  \nThe first and basic practice of meditation is to allow the mind to settle into a state of ‘calm abiding’\, where it will find peace and stability. Training in mindfulness and calm abiding (shamatha) meditation pacifies our scattered minds\, defuses our powerful emotions and overcomes distraction. \nThese sessions are perfect for busy people without any meditation experience\, right through to seasoned meditators. Step by step guidance will help you build confidence in your own meditation practice and inspire you to establish a daily practice. \nDetails\n\n\nled by experienced meditators/ Rigpa instructors\nno booking required\nmultiple short sessions of meditation\nsome gentle guidance\nplease join the session no later than about 5 minutes before the session starts\ncushions and seats provided\nFree for Infuse Health members and Rigpa students\nOptional donation for others\n\n\n 
URL:https://rigpa.org.au/event/tuesday-evening-drop-in-meditation-rigpa-newcastle-2-2/2025-04-08/
LOCATION:Rigpa Newcastle at Infuse Health\, 4/10 William Street\, Adamstown\, Newcastle\, New South Wales\, 2289\, Australia
CATEGORIES:For Everyone,Newcastle,Newcastle - All welcome
ATTACH;FMTTYPE=image/png:https://rigpa.org.au/wp-content/uploads/2024/05/newcastle-drop-in-pic-180924.png
END:VEVENT
BEGIN:VEVENT
DTSTART;TZID=Australia/Melbourne:20250412T150000
DTEND;TZID=Australia/Melbourne:20250412T170000
DTSTAMP:20260425T132218
CREATED:20250322T060501Z
LAST-MODIFIED:20250408T020943Z
UID:10005301-1744470000-1744477200@rigpa.org.au
SUMMARY:Finding Courage in a World Full of Fear
DESCRIPTION:Fear is a useful tool for staying alive; recognizing danger we avoid harm and survive. Fear for fear’s sake\, however\, can be debilitating. \nA connection with meditation practice\, which shows us the true capacity of our mind and heart for insight\, clarity and compassion can transform the way we perceive ourselves and our world around us. Buddhism offers a path toward fearlessness by confronting fear with inner strength and open-hearted courage\, to help us step out of the clutches of fear and discover new meaning\, inspiration\, and joy in our lives. \n🗓️ Saturday 12 April\n⏰3:00-5:00pm\n📍Rigpa Sydney and Online \n💰$20 standard\, $10 concession
URL:https://rigpa.org.au/event/finding-courage-in-a-world-full-of-fear/
LOCATION:Rigpa Sydney\, 158 Australia St\, Newtown\, Sydney\, NSW\, 2042\, Australia
CATEGORIES:For Everyone,Newcastle - All welcome,Online,Sydney - Everyone
ORGANIZER;CN="Rigpa Sydney":MAILTO:sydney@rigpa.org.au
END:VEVENT
BEGIN:VEVENT
DTSTART;TZID=Australia/Melbourne:20250415T184500
DTEND;TZID=Australia/Melbourne:20250415T193000
DTSTAMP:20260425T132218
CREATED:20240917T123632Z
LAST-MODIFIED:20240918T124847Z
UID:10002930-1744742700-1744745400@rigpa.org.au
SUMMARY:Tuesday Evening\, Drop in Meditation\, Rigpa Newcastle.
DESCRIPTION:Tuesday Evening Drop-in Meditation\n6:45pm to 7:30pm.\nHeld at and Supported by Infuse Health.\n4/10 William Street\, Adamstown. NSW. 2289.\n  \nThe first and basic practice of meditation is to allow the mind to settle into a state of ‘calm abiding’\, where it will find peace and stability. Training in mindfulness and calm abiding (shamatha) meditation pacifies our scattered minds\, defuses our powerful emotions and overcomes distraction. \nThese sessions are perfect for busy people without any meditation experience\, right through to seasoned meditators. Step by step guidance will help you build confidence in your own meditation practice and inspire you to establish a daily practice. \nDetails\n\n\nled by experienced meditators/ Rigpa instructors\nno booking required\nmultiple short sessions of meditation\nsome gentle guidance\nplease join the session no later than about 5 minutes before the session starts\ncushions and seats provided\nFree for Infuse Health members and Rigpa students\nOptional donation for others\n\n\n 
URL:https://rigpa.org.au/event/tuesday-evening-drop-in-meditation-rigpa-newcastle-2-2/2025-04-15/
LOCATION:Rigpa Newcastle at Infuse Health\, 4/10 William Street\, Adamstown\, Newcastle\, New South Wales\, 2289\, Australia
CATEGORIES:For Everyone,Newcastle,Newcastle - All welcome
ATTACH;FMTTYPE=image/png:https://rigpa.org.au/wp-content/uploads/2024/05/newcastle-drop-in-pic-180924.png
END:VEVENT
BEGIN:VEVENT
DTSTART;TZID=Australia/Melbourne:20250418T083000
DTEND;TZID=Australia/Melbourne:20250425T170000
DTSTAMP:20260425T132218
CREATED:20250110T225357Z
LAST-MODIFIED:20250423T033141Z
UID:10004864-1744965000-1745600400@rigpa.org.au
SUMMARY:Contemplating Reality | A retreat with Andy Karr and Lynn Friedman | Sydney & Online
DESCRIPTION:Acquire transformative tools for life—honed by an ancient Buddhist tradition and adapted for the modern world—to experience deep meditation and profound insight into reality. \nThis is a rare and unique\, life-enhancing opportunity—and a first in Australia. \nJoin Andy Karr and Lynn Friedman\, two senior teachers and long-time students of the renowned Tibetan master Chögyam Trungpa Rinpoche (1939–1987)\, for an inspiring one- to eight-day urban retreat that blends the spacious clarity of meditation with the rich wisdom of Buddhist philosophy and practical know how. \nThrough a unique combination of guided contemplation\, experiential exercises\, and extended meditation sessions\, this retreat offers a powerful opportunity to explore the nature of consciousness and awaken to the true potential of your own mind and heart. \nRooted in the teachings from Andy Karr’s acclaimed books\, Into the Mirror and Contemplating Reality\, this retreat provides a welcoming and accessible path into classical Buddhist inquiry—bridging ancient insight with modern understanding. \nWhether you’re new to Buddhist philosophy or looking to deepen your practice\, you’ll leave with a clearer sense of reality\, a stronger connection to your inner wisdom\, and tools to integrate these insights into daily life. \nDiscover the buddha nature within you. Step into a space of clarity\, compassion\, and transformation. \n  \n🗓️ 18-25 April\n🧘 Short option 18-21 April\n📍In person at 158 Australia St\, Newtown & Online \n  \nAbout Andy Karr \nAndy Karr has practiced and studied the dharma for over fifty years under the guidance of such great masters as Chögyam Trungpa Rinpoche and Khenpo Tsültrim Gyamtso Rinpoche. He is the author of Into the Mirror: A Buddhist Journey through Mind\, Matter\, and the Nature of Reality and Contemplating Reality. He is also the co-author of The Practice of Contemplative Photography: Seeing the World with Fresh Eyes. \nAbout Lynn Friedman \nLynn Friedman has been a student of Chögyam Trungpa Rinpoche since the mid 1970s and has been teaching shamatha-vipashyana meditation in his tradition for 35 years. She had a long career as a software architect\, and is now the director of the Chögyam Trungpa Digital Library\, a project to transcribe and make available to the public the entire collection of recorded teachings of Trungpa Rinpoche.
URL:https://rigpa.org.au/event/contemplating-reality-a-retreat-with-andy-karr-and-lynne-friedman-sydney-online/
LOCATION:Rigpa Sydney\, 158 Australia St\, Newtown\, Sydney\, NSW\, 2042\, Australia
CATEGORIES:For Everyone,Newcastle - All welcome,Online,Sydney - Everyone
ORGANIZER;CN="Rigpa Sydney":MAILTO:sydney@rigpa.org.au
END:VEVENT
BEGIN:VEVENT
DTSTART;TZID=Australia/Melbourne:20250422T184500
DTEND;TZID=Australia/Melbourne:20250422T193000
DTSTAMP:20260425T132218
CREATED:20240917T123632Z
LAST-MODIFIED:20240918T124847Z
UID:10002931-1745347500-1745350200@rigpa.org.au
SUMMARY:Tuesday Evening\, Drop in Meditation\, Rigpa Newcastle.
DESCRIPTION:Tuesday Evening Drop-in Meditation\n6:45pm to 7:30pm.\nHeld at and Supported by Infuse Health.\n4/10 William Street\, Adamstown. NSW. 2289.\n  \nThe first and basic practice of meditation is to allow the mind to settle into a state of ‘calm abiding’\, where it will find peace and stability. Training in mindfulness and calm abiding (shamatha) meditation pacifies our scattered minds\, defuses our powerful emotions and overcomes distraction. \nThese sessions are perfect for busy people without any meditation experience\, right through to seasoned meditators. Step by step guidance will help you build confidence in your own meditation practice and inspire you to establish a daily practice. \nDetails\n\n\nled by experienced meditators/ Rigpa instructors\nno booking required\nmultiple short sessions of meditation\nsome gentle guidance\nplease join the session no later than about 5 minutes before the session starts\ncushions and seats provided\nFree for Infuse Health members and Rigpa students\nOptional donation for others\n\n\n 
URL:https://rigpa.org.au/event/tuesday-evening-drop-in-meditation-rigpa-newcastle-2-2/2025-04-22/
LOCATION:Rigpa Newcastle at Infuse Health\, 4/10 William Street\, Adamstown\, Newcastle\, New South Wales\, 2289\, Australia
CATEGORIES:For Everyone,Newcastle,Newcastle - All welcome
ATTACH;FMTTYPE=image/png:https://rigpa.org.au/wp-content/uploads/2024/05/newcastle-drop-in-pic-180924.png
END:VEVENT
BEGIN:VEVENT
DTSTART;TZID=Australia/Melbourne:20250429T111500
DTEND;TZID=Australia/Melbourne:20250429T131500
DTSTAMP:20260425T132218
CREATED:20250401T041708Z
LAST-MODIFIED:20250401T041916Z
UID:10005351-1745925300-1745932500@rigpa.org.au
SUMMARY:The Wisdom of Compassion | Newcastle I Term Two
DESCRIPTION:The Wisdom of Compassion\nTerm 2\, 10 Sessions\, 29 April to 1 July\, 11:15am to 1:15pm.\nIn Person at Infuse Health\, 4/10 William Street\, Adamstown\, 2289.\n  \nThe Wisdom of Compassion presents key Buddhist teachings on the powerful logic of compassion and practical methods for developing a more kind relationship with ourselves\, those around us and ultimately all beings. \nOur innate capacity for empathy is the source of the very best of human qualities : love\, kindness\, generosity\, warm-heartedness\, courage … compassion. Although we are born with a vast capacity to love\, we may not know how to do so unconditionally\, or how to express that love in practice. \nWhen our heart and mind are filled with love\, we find the greatest inner healing\, tranquillity and well-being. Modern research shows that with empathy and compassion we can be more fully ourselves\, connect more easily with others\, improve self worth and reduce self-criticism\, and lead healthier lives. \nParticipants in this course will learn how to: \n\ndevelop loving kindness for themselves\nextend that loving kindness to all beings\nmove along the path from compassion to fully enlightened courage\n\nLed by Western meditation instructors with many years of experience \, each session consists of: \n\nVideo teachings from Tibetan and Western Buddhist masters including Sogyal Rinpoche\, Jetsün Khandro Rinpoche\, Ringu Tulku Rinpoche\, Mingyur Rinpoche\, Pema Chödrön and Sharon Salzberg.\nMeditation practice\nTime for contemplation\nGroup discussions and Q&A\, offering each student the opportunity to explore the teachings and practices in an open supportive environment and to connect with a community of practitioners.\n\nThis is the second module of a year-long course made up of 10-week long modules. You are welcome to join within the first few weeks of this term.  If you wish to join after the commencement of each term and the registration is closed\, then please email us at newcastle@rigpa.org.au. It is possible to join and pay a pro rata amount. \nCost:  \nTen sessions: Full $200\, Concession $100. \nIf you are experiencing financial hardship please email us at newcastle@rigpa.org.au to request a further concession. \nFREE for Rigpa members/subscribers. Please email newcastle@rigpa.org.au to request the discount code.
URL:https://rigpa.org.au/event/the-wisdom-of-compassion-newcastle-i-term-two/2025-04-29/
LOCATION:Rigpa Newcastle at Infuse Health\, 4/10 William Street\, Adamstown\, Newcastle\, New South Wales\, 2289\, Australia
CATEGORIES:For Everyone,Newcastle,Newcastle - All welcome
ATTACH;FMTTYPE=image/png:https://rigpa.org.au/wp-content/uploads/2024/11/The-Wisdom-of-Compassion.png
END:VEVENT
BEGIN:VEVENT
DTSTART;TZID=Australia/Melbourne:20250429T184500
DTEND;TZID=Australia/Melbourne:20250429T193000
DTSTAMP:20260425T132218
CREATED:20240917T123632Z
LAST-MODIFIED:20240918T124847Z
UID:10002932-1745952300-1745955000@rigpa.org.au
SUMMARY:Tuesday Evening\, Drop in Meditation\, Rigpa Newcastle.
DESCRIPTION:Tuesday Evening Drop-in Meditation\n6:45pm to 7:30pm.\nHeld at and Supported by Infuse Health.\n4/10 William Street\, Adamstown. NSW. 2289.\n  \nThe first and basic practice of meditation is to allow the mind to settle into a state of ‘calm abiding’\, where it will find peace and stability. Training in mindfulness and calm abiding (shamatha) meditation pacifies our scattered minds\, defuses our powerful emotions and overcomes distraction. \nThese sessions are perfect for busy people without any meditation experience\, right through to seasoned meditators. Step by step guidance will help you build confidence in your own meditation practice and inspire you to establish a daily practice. \nDetails\n\n\nled by experienced meditators/ Rigpa instructors\nno booking required\nmultiple short sessions of meditation\nsome gentle guidance\nplease join the session no later than about 5 minutes before the session starts\ncushions and seats provided\nFree for Infuse Health members and Rigpa students\nOptional donation for others\n\n\n 
URL:https://rigpa.org.au/event/tuesday-evening-drop-in-meditation-rigpa-newcastle-2-2/2025-04-29/
LOCATION:Rigpa Newcastle at Infuse Health\, 4/10 William Street\, Adamstown\, Newcastle\, New South Wales\, 2289\, Australia
CATEGORIES:For Everyone,Newcastle,Newcastle - All welcome
ATTACH;FMTTYPE=image/png:https://rigpa.org.au/wp-content/uploads/2024/05/newcastle-drop-in-pic-180924.png
END:VEVENT
BEGIN:VEVENT
DTSTART;TZID=Australia/Melbourne:20250430T183000
DTEND;TZID=Australia/Melbourne:20250528T203000
DTSTAMP:20260425T132218
CREATED:20250109T031728Z
LAST-MODIFIED:20250408T020742Z
UID:10004762-1746037800-1748464200@rigpa.org.au
SUMMARY:Inspiring a Revolution in Your Heart and Mind | The Deathless Unending Nature of Mind - Sydney and Online
DESCRIPTION:The Deathless and Unending Nature of Mind (Module 3 of the full-year course) \nIn this module we explore the power of our mind as the universal ordering principle; it is the creator of suffering and the creator of happiness. We investigate two aspects of the mind: the appearance of the mind – our thoughts\, emotions\, all the stories\, the ordinary mind; and the essence of mind – which is clear\, cognizant and has unconfined capacity. And we look at how to make our meditation practice truly meaningful.
URL:https://rigpa.org.au/event/inspiring-a-revolution-in-your-heart-and-mind-the-deathless-unending-nature-of-mind-sydney-and-online/2025-04-30/
LOCATION:
CATEGORIES:For Everyone,Newcastle - All welcome,Online,Sydney - Everyone
ATTACH;FMTTYPE=image/png:https://rigpa.org.au/wp-content/uploads/2024/11/Inspiring.png
END:VEVENT
END:VCALENDAR