BEGIN:VCALENDAR
VERSION:2.0
PRODID:-//Rigpa Australia - ECPv6.15.20//NONSGML v1.0//EN
CALSCALE:GREGORIAN
METHOD:PUBLISH
X-WR-CALNAME:Rigpa Australia
X-ORIGINAL-URL:https://rigpa.org.au
X-WR-CALDESC:Events for Rigpa Australia
REFRESH-INTERVAL;VALUE=DURATION:PT1H
X-Robots-Tag:noindex
X-PUBLISHED-TTL:PT1H
BEGIN:VTIMEZONE
TZID:Australia/Melbourne
BEGIN:STANDARD
TZOFFSETFROM:+1100
TZOFFSETTO:+1000
TZNAME:AEST
DTSTART:20240406T160000
END:STANDARD
BEGIN:DAYLIGHT
TZOFFSETFROM:+1000
TZOFFSETTO:+1100
TZNAME:AEDT
DTSTART:20241005T160000
END:DAYLIGHT
BEGIN:STANDARD
TZOFFSETFROM:+1100
TZOFFSETTO:+1000
TZNAME:AEST
DTSTART:20250405T160000
END:STANDARD
BEGIN:DAYLIGHT
TZOFFSETFROM:+1000
TZOFFSETTO:+1100
TZNAME:AEDT
DTSTART:20251004T160000
END:DAYLIGHT
BEGIN:STANDARD
TZOFFSETFROM:+1100
TZOFFSETTO:+1000
TZNAME:AEST
DTSTART:20260404T160000
END:STANDARD
BEGIN:DAYLIGHT
TZOFFSETFROM:+1000
TZOFFSETTO:+1100
TZNAME:AEDT
DTSTART:20261003T160000
END:DAYLIGHT
END:VTIMEZONE
BEGIN:VEVENT
DTSTART;TZID=Australia/Melbourne:20250302T093000
DTEND;TZID=Australia/Melbourne:20250302T130000
DTSTAMP:20260425T222946
CREATED:20250104T225826Z
LAST-MODIFIED:20250203T035351Z
UID:10004759-1740907800-1740920400@rigpa.org.au
SUMMARY:Sydney Sangha Day - March 2025 - Causal & Resultant Refuge
DESCRIPTION:  \nCausal and resultant refuge \nPresenting a teaching by Ruth Seehausen. \nNOTE – this event will be ONLINE ONLY \nAbout Ruth  \nRuth Seehausen was attracted to Tibetan Buddhism from a young age\, and became a Rigpa student in 1986. \nRuth completed the 2006–2009 Three Year Retreat in Lerab Ling\, Rigpa’s retreat centre in southern France\, as well as a number of shorter retreats over the years. She currently divides her time between Germany and France\, and devotes herself to Dharma study\, practice and regular retreats\, in addition to holding meditation seminars for the general public and guiding Rigpa students on Vajrayana preliminary practices. \nRuth has a deep interest in the workings of mind\, exploring how Buddhist study and practice can help modern audiences cope with life’s challenges\, and equip them with the tools to overcome them. She has also been passionate about fine arts and photography since childhood. \n 
URL:https://rigpa.org.au/event/sydney-sangha-day-march-2025/
LOCATION:Online via Zoom\, Australia
CATEGORIES:For Everyone,Newcastle - All welcome,Online,Sydney - Everyone
ATTACH;FMTTYPE=image/png:https://rigpa.org.au/wp-content/uploads/2025/01/Sydney-Sangha-Day-Square-540-×-540-px.png
END:VEVENT
BEGIN:VEVENT
DTSTART;TZID=Australia/Melbourne:20250304T111500
DTEND;TZID=Australia/Melbourne:20250304T131500
DTSTAMP:20260425T222946
CREATED:20241121T041153Z
LAST-MODIFIED:20250102T024017Z
UID:10003787-1741086900-1741094100@rigpa.org.au
SUMMARY:The Wisdom of Compassion | Newcastle
DESCRIPTION:The Wisdom of Compassion\nTerm 1\, 10 Sessions\, 4 February to 8 April\, 11:15am to 1:15pm.\nIn Person at Infuse Health\, 4/10 William Street\, Adamstown\, 2289.\n  \nThe Wisdom of Compassion presents key Buddhist teachings on the powerful logic of compassion and practical methods for developing a more kind relationship with ourselves\, those around us and ultimately all beings. \nOur innate capacity for empathy is the source of the very best of human qualities : love\, kindness\, generosity\, warm-heartedness\, courage … compassion. Although we are born with a vast capacity to love\, we may not know how to do so unconditionally\, or how to express that love in practice. \nWhen our heart and mind are filled with love\, we find the greatest inner healing\, tranquillity and well-being. Modern research shows that with empathy and compassion we can be more fully ourselves\, connect more easily with others\, improve self worth and reduce self-criticism\, and lead healthier lives. \nParticipants in this course will learn how to: \n\ndevelop loving kindness for themselves\nextend that loving kindness to all beings\nmove along the path from compassion to fully enlightened courage\n\nLed by Western meditation instructors with many years of experience \, each session consists of: \n\nVideo teachings from Tibetan and Western Buddhist masters including Sogyal Rinpoche\, Jetsün Khandro Rinpoche\, Ringu Tulku Rinpoche\, Mingyur Rinpoche\, Pema Chödrön and Sharon Salzberg.\nMeditation practice\nTime for contemplation\nGroup discussions and Q&A\, offering each student the opportunity to explore the teachings and practices in an open supportive environment and to connect with a community of practitioners.\n\nThis is the first module of a year-long course made up of 10-week long modules. You can join at any time.  If you wish to join after the commencement of each term and the registration is closed\, then please email us at newcastle@rigpa.org.au. It is possible to join and pay a pro rata amount. \nCost:  \nTen sessions: Full $200\, Concession $100. \nIf you are experiencing financial hardship please email us at newcastle@rigpa.org.au to request a further concession. \nFREE for Rigpa members/subscribers. Please email newcastle@rigpa.org.au to request the discount code.
URL:https://rigpa.org.au/event/the-wisdom-of-compassion-2/2025-03-04/
LOCATION:Rigpa Newcastle at Infuse Health\, 4/10 William Street\, Adamstown\, Newcastle\, New South Wales\, 2289\, Australia
CATEGORIES:For Everyone,Newcastle,Newcastle - All welcome
ATTACH;FMTTYPE=image/png:https://rigpa.org.au/wp-content/uploads/2024/11/The-Wisdom-of-Compassion.png
END:VEVENT
BEGIN:VEVENT
DTSTART;TZID=Australia/Melbourne:20250304T184500
DTEND;TZID=Australia/Melbourne:20250304T193000
DTSTAMP:20260425T222946
CREATED:20240917T123632Z
LAST-MODIFIED:20240918T124847Z
UID:10002924-1741113900-1741116600@rigpa.org.au
SUMMARY:Tuesday Evening\, Drop in Meditation\, Rigpa Newcastle.
DESCRIPTION:Tuesday Evening Drop-in Meditation\n6:45pm to 7:30pm.\nHeld at and Supported by Infuse Health.\n4/10 William Street\, Adamstown. NSW. 2289.\n  \nThe first and basic practice of meditation is to allow the mind to settle into a state of ‘calm abiding’\, where it will find peace and stability. Training in mindfulness and calm abiding (shamatha) meditation pacifies our scattered minds\, defuses our powerful emotions and overcomes distraction. \nThese sessions are perfect for busy people without any meditation experience\, right through to seasoned meditators. Step by step guidance will help you build confidence in your own meditation practice and inspire you to establish a daily practice. \nDetails\n\n\nled by experienced meditators/ Rigpa instructors\nno booking required\nmultiple short sessions of meditation\nsome gentle guidance\nplease join the session no later than about 5 minutes before the session starts\ncushions and seats provided\nFree for Infuse Health members and Rigpa students\nOptional donation for others\n\n\n 
URL:https://rigpa.org.au/event/tuesday-evening-drop-in-meditation-rigpa-newcastle-2-2/2025-03-04/
LOCATION:Rigpa Newcastle at Infuse Health\, 4/10 William Street\, Adamstown\, Newcastle\, New South Wales\, 2289\, Australia
CATEGORIES:For Everyone,Newcastle,Newcastle - All welcome
ATTACH;FMTTYPE=image/png:https://rigpa.org.au/wp-content/uploads/2024/05/newcastle-drop-in-pic-180924.png
END:VEVENT
BEGIN:VEVENT
DTSTART;TZID=Australia/Melbourne:20250305T183000
DTEND;TZID=Australia/Melbourne:20250305T203000
DTSTAMP:20260425T222946
CREATED:20241118T034626Z
LAST-MODIFIED:20250110T035843Z
UID:10003646-1741199400-1741206600@rigpa.org.au
SUMMARY:Inspiring a Revolution in Your Heart and Mind | Sydney & Online
DESCRIPTION:Join us on an experiential journey through The Tibetan Book of Living and Dying. Discover a deep and universal wisdom explored in the major themes of the book\, and learn about their practical implications for living well. Suitable for people of any religion or of none\, this course encourages you to reflect on the Buddhist teachings\, to see what makes sense to you and to experiment with applying these teachings in your daily life. \nThe Tibetan Book of Living and Dying is widely regarded as one of the most complete and authoritative presentations of Tibetan Buddhism. A manual for life and death and a source of sacred inspiration from the heart of the Tibetan tradition\, The Tibetan Book of Living and Dying provides a lucid and inspiring introduction to the practice of meditation\, to the nature of mind\, to karma and rebirth\, and to the trials and rewards of the spiritual path. The teachings\, meditation and contemplations from this authentic tradition reveal how each of us can live a more meaningful\, connected and fulfilling life. \n  \nSydney and Online   \n Wednesday evenings\, all year\, starting 5 February\n 6:30-8:30pm AEDT (8:30am CET\, 2:30am Thurs US East) \nOnline via Zoom\, Rigpa Sydney 158 Australia St\, Newtown
URL:https://rigpa.org.au/event/inspiring-a-revolution-in-your-heart-and-mind-sydney-online/2025-03-05/
LOCATION:Rigpa Sydney\, 158 Australia St\, Newtown\, Sydney\, NSW\, 2042\, Australia
CATEGORIES:For Everyone,Newcastle - All welcome,Online,Sydney - Everyone
ATTACH;FMTTYPE=image/png:https://rigpa.org.au/wp-content/uploads/2024/11/Inspiring.png
ORGANIZER;CN="Rigpa Sydney":MAILTO:sydney@rigpa.org.au
END:VEVENT
BEGIN:VEVENT
DTSTART;TZID=Australia/Melbourne:20250311T111500
DTEND;TZID=Australia/Melbourne:20250311T131500
DTSTAMP:20260425T222946
CREATED:20241121T041153Z
LAST-MODIFIED:20250102T024017Z
UID:10003788-1741691700-1741698900@rigpa.org.au
SUMMARY:The Wisdom of Compassion | Newcastle
DESCRIPTION:The Wisdom of Compassion\nTerm 1\, 10 Sessions\, 4 February to 8 April\, 11:15am to 1:15pm.\nIn Person at Infuse Health\, 4/10 William Street\, Adamstown\, 2289.\n  \nThe Wisdom of Compassion presents key Buddhist teachings on the powerful logic of compassion and practical methods for developing a more kind relationship with ourselves\, those around us and ultimately all beings. \nOur innate capacity for empathy is the source of the very best of human qualities : love\, kindness\, generosity\, warm-heartedness\, courage … compassion. Although we are born with a vast capacity to love\, we may not know how to do so unconditionally\, or how to express that love in practice. \nWhen our heart and mind are filled with love\, we find the greatest inner healing\, tranquillity and well-being. Modern research shows that with empathy and compassion we can be more fully ourselves\, connect more easily with others\, improve self worth and reduce self-criticism\, and lead healthier lives. \nParticipants in this course will learn how to: \n\ndevelop loving kindness for themselves\nextend that loving kindness to all beings\nmove along the path from compassion to fully enlightened courage\n\nLed by Western meditation instructors with many years of experience \, each session consists of: \n\nVideo teachings from Tibetan and Western Buddhist masters including Sogyal Rinpoche\, Jetsün Khandro Rinpoche\, Ringu Tulku Rinpoche\, Mingyur Rinpoche\, Pema Chödrön and Sharon Salzberg.\nMeditation practice\nTime for contemplation\nGroup discussions and Q&A\, offering each student the opportunity to explore the teachings and practices in an open supportive environment and to connect with a community of practitioners.\n\nThis is the first module of a year-long course made up of 10-week long modules. You can join at any time.  If you wish to join after the commencement of each term and the registration is closed\, then please email us at newcastle@rigpa.org.au. It is possible to join and pay a pro rata amount. \nCost:  \nTen sessions: Full $200\, Concession $100. \nIf you are experiencing financial hardship please email us at newcastle@rigpa.org.au to request a further concession. \nFREE for Rigpa members/subscribers. Please email newcastle@rigpa.org.au to request the discount code.
URL:https://rigpa.org.au/event/the-wisdom-of-compassion-2/2025-03-11/
LOCATION:Rigpa Newcastle at Infuse Health\, 4/10 William Street\, Adamstown\, Newcastle\, New South Wales\, 2289\, Australia
CATEGORIES:For Everyone,Newcastle,Newcastle - All welcome
ATTACH;FMTTYPE=image/png:https://rigpa.org.au/wp-content/uploads/2024/11/The-Wisdom-of-Compassion.png
END:VEVENT
BEGIN:VEVENT
DTSTART;TZID=Australia/Melbourne:20250311T184500
DTEND;TZID=Australia/Melbourne:20250311T193000
DTSTAMP:20260425T222946
CREATED:20240917T123632Z
LAST-MODIFIED:20240918T124847Z
UID:10002925-1741718700-1741721400@rigpa.org.au
SUMMARY:Tuesday Evening\, Drop in Meditation\, Rigpa Newcastle.
DESCRIPTION:Tuesday Evening Drop-in Meditation\n6:45pm to 7:30pm.\nHeld at and Supported by Infuse Health.\n4/10 William Street\, Adamstown. NSW. 2289.\n  \nThe first and basic practice of meditation is to allow the mind to settle into a state of ‘calm abiding’\, where it will find peace and stability. Training in mindfulness and calm abiding (shamatha) meditation pacifies our scattered minds\, defuses our powerful emotions and overcomes distraction. \nThese sessions are perfect for busy people without any meditation experience\, right through to seasoned meditators. Step by step guidance will help you build confidence in your own meditation practice and inspire you to establish a daily practice. \nDetails\n\n\nled by experienced meditators/ Rigpa instructors\nno booking required\nmultiple short sessions of meditation\nsome gentle guidance\nplease join the session no later than about 5 minutes before the session starts\ncushions and seats provided\nFree for Infuse Health members and Rigpa students\nOptional donation for others\n\n\n 
URL:https://rigpa.org.au/event/tuesday-evening-drop-in-meditation-rigpa-newcastle-2-2/2025-03-11/
LOCATION:Rigpa Newcastle at Infuse Health\, 4/10 William Street\, Adamstown\, Newcastle\, New South Wales\, 2289\, Australia
CATEGORIES:For Everyone,Newcastle,Newcastle - All welcome
ATTACH;FMTTYPE=image/png:https://rigpa.org.au/wp-content/uploads/2024/05/newcastle-drop-in-pic-180924.png
END:VEVENT
BEGIN:VEVENT
DTSTART;TZID=Australia/Melbourne:20250318T111500
DTEND;TZID=Australia/Melbourne:20250318T131500
DTSTAMP:20260425T222946
CREATED:20241121T041153Z
LAST-MODIFIED:20250102T024017Z
UID:10003789-1742296500-1742303700@rigpa.org.au
SUMMARY:The Wisdom of Compassion | Newcastle
DESCRIPTION:The Wisdom of Compassion\nTerm 1\, 10 Sessions\, 4 February to 8 April\, 11:15am to 1:15pm.\nIn Person at Infuse Health\, 4/10 William Street\, Adamstown\, 2289.\n  \nThe Wisdom of Compassion presents key Buddhist teachings on the powerful logic of compassion and practical methods for developing a more kind relationship with ourselves\, those around us and ultimately all beings. \nOur innate capacity for empathy is the source of the very best of human qualities : love\, kindness\, generosity\, warm-heartedness\, courage … compassion. Although we are born with a vast capacity to love\, we may not know how to do so unconditionally\, or how to express that love in practice. \nWhen our heart and mind are filled with love\, we find the greatest inner healing\, tranquillity and well-being. Modern research shows that with empathy and compassion we can be more fully ourselves\, connect more easily with others\, improve self worth and reduce self-criticism\, and lead healthier lives. \nParticipants in this course will learn how to: \n\ndevelop loving kindness for themselves\nextend that loving kindness to all beings\nmove along the path from compassion to fully enlightened courage\n\nLed by Western meditation instructors with many years of experience \, each session consists of: \n\nVideo teachings from Tibetan and Western Buddhist masters including Sogyal Rinpoche\, Jetsün Khandro Rinpoche\, Ringu Tulku Rinpoche\, Mingyur Rinpoche\, Pema Chödrön and Sharon Salzberg.\nMeditation practice\nTime for contemplation\nGroup discussions and Q&A\, offering each student the opportunity to explore the teachings and practices in an open supportive environment and to connect with a community of practitioners.\n\nThis is the first module of a year-long course made up of 10-week long modules. You can join at any time.  If you wish to join after the commencement of each term and the registration is closed\, then please email us at newcastle@rigpa.org.au. It is possible to join and pay a pro rata amount. \nCost:  \nTen sessions: Full $200\, Concession $100. \nIf you are experiencing financial hardship please email us at newcastle@rigpa.org.au to request a further concession. \nFREE for Rigpa members/subscribers. Please email newcastle@rigpa.org.au to request the discount code.
URL:https://rigpa.org.au/event/the-wisdom-of-compassion-2/2025-03-18/
LOCATION:Rigpa Newcastle at Infuse Health\, 4/10 William Street\, Adamstown\, Newcastle\, New South Wales\, 2289\, Australia
CATEGORIES:For Everyone,Newcastle,Newcastle - All welcome
ATTACH;FMTTYPE=image/png:https://rigpa.org.au/wp-content/uploads/2024/11/The-Wisdom-of-Compassion.png
END:VEVENT
BEGIN:VEVENT
DTSTART;TZID=Australia/Melbourne:20250318T184500
DTEND;TZID=Australia/Melbourne:20250318T193000
DTSTAMP:20260425T222946
CREATED:20240917T123632Z
LAST-MODIFIED:20240918T124847Z
UID:10002926-1742323500-1742326200@rigpa.org.au
SUMMARY:Tuesday Evening\, Drop in Meditation\, Rigpa Newcastle.
DESCRIPTION:Tuesday Evening Drop-in Meditation\n6:45pm to 7:30pm.\nHeld at and Supported by Infuse Health.\n4/10 William Street\, Adamstown. NSW. 2289.\n  \nThe first and basic practice of meditation is to allow the mind to settle into a state of ‘calm abiding’\, where it will find peace and stability. Training in mindfulness and calm abiding (shamatha) meditation pacifies our scattered minds\, defuses our powerful emotions and overcomes distraction. \nThese sessions are perfect for busy people without any meditation experience\, right through to seasoned meditators. Step by step guidance will help you build confidence in your own meditation practice and inspire you to establish a daily practice. \nDetails\n\n\nled by experienced meditators/ Rigpa instructors\nno booking required\nmultiple short sessions of meditation\nsome gentle guidance\nplease join the session no later than about 5 minutes before the session starts\ncushions and seats provided\nFree for Infuse Health members and Rigpa students\nOptional donation for others\n\n\n 
URL:https://rigpa.org.au/event/tuesday-evening-drop-in-meditation-rigpa-newcastle-2-2/2025-03-18/
LOCATION:Rigpa Newcastle at Infuse Health\, 4/10 William Street\, Adamstown\, Newcastle\, New South Wales\, 2289\, Australia
CATEGORIES:For Everyone,Newcastle,Newcastle - All welcome
ATTACH;FMTTYPE=image/png:https://rigpa.org.au/wp-content/uploads/2024/05/newcastle-drop-in-pic-180924.png
END:VEVENT
BEGIN:VEVENT
DTSTART;TZID=Australia/Melbourne:20250325T111500
DTEND;TZID=Australia/Melbourne:20250325T131500
DTSTAMP:20260425T222946
CREATED:20241121T041153Z
LAST-MODIFIED:20250102T024017Z
UID:10003790-1742901300-1742908500@rigpa.org.au
SUMMARY:The Wisdom of Compassion | Newcastle
DESCRIPTION:The Wisdom of Compassion\nTerm 1\, 10 Sessions\, 4 February to 8 April\, 11:15am to 1:15pm.\nIn Person at Infuse Health\, 4/10 William Street\, Adamstown\, 2289.\n  \nThe Wisdom of Compassion presents key Buddhist teachings on the powerful logic of compassion and practical methods for developing a more kind relationship with ourselves\, those around us and ultimately all beings. \nOur innate capacity for empathy is the source of the very best of human qualities : love\, kindness\, generosity\, warm-heartedness\, courage … compassion. Although we are born with a vast capacity to love\, we may not know how to do so unconditionally\, or how to express that love in practice. \nWhen our heart and mind are filled with love\, we find the greatest inner healing\, tranquillity and well-being. Modern research shows that with empathy and compassion we can be more fully ourselves\, connect more easily with others\, improve self worth and reduce self-criticism\, and lead healthier lives. \nParticipants in this course will learn how to: \n\ndevelop loving kindness for themselves\nextend that loving kindness to all beings\nmove along the path from compassion to fully enlightened courage\n\nLed by Western meditation instructors with many years of experience \, each session consists of: \n\nVideo teachings from Tibetan and Western Buddhist masters including Sogyal Rinpoche\, Jetsün Khandro Rinpoche\, Ringu Tulku Rinpoche\, Mingyur Rinpoche\, Pema Chödrön and Sharon Salzberg.\nMeditation practice\nTime for contemplation\nGroup discussions and Q&A\, offering each student the opportunity to explore the teachings and practices in an open supportive environment and to connect with a community of practitioners.\n\nThis is the first module of a year-long course made up of 10-week long modules. You can join at any time.  If you wish to join after the commencement of each term and the registration is closed\, then please email us at newcastle@rigpa.org.au. It is possible to join and pay a pro rata amount. \nCost:  \nTen sessions: Full $200\, Concession $100. \nIf you are experiencing financial hardship please email us at newcastle@rigpa.org.au to request a further concession. \nFREE for Rigpa members/subscribers. Please email newcastle@rigpa.org.au to request the discount code.
URL:https://rigpa.org.au/event/the-wisdom-of-compassion-2/2025-03-25/
LOCATION:Rigpa Newcastle at Infuse Health\, 4/10 William Street\, Adamstown\, Newcastle\, New South Wales\, 2289\, Australia
CATEGORIES:For Everyone,Newcastle,Newcastle - All welcome
ATTACH;FMTTYPE=image/png:https://rigpa.org.au/wp-content/uploads/2024/11/The-Wisdom-of-Compassion.png
END:VEVENT
BEGIN:VEVENT
DTSTART;TZID=Australia/Melbourne:20250325T184500
DTEND;TZID=Australia/Melbourne:20250325T193000
DTSTAMP:20260425T222946
CREATED:20240917T123632Z
LAST-MODIFIED:20240918T124847Z
UID:10002927-1742928300-1742931000@rigpa.org.au
SUMMARY:Tuesday Evening\, Drop in Meditation\, Rigpa Newcastle.
DESCRIPTION:Tuesday Evening Drop-in Meditation\n6:45pm to 7:30pm.\nHeld at and Supported by Infuse Health.\n4/10 William Street\, Adamstown. NSW. 2289.\n  \nThe first and basic practice of meditation is to allow the mind to settle into a state of ‘calm abiding’\, where it will find peace and stability. Training in mindfulness and calm abiding (shamatha) meditation pacifies our scattered minds\, defuses our powerful emotions and overcomes distraction. \nThese sessions are perfect for busy people without any meditation experience\, right through to seasoned meditators. Step by step guidance will help you build confidence in your own meditation practice and inspire you to establish a daily practice. \nDetails\n\n\nled by experienced meditators/ Rigpa instructors\nno booking required\nmultiple short sessions of meditation\nsome gentle guidance\nplease join the session no later than about 5 minutes before the session starts\ncushions and seats provided\nFree for Infuse Health members and Rigpa students\nOptional donation for others\n\n\n 
URL:https://rigpa.org.au/event/tuesday-evening-drop-in-meditation-rigpa-newcastle-2-2/2025-03-25/
LOCATION:Rigpa Newcastle at Infuse Health\, 4/10 William Street\, Adamstown\, Newcastle\, New South Wales\, 2289\, Australia
CATEGORIES:For Everyone,Newcastle,Newcastle - All welcome
ATTACH;FMTTYPE=image/png:https://rigpa.org.au/wp-content/uploads/2024/05/newcastle-drop-in-pic-180924.png
END:VEVENT
END:VCALENDAR