BEGIN:VCALENDAR
VERSION:2.0
PRODID:-//Rigpa Australia - ECPv6.15.20//NONSGML v1.0//EN
CALSCALE:GREGORIAN
METHOD:PUBLISH
X-ORIGINAL-URL:https://rigpa.org.au
X-WR-CALDESC:Events for Rigpa Australia
REFRESH-INTERVAL;VALUE=DURATION:PT1H
X-Robots-Tag:noindex
X-PUBLISHED-TTL:PT1H
BEGIN:VTIMEZONE
TZID:Australia/Melbourne
BEGIN:STANDARD
TZOFFSETFROM:+1100
TZOFFSETTO:+1000
TZNAME:AEST
DTSTART:20250405T160000
END:STANDARD
BEGIN:DAYLIGHT
TZOFFSETFROM:+1000
TZOFFSETTO:+1100
TZNAME:AEDT
DTSTART:20251004T160000
END:DAYLIGHT
BEGIN:STANDARD
TZOFFSETFROM:+1100
TZOFFSETTO:+1000
TZNAME:AEST
DTSTART:20260404T160000
END:STANDARD
BEGIN:DAYLIGHT
TZOFFSETFROM:+1000
TZOFFSETTO:+1100
TZNAME:AEDT
DTSTART:20261003T160000
END:DAYLIGHT
BEGIN:STANDARD
TZOFFSETFROM:+1100
TZOFFSETTO:+1000
TZNAME:AEST
DTSTART:20270403T160000
END:STANDARD
BEGIN:DAYLIGHT
TZOFFSETFROM:+1000
TZOFFSETTO:+1100
TZNAME:AEDT
DTSTART:20271002T160000
END:DAYLIGHT
END:VTIMEZONE
BEGIN:VEVENT
DTSTART;TZID=Australia/Melbourne:20260101T100000
DTEND;TZID=Australia/Melbourne:20260101T104500
DTSTAMP:20260424T060927
CREATED:20251208T043235Z
LAST-MODIFIED:20251208T043654Z
UID:10004129-1767261600-1767264300@rigpa.org.au
SUMMARY:Three mornings of meditation for the New Year I Melbourne
DESCRIPTION:Come and Meditate! January 1st\, 2nd & 3rd\, 10 am until 10.45 am.\nStart the New Year in peace and harmony. Whether you’re new to meditation or an old hand\, these guided sessions are for everyone.\nAn experienced meditation instructor will hold these practices for three mornings.\nCome for one\, two or all three. You are welcome to share in a tea or coffee after if you’d like.\nSuggested donation at the door: $10 for workers or $5 for concession per session. Members free.
URL:https://rigpa.org.au/event/three-mornings-of-meditation-for-the-new-year-2/2026-01-01/
LOCATION:Rigpa Melbourne\, 803 Nicholson St\, Carlton North\, Melbourne\, Victoria\, 3054\, Australia
CATEGORIES:For Everyone,Melbourne - Everyone
ATTACH;FMTTYPE=image/jpeg:https://rigpa.org.au/wp-content/uploads/2023/07/Gold_Buddha.jpg
ORGANIZER;CN="Rigpa Melbourne":MAILTO:melbourne@rigpa.org.au
END:VEVENT
BEGIN:VEVENT
DTSTART;TZID=Australia/Melbourne:20260102T100000
DTEND;TZID=Australia/Melbourne:20260102T104500
DTSTAMP:20260424T060927
CREATED:20251208T043235Z
LAST-MODIFIED:20251208T043654Z
UID:10007318-1767348000-1767350700@rigpa.org.au
SUMMARY:Three mornings of meditation for the New Year I Melbourne
DESCRIPTION:Come and Meditate! January 1st\, 2nd & 3rd\, 10 am until 10.45 am.\nStart the New Year in peace and harmony. Whether you’re new to meditation or an old hand\, these guided sessions are for everyone.\nAn experienced meditation instructor will hold these practices for three mornings.\nCome for one\, two or all three. You are welcome to share in a tea or coffee after if you’d like.\nSuggested donation at the door: $10 for workers or $5 for concession per session. Members free.
URL:https://rigpa.org.au/event/three-mornings-of-meditation-for-the-new-year-2/2026-01-02/
LOCATION:Rigpa Melbourne\, 803 Nicholson St\, Carlton North\, Melbourne\, Victoria\, 3054\, Australia
CATEGORIES:For Everyone,Melbourne - Everyone
ATTACH;FMTTYPE=image/jpeg:https://rigpa.org.au/wp-content/uploads/2023/07/Gold_Buddha.jpg
ORGANIZER;CN="Rigpa Melbourne":MAILTO:melbourne@rigpa.org.au
END:VEVENT
BEGIN:VEVENT
DTSTART;TZID=Australia/Melbourne:20260103T100000
DTEND;TZID=Australia/Melbourne:20260103T104500
DTSTAMP:20260424T060927
CREATED:20251208T043235Z
LAST-MODIFIED:20251208T043654Z
UID:10007319-1767434400-1767437100@rigpa.org.au
SUMMARY:Three mornings of meditation for the New Year I Melbourne
DESCRIPTION:Come and Meditate! January 1st\, 2nd & 3rd\, 10 am until 10.45 am.\nStart the New Year in peace and harmony. Whether you’re new to meditation or an old hand\, these guided sessions are for everyone.\nAn experienced meditation instructor will hold these practices for three mornings.\nCome for one\, two or all three. You are welcome to share in a tea or coffee after if you’d like.\nSuggested donation at the door: $10 for workers or $5 for concession per session. Members free.
URL:https://rigpa.org.au/event/three-mornings-of-meditation-for-the-new-year-2/2026-01-03/
LOCATION:Rigpa Melbourne\, 803 Nicholson St\, Carlton North\, Melbourne\, Victoria\, 3054\, Australia
CATEGORIES:For Everyone,Melbourne - Everyone
ATTACH;FMTTYPE=image/jpeg:https://rigpa.org.au/wp-content/uploads/2023/07/Gold_Buddha.jpg
ORGANIZER;CN="Rigpa Melbourne":MAILTO:melbourne@rigpa.org.au
END:VEVENT
BEGIN:VEVENT
DTSTART;TZID=Australia/Melbourne:20260104T173000
DTEND;TZID=Australia/Melbourne:20260104T183000
DTSTAMP:20260424T060927
CREATED:20250401T042647Z
LAST-MODIFIED:20260325T075227Z
UID:10005417-1767547800-1767551400@rigpa.org.au
SUMMARY:Sunday Meditation\, every week
DESCRIPTION:Every Sunday\, all are welcome to join this 1-hour drop-in meditation session. Sit quietly with others and rest your mind before the week starts again. \nSimple instructions provided. \nSuggest donation $10 or $5 if concession. \nEnquiries: melbourne@rigpa.org.au
URL:https://rigpa.org.au/event/sunday-meditation-2-2/2026-01-04/
LOCATION:Rigpa Melbourne\, 803 Nicholson St\, Carlton North\, Melbourne\, Victoria\, 3054\, Australia
CATEGORIES:Featured Melbourne,For Everyone,Melbourne - Everyone
ATTACH;FMTTYPE=image/png:https://rigpa.org.au/wp-content/uploads/2023/03/Melb-DIM-Sunday-com.png
ORGANIZER;CN="Rigpa Melbourne":MAILTO:melbourne@rigpa.org.au
END:VEVENT
BEGIN:VEVENT
DTSTART;TZID=Australia/Melbourne:20260111T173000
DTEND;TZID=Australia/Melbourne:20260111T183000
DTSTAMP:20260424T060927
CREATED:20250401T042647Z
LAST-MODIFIED:20260325T075227Z
UID:10005418-1768152600-1768156200@rigpa.org.au
SUMMARY:Sunday Meditation\, every week
DESCRIPTION:Every Sunday\, all are welcome to join this 1-hour drop-in meditation session. Sit quietly with others and rest your mind before the week starts again. \nSimple instructions provided. \nSuggest donation $10 or $5 if concession. \nEnquiries: melbourne@rigpa.org.au
URL:https://rigpa.org.au/event/sunday-meditation-2-2/2026-01-11/
LOCATION:Rigpa Melbourne\, 803 Nicholson St\, Carlton North\, Melbourne\, Victoria\, 3054\, Australia
CATEGORIES:Featured Melbourne,For Everyone,Melbourne - Everyone
ATTACH;FMTTYPE=image/png:https://rigpa.org.au/wp-content/uploads/2023/03/Melb-DIM-Sunday-com.png
ORGANIZER;CN="Rigpa Melbourne":MAILTO:melbourne@rigpa.org.au
END:VEVENT
BEGIN:VEVENT
DTSTART;TZID=Australia/Melbourne:20260118T173000
DTEND;TZID=Australia/Melbourne:20260118T183000
DTSTAMP:20260424T060927
CREATED:20250401T042647Z
LAST-MODIFIED:20260325T075227Z
UID:10005419-1768757400-1768761000@rigpa.org.au
SUMMARY:Sunday Meditation\, every week
DESCRIPTION:Every Sunday\, all are welcome to join this 1-hour drop-in meditation session. Sit quietly with others and rest your mind before the week starts again. \nSimple instructions provided. \nSuggest donation $10 or $5 if concession. \nEnquiries: melbourne@rigpa.org.au
URL:https://rigpa.org.au/event/sunday-meditation-2-2/2026-01-18/
LOCATION:Rigpa Melbourne\, 803 Nicholson St\, Carlton North\, Melbourne\, Victoria\, 3054\, Australia
CATEGORIES:Featured Melbourne,For Everyone,Melbourne - Everyone
ATTACH;FMTTYPE=image/png:https://rigpa.org.au/wp-content/uploads/2023/03/Melb-DIM-Sunday-com.png
ORGANIZER;CN="Rigpa Melbourne":MAILTO:melbourne@rigpa.org.au
END:VEVENT
BEGIN:VEVENT
DTSTART;VALUE=DATE:20260122
DTEND;VALUE=DATE:20260127
DTSTAMP:20260424T060927
CREATED:20251106T022218Z
LAST-MODIFIED:20251222T090148Z
UID:10006836-1769040000-1769471999@rigpa.org.au
SUMMARY:Know your mind\, transform your life
DESCRIPTION:This five-day retreat will take you to the heart of the revolutionary insight of Buddhism\, that life and death are in the mind\, and nowhere else. In Dzogchen—the most direct stream of wisdom within the teachings of Buddhism—the mind is revealed as the universal basis of experience: the creator of happiness and the creator of suffering. \nGuided by the teachings of the Buddha\, deep reflection\, and our own personal meditative insight\, we will investigate exactly how the mind is the root of our entire reality. This exploration leads to a profound certainty and confidence in our mind’s essence: the lucid\, pure awareness that underlies the whole of life and death. \nThe foundation of trust in our inherently pure nature\, allows us to investigate \n\nhow the mind’s unending display of thoughts and emotions are workable\nthe cognitive and emotional patterns of delusion that perpetuate samsara; and\nthe challenging\, yet liberating notion\, that ‘samsara is mind turned outwardly\, lost in its projection\, whereas nirvana is mind turned inwardly\, recognising its nature.’\n\nThis paves the way to the profound method of leaving the mind unaltered in its true nature\, finding a natural great peace\, bliss and clarity. \nThe retreat will allow for reflection and meditation on the teachings tailored to each participants’ prior experience: from complete beginners to ngondro\, and dzogchen practitioners. \nJoin us for a journey from our ordinary\, everyday mind\, to the true essence and nature of mind. \n  \n📍Rigpa Melbourne\, 803 Nicholson St\, Carlton North;\n📍Rigpa Sydney\, 158 Australia St\, Newtown\n📍& Online \n(Those gathering at the Rigpa Melbourne Centre will view the live event from Sydney via Zoom. To attend the retreat at the Melbourne Centre\, please select the online option when registering. You may register to attend part or all of the retreat. Our Melbourne team will then be in touch to confirm arrangements.)
URL:https://rigpa.org.au/event/know-your-mind-transform-your-life/
LOCATION:Rigpa Sydney\, 158 Australia St\, Newtown\, Sydney\, NSW\, 2042\, Australia
CATEGORIES:Established Students,For Everyone,Melbourne - Everyone,Melbourne Established Students,Newcastle - All welcome,Online,Sydney - Established,Sydney - Everyone
ATTACH;FMTTYPE=image/png:https://rigpa.org.au/wp-content/uploads/2025/11/KYMTYL-mel-syd-online-square.png
ORGANIZER;CN="Rigpa Sydney":MAILTO:sydney@rigpa.org.au
END:VEVENT
BEGIN:VEVENT
DTSTART;TZID=Australia/Melbourne:20260125T173000
DTEND;TZID=Australia/Melbourne:20260125T183000
DTSTAMP:20260424T060927
CREATED:20250401T042647Z
LAST-MODIFIED:20260325T075227Z
UID:10005420-1769362200-1769365800@rigpa.org.au
SUMMARY:Sunday Meditation\, every week
DESCRIPTION:Every Sunday\, all are welcome to join this 1-hour drop-in meditation session. Sit quietly with others and rest your mind before the week starts again. \nSimple instructions provided. \nSuggest donation $10 or $5 if concession. \nEnquiries: melbourne@rigpa.org.au
URL:https://rigpa.org.au/event/sunday-meditation-2-2/2026-01-25/
LOCATION:Rigpa Melbourne\, 803 Nicholson St\, Carlton North\, Melbourne\, Victoria\, 3054\, Australia
CATEGORIES:Featured Melbourne,For Everyone,Melbourne - Everyone
ATTACH;FMTTYPE=image/png:https://rigpa.org.au/wp-content/uploads/2023/03/Melb-DIM-Sunday-com.png
ORGANIZER;CN="Rigpa Melbourne":MAILTO:melbourne@rigpa.org.au
END:VEVENT
END:VCALENDAR