BEGIN:VCALENDAR
VERSION:2.0
PRODID:-//Rigpa Australia - ECPv6.15.20//NONSGML v1.0//EN
CALSCALE:GREGORIAN
METHOD:PUBLISH
X-ORIGINAL-URL:https://rigpa.org.au
X-WR-CALDESC:Events for Rigpa Australia
REFRESH-INTERVAL;VALUE=DURATION:PT1H
X-Robots-Tag:noindex
X-PUBLISHED-TTL:PT1H
BEGIN:VTIMEZONE
TZID:Australia/Melbourne
BEGIN:STANDARD
TZOFFSETFROM:+1100
TZOFFSETTO:+1000
TZNAME:AEST
DTSTART:20240406T160000
END:STANDARD
BEGIN:DAYLIGHT
TZOFFSETFROM:+1000
TZOFFSETTO:+1100
TZNAME:AEDT
DTSTART:20241005T160000
END:DAYLIGHT
BEGIN:STANDARD
TZOFFSETFROM:+1100
TZOFFSETTO:+1000
TZNAME:AEST
DTSTART:20250405T160000
END:STANDARD
BEGIN:DAYLIGHT
TZOFFSETFROM:+1000
TZOFFSETTO:+1100
TZNAME:AEDT
DTSTART:20251004T160000
END:DAYLIGHT
BEGIN:STANDARD
TZOFFSETFROM:+1100
TZOFFSETTO:+1000
TZNAME:AEST
DTSTART:20260404T160000
END:STANDARD
BEGIN:DAYLIGHT
TZOFFSETFROM:+1000
TZOFFSETTO:+1100
TZNAME:AEDT
DTSTART:20261003T160000
END:DAYLIGHT
END:VTIMEZONE
BEGIN:VEVENT
DTSTART;TZID=Australia/Melbourne:20251102T173000
DTEND;TZID=Australia/Melbourne:20251102T183000
DTSTAMP:20260424T131839
CREATED:20250401T042647Z
LAST-MODIFIED:20260325T075227Z
UID:10005408-1762104600-1762108200@rigpa.org.au
SUMMARY:Sunday Meditation\, every week
DESCRIPTION:Every Sunday\, all are welcome to join this 1-hour drop-in meditation session. Sit quietly with others and rest your mind before the week starts again. \nSimple instructions provided. \nSuggest donation $10 or $5 if concession. \nEnquiries: melbourne@rigpa.org.au
URL:https://rigpa.org.au/event/sunday-meditation-2-2/2025-11-02/
LOCATION:Rigpa Melbourne\, 803 Nicholson St\, Carlton North\, Melbourne\, Victoria\, 3054\, Australia
CATEGORIES:Featured Melbourne,For Everyone,Melbourne - Everyone
ATTACH;FMTTYPE=image/png:https://rigpa.org.au/wp-content/uploads/2023/03/Melb-DIM-Sunday-com.png
ORGANIZER;CN="Rigpa Melbourne":MAILTO:melbourne@rigpa.org.au
END:VEVENT
BEGIN:VEVENT
DTSTART;TZID=Australia/Melbourne:20251103T190000
DTEND;TZID=Australia/Melbourne:20251103T210000
DTSTAMP:20260424T131839
CREATED:20250408T010529Z
LAST-MODIFIED:20251007T041201Z
UID:10005965-1762196400-1762203600@rigpa.org.au
SUMMARY:Inspiring a Revolution in Your Heart and Mind\, Modules 7 & 8 | Melbourne
DESCRIPTION:Join us on an experiential journey through The Tibetan Book of Living and Dying. Discover a deep and universal wisdom explored in the major themes of the book\, and learn about their practical implications for living well. Suitable for people of any religion or of none\, this course encourages you to reflect on the Buddhist teachings\, to see what makes sense to you and to experiment with applying these teachings in your daily life. \nThe Tibetan Book of Living and Dying is widely regarded as one of the most complete and authoritative presentations of Tibetan Buddhism. A manual for life and death and a source of sacred inspiration from the heart of the Tibetan tradition\, The Tibetan Book of Living and Dying provides a lucid and inspiring introduction to the practice of meditation\, to the nature of mind\, to karma and rebirth\, and to the trials and rewards of the spiritual path. The teachings\, meditation and contemplations from this authentic tradition reveal how each of us can live a more meaningful\, connected and fulfilling life. \nRegister for the 10 weeks of Modules 7 & 8 using the link below.
URL:https://rigpa.org.au/event/inspiring-a-revolution-in-your-heart-and-mind-modules-7-8-melbourne/2025-11-03/
LOCATION:Rigpa Melbourne\, 803 Nicholson St\, Carlton North\, Melbourne\, Victoria\, 3054\, Australia
CATEGORIES:For Everyone,Melbourne - Everyone
ATTACH;FMTTYPE=image/png:https://rigpa.org.au/wp-content/uploads/2024/11/Inspiring.png
ORGANIZER;CN="Rigpa Melbourne":MAILTO:melbourne@rigpa.org.au
END:VEVENT
BEGIN:VEVENT
DTSTART;TZID=Australia/Melbourne:20251108T090000
DTEND;TZID=Australia/Melbourne:20251108T170000
DTSTAMP:20260424T131839
CREATED:20251011T050436Z
LAST-MODIFIED:20251012T042747Z
UID:10006814-1762592400-1762621200@rigpa.org.au
SUMMARY:The Wealth of Our Innate Wakefulness - Saturday 8 November 2025
DESCRIPTION:Please note that the teachings in day 2 follow on from day 1 with a beginning\, middle and end\, and therefore it is advisable to register for both days. All effort will be made to help those unable to attend both days to catch up. \nA weekend teaching on buddha nature\nOut of all of Buddha’s teachings\, those on buddha nature communicate most directly what lies at their heart: that we are fundamentally good\, and our essential nature\, our identity\, is the same profound\, peaceful\, stainless\, lucid\, and unconditioned‍ essence that Buddha himself discovered as a result of following the spiritual path. \nConfidence in buddha nature is deeply transformative in terms of our outlook on life; the way we view ourselves\, the world around us\, our values and priorities in life\, our relationship to our spiritual path: all this is touched by the teachings on buddha nature. \nThis weekend teaching will bring together classic Indian and Tibetan Buddhist teachings on buddha nature\, and contemporary teachings by Sogyal Rinpoche\, which will give us the opportunity to discover our own buddha nature\, and give expression to it in our thoughts and actions. \nWe will work together on building confidence in our buddha nature through the practice of contemplation — which will enable us to see its relevance to our own lives and experience — and more experientially\, through the practice of meditation: learning to let go and relax in the clarity and awareness of our mind which is available to us all the time. \nTogether we will reflect on questions like: \n\nWhat are we looking for in life? And why?\nWho are we really? If our thoughts\, emotions\, our body\, and our world are always changing\, is there something in us that is really ‘us ’\, which is constant and unchanging?\nWhat is mind?\nHow can I know I have buddha nature?\nIf my mind’s nature is buddha nature\, why am I suffering?\nHow to overcome fear?\nHow do we habitually relate to ourselves and others? And why?\nWhat is wisdom? And what is compassion?\nHow can I come to fully actualise my buddha nature?\n\nAbout Jan van der Breggen \nJan began his path of meditation at 17 years old\, touched by the tenderness of the human experience and filled with questions about what reality was all about. Forty years later\, Jan continues to be moved by the vast profundity of the Buddhist path and its vision of the inherent wisdom\, loving kindness and strength that lies in the minds of each and every one of us. \nJan completed Rigpa’s three-year retreat under the guidance of Sogyal Rinpoche. He was entrusted as one of Rigpa’s Senior teachers by Khenchen Namdrol Rinpoche and Mindroling Jetsun Khandro in 2022. Jan has been a participant in the Milinda program since 2017. Milinda is a 10-year\, international Buddhist teacher training program under the guidance of Dzongsar Khyentse Rinpoche\, with a three month per year intensive and immersive in-person learning and reflection program. \nJan grew up in the Netherlands where he obtained a Masters Degree in Social and Historical Anthropology. He has lived in Brisbane\, Australia\, since 1998\, and was instrumental in founding Rigpa Brisbane in 1999\, where he has served as a Dharma instructor for over 20 years. \nAbout Alessandra Pizzardello \nAlessandra is a dedicated practitioner of Tibetan Buddhism with over 20 years of study and retreat experience\, including at Rigpa Shedra East in Nepal. \nOriginally from Italy\, she also lived in Sweden and Australia\, where she started a successful business that has been running for over two decades before deciding to fully committing to the Dharma. Rooted in the Nyingma and Longchen Nyingtik traditions\, Alessandra has been sharing the Buddhist teachings as a Dharma instructor in Australia for several years\, with the heartfelt wish to support and inspire others on their own path of study and practice. \n  \nCost for each day : \nSangha and Concession: $30 per day \nFull Price: $50 per day \nBenefactor $75 per day \nBYO lunch \nMorning and Afternoon tea provided
URL:https://rigpa.org.au/event/the-wealth-of-our-innate-wakefulness-saturday-8-november-2025/
LOCATION:Rigpa Melbourne\, 803 Nicholson St\, Carlton North\, Melbourne\, Victoria\, 3054\, Australia
CATEGORIES:Melbourne - Everyone
ATTACH;FMTTYPE=image/jpeg:https://rigpa.org.au/wp-content/uploads/2025/10/bodhgayabuddha.jpg
ORGANIZER;CN="Rigpa Melbourne":MAILTO:melbourne@rigpa.org.au
END:VEVENT
BEGIN:VEVENT
DTSTART;TZID=Australia/Melbourne:20251109T090000
DTEND;TZID=Australia/Melbourne:20251109T153000
DTSTAMP:20260424T131839
CREATED:20251011T051524Z
LAST-MODIFIED:20251012T042804Z
UID:10006815-1762678800-1762702200@rigpa.org.au
SUMMARY:The Wealth of Our Innate Wakefulness - Sunday 9 November 2025
DESCRIPTION:Please note that the teachings in day 2 follow on from day 1 with a beginning\, middle and end\, and therefore it is advisable to register for both days. All effort will be made to help those unable to attend both days to catch up. \nA weekend teaching on buddha nature\nOut of all of Buddha’s teachings\, those on buddha nature communicate most directly what lies at their heart: that we are fundamentally good\, and our essential nature\, our identity\, is the same profound\, peaceful\, stainless\, lucid\, and unconditioned‍ essence that Buddha himself discovered as a result of following the spiritual path. \nConfidence in buddha nature is deeply transformative in terms of our outlook on life; the way we view ourselves\, the world around us\, our values and priorities in life\, our relationship to our spiritual path: all this is touched by the teachings on buddha nature. \nThis weekend teaching will bring together classic Indian and Tibetan Buddhist teachings on buddha nature\, and contemporary teachings by Sogyal Rinpoche\, which will give us the opportunity to discover our own buddha nature\, and give expression to it in our thoughts and actions. \nWe will work together on building confidence in our buddha nature through the practice of contemplation — which will enable us to see its relevance to our own lives and experience — and more experientially\, through the practice of meditation: learning to let go and relax in the clarity and awareness of our mind which is available to us all the time. \nTogether we will reflect on questions like: \n\nWhat are we looking for in life? And why?\nWho are we really? If our thoughts\, emotions\, our body\, and our world are always changing\, is there something in us that is really ‘us ’\, which is constant and unchanging?\nWhat is mind?\nHow can I know I have buddha nature?\nIf my mind’s nature is buddha nature\, why am I suffering?\nHow to overcome fear?\nHow do we habitually relate to ourselves and others? And why?\nWhat is wisdom? And what is compassion?\nHow can I come to fully actualise my buddha nature?\n\nAbout Jan van der Breggen \nJan began his path of meditation at 17 years old\, touched by the tenderness of the human experience and filled with questions about what reality was all about. Forty years later\, Jan continues to be moved by the vast profundity of the Buddhist path and its vision of the inherent wisdom\, loving kindness and strength that lies in the minds of each and every one of us. \nJan completed Rigpa’s three-year retreat under the guidance of Sogyal Rinpoche. He was entrusted as one of Rigpa’s Senior teachers by Khenchen Namdrol Rinpoche and Mindroling Jetsun Khandro in 2022. Jan has been a participant in the Milinda program since 2017. Milinda is a 10-year\, international Buddhist teacher training program under the guidance of Dzongsar Khyentse Rinpoche\, with a three month per year intensive and immersive in-person learning and reflection program. \nJan grew up in the Netherlands where he obtained a Masters Degree in Social and Historical Anthropology. He has lived in Brisbane\, Australia\, since 1998\, and was instrumental in founding Rigpa Brisbane in 1999\, where he has served as a Dharma instructor for over 20 years. \nAbout Alessandra Pizzardello \nAlessandra is a dedicated practitioner of Tibetan Buddhism with over 20 years of study and retreat experience\, including at Rigpa Shedra East in Nepal. \nOriginally from Italy\, she also lived in Sweden and Australia\, where she started a successful business that has been running for over two decades before deciding to fully committing to the Dharma. Rooted in the Nyingma and Longchen Nyingtik traditions\, Alessandra has been sharing the Buddhist teachings as a Dharma instructor in Australia for several years\, with the heartfelt wish to support and inspire others on their own path of study and practice. \n  \nCost for each day : \nSangha and Concession: $30 per day \nFull Price: $50 per day \nBenefactor $75 per day \nBYO lunch \nMorning and Afternoon tea provided \n 
URL:https://rigpa.org.au/event/the-wealth-of-our-innate-wakefulness-sunday-9-november-2025/
LOCATION:Rigpa Melbourne\, 803 Nicholson St\, Carlton North\, Melbourne\, Victoria\, 3054\, Australia
CATEGORIES:Melbourne - Everyone
ATTACH;FMTTYPE=image/jpeg:https://rigpa.org.au/wp-content/uploads/2025/10/bodhgayabuddha.jpg
END:VEVENT
BEGIN:VEVENT
DTSTART;TZID=Australia/Melbourne:20251109T173000
DTEND;TZID=Australia/Melbourne:20251109T183000
DTSTAMP:20260424T131839
CREATED:20250401T042647Z
LAST-MODIFIED:20260325T075227Z
UID:10005409-1762709400-1762713000@rigpa.org.au
SUMMARY:Sunday Meditation\, every week
DESCRIPTION:Every Sunday\, all are welcome to join this 1-hour drop-in meditation session. Sit quietly with others and rest your mind before the week starts again. \nSimple instructions provided. \nSuggest donation $10 or $5 if concession. \nEnquiries: melbourne@rigpa.org.au
URL:https://rigpa.org.au/event/sunday-meditation-2-2/2025-11-09/
LOCATION:Rigpa Melbourne\, 803 Nicholson St\, Carlton North\, Melbourne\, Victoria\, 3054\, Australia
CATEGORIES:Featured Melbourne,For Everyone,Melbourne - Everyone
ATTACH;FMTTYPE=image/png:https://rigpa.org.au/wp-content/uploads/2023/03/Melb-DIM-Sunday-com.png
ORGANIZER;CN="Rigpa Melbourne":MAILTO:melbourne@rigpa.org.au
END:VEVENT
BEGIN:VEVENT
DTSTART;TZID=Australia/Melbourne:20251110T190000
DTEND;TZID=Australia/Melbourne:20251110T210000
DTSTAMP:20260424T131839
CREATED:20250408T010529Z
LAST-MODIFIED:20251007T041201Z
UID:10005966-1762801200-1762808400@rigpa.org.au
SUMMARY:Inspiring a Revolution in Your Heart and Mind\, Modules 7 & 8 | Melbourne
DESCRIPTION:Join us on an experiential journey through The Tibetan Book of Living and Dying. Discover a deep and universal wisdom explored in the major themes of the book\, and learn about their practical implications for living well. Suitable for people of any religion or of none\, this course encourages you to reflect on the Buddhist teachings\, to see what makes sense to you and to experiment with applying these teachings in your daily life. \nThe Tibetan Book of Living and Dying is widely regarded as one of the most complete and authoritative presentations of Tibetan Buddhism. A manual for life and death and a source of sacred inspiration from the heart of the Tibetan tradition\, The Tibetan Book of Living and Dying provides a lucid and inspiring introduction to the practice of meditation\, to the nature of mind\, to karma and rebirth\, and to the trials and rewards of the spiritual path. The teachings\, meditation and contemplations from this authentic tradition reveal how each of us can live a more meaningful\, connected and fulfilling life. \nRegister for the 10 weeks of Modules 7 & 8 using the link below.
URL:https://rigpa.org.au/event/inspiring-a-revolution-in-your-heart-and-mind-modules-7-8-melbourne/2025-11-10/
LOCATION:Rigpa Melbourne\, 803 Nicholson St\, Carlton North\, Melbourne\, Victoria\, 3054\, Australia
CATEGORIES:For Everyone,Melbourne - Everyone
ATTACH;FMTTYPE=image/png:https://rigpa.org.au/wp-content/uploads/2024/11/Inspiring.png
ORGANIZER;CN="Rigpa Melbourne":MAILTO:melbourne@rigpa.org.au
END:VEVENT
BEGIN:VEVENT
DTSTART;TZID=Australia/Melbourne:20251116T173000
DTEND;TZID=Australia/Melbourne:20251116T183000
DTSTAMP:20260424T131839
CREATED:20250401T042647Z
LAST-MODIFIED:20260325T075227Z
UID:10005410-1763314200-1763317800@rigpa.org.au
SUMMARY:Sunday Meditation\, every week
DESCRIPTION:Every Sunday\, all are welcome to join this 1-hour drop-in meditation session. Sit quietly with others and rest your mind before the week starts again. \nSimple instructions provided. \nSuggest donation $10 or $5 if concession. \nEnquiries: melbourne@rigpa.org.au
URL:https://rigpa.org.au/event/sunday-meditation-2-2/2025-11-16/
LOCATION:Rigpa Melbourne\, 803 Nicholson St\, Carlton North\, Melbourne\, Victoria\, 3054\, Australia
CATEGORIES:Featured Melbourne,For Everyone,Melbourne - Everyone
ATTACH;FMTTYPE=image/png:https://rigpa.org.au/wp-content/uploads/2023/03/Melb-DIM-Sunday-com.png
ORGANIZER;CN="Rigpa Melbourne":MAILTO:melbourne@rigpa.org.au
END:VEVENT
BEGIN:VEVENT
DTSTART;TZID=Australia/Melbourne:20251117T190000
DTEND;TZID=Australia/Melbourne:20251117T210000
DTSTAMP:20260424T131839
CREATED:20250408T010529Z
LAST-MODIFIED:20251007T041201Z
UID:10005967-1763406000-1763413200@rigpa.org.au
SUMMARY:Inspiring a Revolution in Your Heart and Mind\, Modules 7 & 8 | Melbourne
DESCRIPTION:Join us on an experiential journey through The Tibetan Book of Living and Dying. Discover a deep and universal wisdom explored in the major themes of the book\, and learn about their practical implications for living well. Suitable for people of any religion or of none\, this course encourages you to reflect on the Buddhist teachings\, to see what makes sense to you and to experiment with applying these teachings in your daily life. \nThe Tibetan Book of Living and Dying is widely regarded as one of the most complete and authoritative presentations of Tibetan Buddhism. A manual for life and death and a source of sacred inspiration from the heart of the Tibetan tradition\, The Tibetan Book of Living and Dying provides a lucid and inspiring introduction to the practice of meditation\, to the nature of mind\, to karma and rebirth\, and to the trials and rewards of the spiritual path. The teachings\, meditation and contemplations from this authentic tradition reveal how each of us can live a more meaningful\, connected and fulfilling life. \nRegister for the 10 weeks of Modules 7 & 8 using the link below.
URL:https://rigpa.org.au/event/inspiring-a-revolution-in-your-heart-and-mind-modules-7-8-melbourne/2025-11-17/
LOCATION:Rigpa Melbourne\, 803 Nicholson St\, Carlton North\, Melbourne\, Victoria\, 3054\, Australia
CATEGORIES:For Everyone,Melbourne - Everyone
ATTACH;FMTTYPE=image/png:https://rigpa.org.au/wp-content/uploads/2024/11/Inspiring.png
ORGANIZER;CN="Rigpa Melbourne":MAILTO:melbourne@rigpa.org.au
END:VEVENT
BEGIN:VEVENT
DTSTART;TZID=Australia/Melbourne:20251123T173000
DTEND;TZID=Australia/Melbourne:20251123T183000
DTSTAMP:20260424T131839
CREATED:20250401T042647Z
LAST-MODIFIED:20260325T075227Z
UID:10005411-1763919000-1763922600@rigpa.org.au
SUMMARY:Sunday Meditation\, every week
DESCRIPTION:Every Sunday\, all are welcome to join this 1-hour drop-in meditation session. Sit quietly with others and rest your mind before the week starts again. \nSimple instructions provided. \nSuggest donation $10 or $5 if concession. \nEnquiries: melbourne@rigpa.org.au
URL:https://rigpa.org.au/event/sunday-meditation-2-2/2025-11-23/
LOCATION:Rigpa Melbourne\, 803 Nicholson St\, Carlton North\, Melbourne\, Victoria\, 3054\, Australia
CATEGORIES:Featured Melbourne,For Everyone,Melbourne - Everyone
ATTACH;FMTTYPE=image/png:https://rigpa.org.au/wp-content/uploads/2023/03/Melb-DIM-Sunday-com.png
ORGANIZER;CN="Rigpa Melbourne":MAILTO:melbourne@rigpa.org.au
END:VEVENT
BEGIN:VEVENT
DTSTART;TZID=Australia/Melbourne:20251124T190000
DTEND;TZID=Australia/Melbourne:20251124T210000
DTSTAMP:20260424T131839
CREATED:20250408T010529Z
LAST-MODIFIED:20251007T041201Z
UID:10005968-1764010800-1764018000@rigpa.org.au
SUMMARY:Inspiring a Revolution in Your Heart and Mind\, Modules 7 & 8 | Melbourne
DESCRIPTION:Join us on an experiential journey through The Tibetan Book of Living and Dying. Discover a deep and universal wisdom explored in the major themes of the book\, and learn about their practical implications for living well. Suitable for people of any religion or of none\, this course encourages you to reflect on the Buddhist teachings\, to see what makes sense to you and to experiment with applying these teachings in your daily life. \nThe Tibetan Book of Living and Dying is widely regarded as one of the most complete and authoritative presentations of Tibetan Buddhism. A manual for life and death and a source of sacred inspiration from the heart of the Tibetan tradition\, The Tibetan Book of Living and Dying provides a lucid and inspiring introduction to the practice of meditation\, to the nature of mind\, to karma and rebirth\, and to the trials and rewards of the spiritual path. The teachings\, meditation and contemplations from this authentic tradition reveal how each of us can live a more meaningful\, connected and fulfilling life. \nRegister for the 10 weeks of Modules 7 & 8 using the link below.
URL:https://rigpa.org.au/event/inspiring-a-revolution-in-your-heart-and-mind-modules-7-8-melbourne/2025-11-24/
LOCATION:Rigpa Melbourne\, 803 Nicholson St\, Carlton North\, Melbourne\, Victoria\, 3054\, Australia
CATEGORIES:For Everyone,Melbourne - Everyone
ATTACH;FMTTYPE=image/png:https://rigpa.org.au/wp-content/uploads/2024/11/Inspiring.png
ORGANIZER;CN="Rigpa Melbourne":MAILTO:melbourne@rigpa.org.au
END:VEVENT
BEGIN:VEVENT
DTSTART;TZID=Australia/Melbourne:20251130T173000
DTEND;TZID=Australia/Melbourne:20251130T183000
DTSTAMP:20260424T131839
CREATED:20250401T042647Z
LAST-MODIFIED:20260325T075227Z
UID:10005412-1764523800-1764527400@rigpa.org.au
SUMMARY:Sunday Meditation\, every week
DESCRIPTION:Every Sunday\, all are welcome to join this 1-hour drop-in meditation session. Sit quietly with others and rest your mind before the week starts again. \nSimple instructions provided. \nSuggest donation $10 or $5 if concession. \nEnquiries: melbourne@rigpa.org.au
URL:https://rigpa.org.au/event/sunday-meditation-2-2/2025-11-30/
LOCATION:Rigpa Melbourne\, 803 Nicholson St\, Carlton North\, Melbourne\, Victoria\, 3054\, Australia
CATEGORIES:Featured Melbourne,For Everyone,Melbourne - Everyone
ATTACH;FMTTYPE=image/png:https://rigpa.org.au/wp-content/uploads/2023/03/Melb-DIM-Sunday-com.png
ORGANIZER;CN="Rigpa Melbourne":MAILTO:melbourne@rigpa.org.au
END:VEVENT
END:VCALENDAR