BEGIN:VCALENDAR
VERSION:2.0
PRODID:-//Rigpa Australia - ECPv6.15.20//NONSGML v1.0//EN
CALSCALE:GREGORIAN
METHOD:PUBLISH
X-WR-CALNAME:Rigpa Australia
X-ORIGINAL-URL:https://rigpa.org.au
X-WR-CALDESC:Events for Rigpa Australia
REFRESH-INTERVAL;VALUE=DURATION:PT1H
X-Robots-Tag:noindex
X-PUBLISHED-TTL:PT1H
BEGIN:VTIMEZONE
TZID:Australia/Melbourne
BEGIN:STANDARD
TZOFFSETFROM:+1100
TZOFFSETTO:+1000
TZNAME:AEST
DTSTART:20240406T160000
END:STANDARD
BEGIN:DAYLIGHT
TZOFFSETFROM:+1000
TZOFFSETTO:+1100
TZNAME:AEDT
DTSTART:20241005T160000
END:DAYLIGHT
BEGIN:STANDARD
TZOFFSETFROM:+1100
TZOFFSETTO:+1000
TZNAME:AEST
DTSTART:20250405T160000
END:STANDARD
BEGIN:DAYLIGHT
TZOFFSETFROM:+1000
TZOFFSETTO:+1100
TZNAME:AEDT
DTSTART:20251004T160000
END:DAYLIGHT
BEGIN:STANDARD
TZOFFSETFROM:+1100
TZOFFSETTO:+1000
TZNAME:AEST
DTSTART:20260404T160000
END:STANDARD
BEGIN:DAYLIGHT
TZOFFSETFROM:+1000
TZOFFSETTO:+1100
TZNAME:AEDT
DTSTART:20261003T160000
END:DAYLIGHT
END:VTIMEZONE
BEGIN:VEVENT
DTSTART;TZID=Australia/Melbourne:20251005T173000
DTEND;TZID=Australia/Melbourne:20251005T183000
DTSTAMP:20260424T162455
CREATED:20250401T042647Z
LAST-MODIFIED:20260325T075227Z
UID:10005404-1759685400-1759689000@rigpa.org.au
SUMMARY:Sunday Meditation\, every week
DESCRIPTION:Every Sunday\, all are welcome to join this 1-hour drop-in meditation session. Sit quietly with others and rest your mind before the week starts again. \nSimple instructions provided. \nSuggest donation $10 or $5 if concession. \nEnquiries: melbourne@rigpa.org.au
URL:https://rigpa.org.au/event/sunday-meditation-2-2/2025-10-05/
LOCATION:Rigpa Melbourne\, 803 Nicholson St\, Carlton North\, Melbourne\, Victoria\, 3054\, Australia
CATEGORIES:Featured Melbourne,For Everyone,Melbourne - Everyone
ATTACH;FMTTYPE=image/png:https://rigpa.org.au/wp-content/uploads/2023/03/Melb-DIM-Sunday-com.png
ORGANIZER;CN="Rigpa Melbourne":MAILTO:melbourne@rigpa.org.au
END:VEVENT
BEGIN:VEVENT
DTSTART;TZID=Australia/Melbourne:20251006T190000
DTEND;TZID=Australia/Melbourne:20251006T210000
DTSTAMP:20260424T162455
CREATED:20250408T010407Z
LAST-MODIFIED:20250708T042249Z
UID:10006368-1759777200-1759784400@rigpa.org.au
SUMMARY:Inspiring a Revolution in Your Heart and Mind\, Modules 5 & 6 | Melbourne
DESCRIPTION:Join us on an experiential journey through The Tibetan Book of Living and Dying. Discover a deep and universal wisdom explored in the major themes of the book\, and learn about their practical implications for living well. Suitable for people of any religion or of none\, this course encourages you to reflect on the Buddhist teachings\, to see what makes sense to you and to experiment with applying these teachings in your daily life. \nThe Tibetan Book of Living and Dying is widely regarded as one of the most complete and authoritative presentations of Tibetan Buddhism. A manual for life and death and a source of sacred inspiration from the heart of the Tibetan tradition\, The Tibetan Book of Living and Dying provides a lucid and inspiring introduction to the practice of meditation\, to the nature of mind\, to karma and rebirth\, and to the trials and rewards of the spiritual path. The teachings\, meditation and contemplations from this authentic tradition reveal how each of us can live a more meaningful\, connected and fulfilling life. \nNote that during Module 6\, there will be a 3-week break. Monday 8th to 22nd September inclusive there will be no classes. \nRegister for the 10 weeks of Modules 5 & 6 using the link below.
URL:https://rigpa.org.au/event/inspiring-a-revolution-in-your-heart-and-mind-modules-5-6-melbourne/2025-10-06/
LOCATION:Rigpa Melbourne\, 803 Nicholson St\, Carlton North\, Melbourne\, Victoria\, 3054\, Australia
CATEGORIES:For Everyone,Melbourne - Everyone
ATTACH;FMTTYPE=image/png:https://rigpa.org.au/wp-content/uploads/2024/11/Inspiring.png
ORGANIZER;CN="Rigpa Melbourne":MAILTO:melbourne@rigpa.org.au
END:VEVENT
BEGIN:VEVENT
DTSTART;TZID=Australia/Melbourne:20251006T190000
DTEND;TZID=Australia/Melbourne:20251006T210000
DTSTAMP:20260424T162455
CREATED:20250721T010522Z
LAST-MODIFIED:20250721T010949Z
UID:10005911-1759777200-1759784400@rigpa.org.au
SUMMARY:Inspiring a Revolution in Your Heart and Mind\, Modules 3 & 4 | Melbourne
DESCRIPTION:Join us on an experiential journey through The Tibetan Book of Living and Dying. Discover a deep and universal wisdom explored in the major themes of the book\, and learn about their practical implications for living well. Suitable for people of any religion or of none\, this course encourages you to reflect on the Buddhist teachings\, to see what makes sense to you and to experiment with applying these teachings in your daily life. \nThe Tibetan Book of Living and Dying is widely regarded as one of the most complete and authoritative presentations of Tibetan Buddhism. A manual for life and death and a source of sacred inspiration from the heart of the Tibetan tradition\, The Tibetan Book of Living and Dying provides a lucid and inspiring introduction to the practice of meditation\, to the nature of mind\, to karma and rebirth\, and to the trials and rewards of the spiritual path. The teachings\, meditation and contemplations from this authentic tradition reveal how each of us can live a more meaningful\, connected and fulfilling life. \nRegister for the 10 weeks of Modules 3 & 4 using the link below.
URL:https://rigpa.org.au/event/inspiring-a-revolution-in-your-heart-and-mind-modules-3-4-melbourne-2-2/2025-10-06/
LOCATION:Rigpa Melbourne\, 803 Nicholson St\, Carlton North\, Melbourne\, Victoria\, 3054\, Australia
CATEGORIES:For Everyone,Melbourne - Everyone
ATTACH;FMTTYPE=image/png:https://rigpa.org.au/wp-content/uploads/2024/11/Inspiring.png
ORGANIZER;CN="Rigpa Melbourne":MAILTO:melbourne@rigpa.org.au
END:VEVENT
BEGIN:VEVENT
DTSTART;TZID=Australia/Melbourne:20251006T190000
DTEND;TZID=Australia/Melbourne:20251006T210000
DTSTAMP:20260424T162455
CREATED:20251009T030007Z
LAST-MODIFIED:20251009T030007Z
UID:10006476-1759777200-1759784400@rigpa.org.au
SUMMARY:Practical Wisdom: Wisdom & Compassion in Action
DESCRIPTION:How can we apply the wisdom and compassion of the Buddha’s teachings to our daily lives? How can we translate the presence and awareness which we cultivate on the meditation cushion into action? How can we use our everyday activities to strengthen and deepen our view and understanding of reality? \nIn this day and age\, many of us find ourselves feeling busier and more stressed and it seems more difficult to find time for meditation practice. If we really wish to progress on the spiritual path\, we need to bridge the separation between our study and practice and our everyday life. Based on the wisdom of the Buddhadharma\, Sogyal Rinpoche’s Practical Wisdom teachings provide us with a rich array of advice and skilful tools to help us in our task of integrating the dharma into our lives in order to bring benefit to others. \nThe Practical Wisdom teachings show us how to dissolve the separation between our practice and our everyday life; how to use every opportunity of our day to progress on the spiritual path; and how to accomplish our everyday tasks more effortlessly and efficiently by applying the principles of the Buddhist teachings to our actions. These teachings are practical\, relevant\, and even life changing. \nParticipants of the course will need basic understanding of the principles of Mahayana Buddhism\, as well as some familiarity with meditation and compassion practices. It is recommended for student who have completed a course or retreat with Rigpa. \nLed by Western meditation instructors with many years of experience\, each session consists of: \n\nVideo teachings from Sogyal Rinpoche.\nMeditation practice\nTime for contemplation\nGroup discussions and Q&A\, offering each student the opportunity to explore the teachings and practices in an open supportive environment and to connect with a community of practitioners.\n\nThis is a FREE event\, however a donation would be gratefully received.
URL:https://rigpa.org.au/event/practical-wisdom-wisdom-compassion-in-action-3/
LOCATION:Online via Zoom\, Australia
CATEGORIES:Adelaide Everyone,Brisbane Everyone,For Everyone,Melbourne - Everyone,Online,Sydney - Everyone
ATTACH;FMTTYPE=image/png:https://rigpa.org.au/wp-content/uploads/2025/07/Practical-Wisdom.png
END:VEVENT
BEGIN:VEVENT
DTSTART;TZID=Australia/Melbourne:20251012T173000
DTEND;TZID=Australia/Melbourne:20251012T183000
DTSTAMP:20260424T162455
CREATED:20250401T042647Z
LAST-MODIFIED:20260325T075227Z
UID:10005405-1760290200-1760293800@rigpa.org.au
SUMMARY:Sunday Meditation\, every week
DESCRIPTION:Every Sunday\, all are welcome to join this 1-hour drop-in meditation session. Sit quietly with others and rest your mind before the week starts again. \nSimple instructions provided. \nSuggest donation $10 or $5 if concession. \nEnquiries: melbourne@rigpa.org.au
URL:https://rigpa.org.au/event/sunday-meditation-2-2/2025-10-12/
LOCATION:Rigpa Melbourne\, 803 Nicholson St\, Carlton North\, Melbourne\, Victoria\, 3054\, Australia
CATEGORIES:Featured Melbourne,For Everyone,Melbourne - Everyone
ATTACH;FMTTYPE=image/png:https://rigpa.org.au/wp-content/uploads/2023/03/Melb-DIM-Sunday-com.png
ORGANIZER;CN="Rigpa Melbourne":MAILTO:melbourne@rigpa.org.au
END:VEVENT
BEGIN:VEVENT
DTSTART;TZID=Australia/Melbourne:20251013T190000
DTEND;TZID=Australia/Melbourne:20251013T210000
DTSTAMP:20260424T162455
CREATED:20250408T010529Z
LAST-MODIFIED:20251007T041201Z
UID:10005962-1760382000-1760389200@rigpa.org.au
SUMMARY:Inspiring a Revolution in Your Heart and Mind\, Modules 7 & 8 | Melbourne
DESCRIPTION:Join us on an experiential journey through The Tibetan Book of Living and Dying. Discover a deep and universal wisdom explored in the major themes of the book\, and learn about their practical implications for living well. Suitable for people of any religion or of none\, this course encourages you to reflect on the Buddhist teachings\, to see what makes sense to you and to experiment with applying these teachings in your daily life. \nThe Tibetan Book of Living and Dying is widely regarded as one of the most complete and authoritative presentations of Tibetan Buddhism. A manual for life and death and a source of sacred inspiration from the heart of the Tibetan tradition\, The Tibetan Book of Living and Dying provides a lucid and inspiring introduction to the practice of meditation\, to the nature of mind\, to karma and rebirth\, and to the trials and rewards of the spiritual path. The teachings\, meditation and contemplations from this authentic tradition reveal how each of us can live a more meaningful\, connected and fulfilling life. \nRegister for the 10 weeks of Modules 7 & 8 using the link below.
URL:https://rigpa.org.au/event/inspiring-a-revolution-in-your-heart-and-mind-modules-7-8-melbourne/2025-10-13/
LOCATION:Rigpa Melbourne\, 803 Nicholson St\, Carlton North\, Melbourne\, Victoria\, 3054\, Australia
CATEGORIES:For Everyone,Melbourne - Everyone
ATTACH;FMTTYPE=image/png:https://rigpa.org.au/wp-content/uploads/2024/11/Inspiring.png
ORGANIZER;CN="Rigpa Melbourne":MAILTO:melbourne@rigpa.org.au
END:VEVENT
BEGIN:VEVENT
DTSTART;TZID=Australia/Melbourne:20251013T190000
DTEND;TZID=Australia/Melbourne:20251013T210000
DTSTAMP:20260424T162455
CREATED:20250721T010522Z
LAST-MODIFIED:20250721T010949Z
UID:10005912-1760382000-1760389200@rigpa.org.au
SUMMARY:Inspiring a Revolution in Your Heart and Mind\, Modules 3 & 4 | Melbourne
DESCRIPTION:Join us on an experiential journey through The Tibetan Book of Living and Dying. Discover a deep and universal wisdom explored in the major themes of the book\, and learn about their practical implications for living well. Suitable for people of any religion or of none\, this course encourages you to reflect on the Buddhist teachings\, to see what makes sense to you and to experiment with applying these teachings in your daily life. \nThe Tibetan Book of Living and Dying is widely regarded as one of the most complete and authoritative presentations of Tibetan Buddhism. A manual for life and death and a source of sacred inspiration from the heart of the Tibetan tradition\, The Tibetan Book of Living and Dying provides a lucid and inspiring introduction to the practice of meditation\, to the nature of mind\, to karma and rebirth\, and to the trials and rewards of the spiritual path. The teachings\, meditation and contemplations from this authentic tradition reveal how each of us can live a more meaningful\, connected and fulfilling life. \nRegister for the 10 weeks of Modules 3 & 4 using the link below.
URL:https://rigpa.org.au/event/inspiring-a-revolution-in-your-heart-and-mind-modules-3-4-melbourne-2-2/2025-10-13/
LOCATION:Rigpa Melbourne\, 803 Nicholson St\, Carlton North\, Melbourne\, Victoria\, 3054\, Australia
CATEGORIES:For Everyone,Melbourne - Everyone
ATTACH;FMTTYPE=image/png:https://rigpa.org.au/wp-content/uploads/2024/11/Inspiring.png
ORGANIZER;CN="Rigpa Melbourne":MAILTO:melbourne@rigpa.org.au
END:VEVENT
BEGIN:VEVENT
DTSTART;TZID=Australia/Melbourne:20251019T173000
DTEND;TZID=Australia/Melbourne:20251019T183000
DTSTAMP:20260424T162455
CREATED:20250401T042647Z
LAST-MODIFIED:20260325T075227Z
UID:10005406-1760895000-1760898600@rigpa.org.au
SUMMARY:Sunday Meditation\, every week
DESCRIPTION:Every Sunday\, all are welcome to join this 1-hour drop-in meditation session. Sit quietly with others and rest your mind before the week starts again. \nSimple instructions provided. \nSuggest donation $10 or $5 if concession. \nEnquiries: melbourne@rigpa.org.au
URL:https://rigpa.org.au/event/sunday-meditation-2-2/2025-10-19/
LOCATION:Rigpa Melbourne\, 803 Nicholson St\, Carlton North\, Melbourne\, Victoria\, 3054\, Australia
CATEGORIES:Featured Melbourne,For Everyone,Melbourne - Everyone
ATTACH;FMTTYPE=image/png:https://rigpa.org.au/wp-content/uploads/2023/03/Melb-DIM-Sunday-com.png
ORGANIZER;CN="Rigpa Melbourne":MAILTO:melbourne@rigpa.org.au
END:VEVENT
BEGIN:VEVENT
DTSTART;TZID=Australia/Melbourne:20251020T190000
DTEND;TZID=Australia/Melbourne:20251020T210000
DTSTAMP:20260424T162455
CREATED:20250408T010529Z
LAST-MODIFIED:20251007T041201Z
UID:10005963-1760986800-1760994000@rigpa.org.au
SUMMARY:Inspiring a Revolution in Your Heart and Mind\, Modules 7 & 8 | Melbourne
DESCRIPTION:Join us on an experiential journey through The Tibetan Book of Living and Dying. Discover a deep and universal wisdom explored in the major themes of the book\, and learn about their practical implications for living well. Suitable for people of any religion or of none\, this course encourages you to reflect on the Buddhist teachings\, to see what makes sense to you and to experiment with applying these teachings in your daily life. \nThe Tibetan Book of Living and Dying is widely regarded as one of the most complete and authoritative presentations of Tibetan Buddhism. A manual for life and death and a source of sacred inspiration from the heart of the Tibetan tradition\, The Tibetan Book of Living and Dying provides a lucid and inspiring introduction to the practice of meditation\, to the nature of mind\, to karma and rebirth\, and to the trials and rewards of the spiritual path. The teachings\, meditation and contemplations from this authentic tradition reveal how each of us can live a more meaningful\, connected and fulfilling life. \nRegister for the 10 weeks of Modules 7 & 8 using the link below.
URL:https://rigpa.org.au/event/inspiring-a-revolution-in-your-heart-and-mind-modules-7-8-melbourne/2025-10-20/
LOCATION:Rigpa Melbourne\, 803 Nicholson St\, Carlton North\, Melbourne\, Victoria\, 3054\, Australia
CATEGORIES:For Everyone,Melbourne - Everyone
ATTACH;FMTTYPE=image/png:https://rigpa.org.au/wp-content/uploads/2024/11/Inspiring.png
ORGANIZER;CN="Rigpa Melbourne":MAILTO:melbourne@rigpa.org.au
END:VEVENT
BEGIN:VEVENT
DTSTART;TZID=Australia/Melbourne:20251026T173000
DTEND;TZID=Australia/Melbourne:20251026T183000
DTSTAMP:20260424T162455
CREATED:20250401T042647Z
LAST-MODIFIED:20260325T075227Z
UID:10005407-1761499800-1761503400@rigpa.org.au
SUMMARY:Sunday Meditation\, every week
DESCRIPTION:Every Sunday\, all are welcome to join this 1-hour drop-in meditation session. Sit quietly with others and rest your mind before the week starts again. \nSimple instructions provided. \nSuggest donation $10 or $5 if concession. \nEnquiries: melbourne@rigpa.org.au
URL:https://rigpa.org.au/event/sunday-meditation-2-2/2025-10-26/
LOCATION:Rigpa Melbourne\, 803 Nicholson St\, Carlton North\, Melbourne\, Victoria\, 3054\, Australia
CATEGORIES:Featured Melbourne,For Everyone,Melbourne - Everyone
ATTACH;FMTTYPE=image/png:https://rigpa.org.au/wp-content/uploads/2023/03/Melb-DIM-Sunday-com.png
ORGANIZER;CN="Rigpa Melbourne":MAILTO:melbourne@rigpa.org.au
END:VEVENT
BEGIN:VEVENT
DTSTART;TZID=Australia/Melbourne:20251027T190000
DTEND;TZID=Australia/Melbourne:20251027T210000
DTSTAMP:20260424T162455
CREATED:20250408T010529Z
LAST-MODIFIED:20251007T041201Z
UID:10005964-1761591600-1761598800@rigpa.org.au
SUMMARY:Inspiring a Revolution in Your Heart and Mind\, Modules 7 & 8 | Melbourne
DESCRIPTION:Join us on an experiential journey through The Tibetan Book of Living and Dying. Discover a deep and universal wisdom explored in the major themes of the book\, and learn about their practical implications for living well. Suitable for people of any religion or of none\, this course encourages you to reflect on the Buddhist teachings\, to see what makes sense to you and to experiment with applying these teachings in your daily life. \nThe Tibetan Book of Living and Dying is widely regarded as one of the most complete and authoritative presentations of Tibetan Buddhism. A manual for life and death and a source of sacred inspiration from the heart of the Tibetan tradition\, The Tibetan Book of Living and Dying provides a lucid and inspiring introduction to the practice of meditation\, to the nature of mind\, to karma and rebirth\, and to the trials and rewards of the spiritual path. The teachings\, meditation and contemplations from this authentic tradition reveal how each of us can live a more meaningful\, connected and fulfilling life. \nRegister for the 10 weeks of Modules 7 & 8 using the link below.
URL:https://rigpa.org.au/event/inspiring-a-revolution-in-your-heart-and-mind-modules-7-8-melbourne/2025-10-27/
LOCATION:Rigpa Melbourne\, 803 Nicholson St\, Carlton North\, Melbourne\, Victoria\, 3054\, Australia
CATEGORIES:For Everyone,Melbourne - Everyone
ATTACH;FMTTYPE=image/png:https://rigpa.org.au/wp-content/uploads/2024/11/Inspiring.png
ORGANIZER;CN="Rigpa Melbourne":MAILTO:melbourne@rigpa.org.au
END:VEVENT
END:VCALENDAR