BEGIN:VCALENDAR
VERSION:2.0
PRODID:-//Rigpa Australia - ECPv6.15.20//NONSGML v1.0//EN
CALSCALE:GREGORIAN
METHOD:PUBLISH
X-ORIGINAL-URL:https://rigpa.org.au
X-WR-CALDESC:Events for Rigpa Australia
REFRESH-INTERVAL;VALUE=DURATION:PT1H
X-Robots-Tag:noindex
X-PUBLISHED-TTL:PT1H
BEGIN:VTIMEZONE
TZID:Australia/Melbourne
BEGIN:STANDARD
TZOFFSETFROM:+1100
TZOFFSETTO:+1000
TZNAME:AEST
DTSTART:20230401T160000
END:STANDARD
BEGIN:DAYLIGHT
TZOFFSETFROM:+1000
TZOFFSETTO:+1100
TZNAME:AEDT
DTSTART:20230930T160000
END:DAYLIGHT
BEGIN:STANDARD
TZOFFSETFROM:+1100
TZOFFSETTO:+1000
TZNAME:AEST
DTSTART:20240406T160000
END:STANDARD
BEGIN:DAYLIGHT
TZOFFSETFROM:+1000
TZOFFSETTO:+1100
TZNAME:AEDT
DTSTART:20241005T160000
END:DAYLIGHT
BEGIN:STANDARD
TZOFFSETFROM:+1100
TZOFFSETTO:+1000
TZNAME:AEST
DTSTART:20250405T160000
END:STANDARD
BEGIN:DAYLIGHT
TZOFFSETFROM:+1000
TZOFFSETTO:+1100
TZNAME:AEDT
DTSTART:20251004T160000
END:DAYLIGHT
END:VTIMEZONE
BEGIN:VEVENT
DTSTART;TZID=Australia/Melbourne:20241006T173000
DTEND;TZID=Australia/Melbourne:20241006T183000
DTSTAMP:20260425T223112
CREATED:20240415T120835Z
LAST-MODIFIED:20240819T014940Z
UID:10000975-1728235800-1728239400@rigpa.org.au
SUMMARY:Sunday Meditation\, every week
DESCRIPTION:Every Sunday\, all are welcome to join this 1-hour drop-in meditation session. Sit quietly with others and rest your mind before the week starts again. \nSimple instructions provided. \nSuggest donation $10 or $5 if concession. \nEnquiries: melbourne@rigpa.org.au
URL:https://rigpa.org.au/event/sunday-meditation-2/2024-10-06/
LOCATION:Rigpa Melbourne\, 803 Nicholson St\, Carlton North\, Melbourne\, Victoria\, 3054\, Australia
CATEGORIES:For Everyone,Melbourne - Everyone
ATTACH;FMTTYPE=image/png:https://rigpa.org.au/wp-content/uploads/2023/03/Melb-DIM-Sunday-com.png
ORGANIZER;CN="Rigpa Melbourne":MAILTO:melbourne@rigpa.org.au
END:VEVENT
BEGIN:VEVENT
DTSTART;TZID=Australia/Melbourne:20241007T183000
DTEND;TZID=Australia/Melbourne:20241007T203000
DTSTAMP:20260425T223112
CREATED:20240706T095410Z
LAST-MODIFIED:20240819T005107Z
UID:10003283-1728325800-1728333000@rigpa.org.au
SUMMARY:Module 7 | Inspiring a Revolution in Your Heart and Mind | Melbourne
DESCRIPTION:Module 7: Open Heart\nJoin us as we take you an experiential journey through The Tibetan Book of Living and Dying. Discover a deep and universal wisdom explored in the major themes of the book\, and learn about their practical implications for living well. Suitable for people of any religion or of none\, this course encourages you to reflect on the Buddhist teachings\, to see what makes sense to you and to experiment with applying these teachings in your daily life. \nThe Tibetan Book of Living and Dying is widely regarded as one of the most complete and authoritative presentations of Tibetan Buddhism. A manual for life and death and a source of sacred inspiration from the heart of the Tibetan tradition\, The Tibetan Book of Living and Dying provides a lucid and inspiring introduction to the practice of meditation\, to the nature of mind\, to karma and rebirth\, and to the trials and rewards of the spiritual path. The teachings\, meditation and contemplations from this authentic tradition reveal how each of us can live a more meaningful\, connected and fulfilling life. \nYou will learn\n\nHow to meditate\nHow an acceptance of impermanence can help us understand death and change our attitude towards life\nHow meditation can transform our perception\, increase our confidence and fully connect us to the world around us\nThat mind is much more than just thoughts and emotions\nHow understanding the interdependency of all things and the principle of karma (that every action has an effect) gives us a logical basis for ethics and personal responsibility\n\nLed by Western meditation instructors with many years of experience\, each session consists of:\n\nVideo teachings from Tibetan and Western Buddhist masters including Sogyal Rinpoche\, Jetsün Khandro Rinpoche\, Ringu Tulku Rinpoche\, Mingyur Rinpoche\, Pema Chödrön and Sharon Salzberg.\nMeditation practice\nTime for contemplation\nGroup discussions and Q&A\, offering you the opportunity to explore the teachings and practices in an open supportive environment.
URL:https://rigpa.org.au/event/inspiring-a-revolution-in-your-heart-and-mind-melbourne-6/2024-10-07/
LOCATION:Rigpa Melbourne\, 803 Nicholson St\, Carlton North\, Melbourne\, Victoria\, 3054\, Australia
CATEGORIES:Melbourne - Everyone
ORGANIZER;CN="Rigpa Melbourne":MAILTO:melbourne@rigpa.org.au
END:VEVENT
BEGIN:VEVENT
DTSTART;TZID=Australia/Melbourne:20241013T173000
DTEND;TZID=Australia/Melbourne:20241013T183000
DTSTAMP:20260425T223112
CREATED:20240415T120835Z
LAST-MODIFIED:20240819T014940Z
UID:10000976-1728840600-1728844200@rigpa.org.au
SUMMARY:Sunday Meditation\, every week
DESCRIPTION:Every Sunday\, all are welcome to join this 1-hour drop-in meditation session. Sit quietly with others and rest your mind before the week starts again. \nSimple instructions provided. \nSuggest donation $10 or $5 if concession. \nEnquiries: melbourne@rigpa.org.au
URL:https://rigpa.org.au/event/sunday-meditation-2/2024-10-13/
LOCATION:Rigpa Melbourne\, 803 Nicholson St\, Carlton North\, Melbourne\, Victoria\, 3054\, Australia
CATEGORIES:For Everyone,Melbourne - Everyone
ATTACH;FMTTYPE=image/png:https://rigpa.org.au/wp-content/uploads/2023/03/Melb-DIM-Sunday-com.png
ORGANIZER;CN="Rigpa Melbourne":MAILTO:melbourne@rigpa.org.au
END:VEVENT
BEGIN:VEVENT
DTSTART;TZID=Australia/Melbourne:20241014T183000
DTEND;TZID=Australia/Melbourne:20241014T203000
DTSTAMP:20260425T223112
CREATED:20240706T095410Z
LAST-MODIFIED:20240819T005107Z
UID:10003284-1728930600-1728937800@rigpa.org.au
SUMMARY:Module 7 | Inspiring a Revolution in Your Heart and Mind | Melbourne
DESCRIPTION:Module 7: Open Heart\nJoin us as we take you an experiential journey through The Tibetan Book of Living and Dying. Discover a deep and universal wisdom explored in the major themes of the book\, and learn about their practical implications for living well. Suitable for people of any religion or of none\, this course encourages you to reflect on the Buddhist teachings\, to see what makes sense to you and to experiment with applying these teachings in your daily life. \nThe Tibetan Book of Living and Dying is widely regarded as one of the most complete and authoritative presentations of Tibetan Buddhism. A manual for life and death and a source of sacred inspiration from the heart of the Tibetan tradition\, The Tibetan Book of Living and Dying provides a lucid and inspiring introduction to the practice of meditation\, to the nature of mind\, to karma and rebirth\, and to the trials and rewards of the spiritual path. The teachings\, meditation and contemplations from this authentic tradition reveal how each of us can live a more meaningful\, connected and fulfilling life. \nYou will learn\n\nHow to meditate\nHow an acceptance of impermanence can help us understand death and change our attitude towards life\nHow meditation can transform our perception\, increase our confidence and fully connect us to the world around us\nThat mind is much more than just thoughts and emotions\nHow understanding the interdependency of all things and the principle of karma (that every action has an effect) gives us a logical basis for ethics and personal responsibility\n\nLed by Western meditation instructors with many years of experience\, each session consists of:\n\nVideo teachings from Tibetan and Western Buddhist masters including Sogyal Rinpoche\, Jetsün Khandro Rinpoche\, Ringu Tulku Rinpoche\, Mingyur Rinpoche\, Pema Chödrön and Sharon Salzberg.\nMeditation practice\nTime for contemplation\nGroup discussions and Q&A\, offering you the opportunity to explore the teachings and practices in an open supportive environment.
URL:https://rigpa.org.au/event/inspiring-a-revolution-in-your-heart-and-mind-melbourne-6/2024-10-14/
LOCATION:Rigpa Melbourne\, 803 Nicholson St\, Carlton North\, Melbourne\, Victoria\, 3054\, Australia
CATEGORIES:Melbourne - Everyone
ORGANIZER;CN="Rigpa Melbourne":MAILTO:melbourne@rigpa.org.au
END:VEVENT
BEGIN:VEVENT
DTSTART;TZID=Australia/Melbourne:20241015T190000
DTEND;TZID=Australia/Melbourne:20241015T210000
DTSTAMP:20260425T223112
CREATED:20240629T224025Z
LAST-MODIFIED:20241026T012913Z
UID:10003202-1729018800-1729026000@rigpa.org.au
SUMMARY:Bring a Big Heart to Everything that You Do
DESCRIPTION:Much as we may wish to be kind\, caring and loving\, often this may be difficult for us in practice. As we move from wishing to be more compassionate to grappling with how we put this into action\, the Buddhist teachings include six tools in a how-to guide: \n1. Generosity: cultivating the attitude of generosity. \n2. Discipline: refraining from harm. \n3. Patience: not being perturbed by anything. \n4. Diligence: finding joy in what is virtuous\, positive or wholesome. \n5. Meditative concentration: not being distracted. \n6. Wisdom: the perfect discrimination of all knowable things. \nThese are known as the Six Paramitas\, or transcendent perfections and contain all the vital skills needed for us to transform our mind \nand open our heart. \nThis ten-week course addresses each of the Six Paramitas in turn\, offering a wealth of practical advice to help us put our best biggest heart into \naction everyday. \nHeld over ten Tuesday evenings from 7 – 9pm\, from 15 October to 17 December\, 2024.\nMelbourne: 803 Nicholson St\, Carlton North\nSydney: 158 Australia St\, Newtown\nOnline via Zoom \nNote – this course is also known as Module 4 of the Wisdom of Compassion full year course. New students are welcome to join this module \nLed by western meditation instructors with many years of experience\, each session consists of: \n\nVideo teachings from Tibetan and Western Buddhist masters including Sogyal Rinpoche\, Jetsün Khandro Rinpoche\, Ringu Tulku Rinpoche\, Mingyur Rinpoche\, Pema Chödrön and Sharon Salzberg;\nMeditation practice;\nTime for contemplation;\nGroup discussions and Q&A\, offering each student the opportunity to explore the teachings and practices in an open supportive environment and to connect with a community of practitioners.\n\nFREE for Rigpa members/subscribers using a discount code. Email sydney@rigpa.org.au for the code.
URL:https://rigpa.org.au/event/bring-a-big-heart-to-everything-that-you-do/2024-10-15/
LOCATION:Rigpa Sydney\, 158 Australia St\, Newtown\, Sydney\, NSW\, 2042\, Australia
CATEGORIES:For Everyone,Melbourne - Everyone,Online,Sydney - Everyone
ORGANIZER;CN="Rigpa Sydney":MAILTO:sydney@rigpa.org.au
END:VEVENT
BEGIN:VEVENT
DTSTART;TZID=Australia/Melbourne:20241020T173000
DTEND;TZID=Australia/Melbourne:20241020T183000
DTSTAMP:20260425T223112
CREATED:20240415T120835Z
LAST-MODIFIED:20240819T014940Z
UID:10000977-1729445400-1729449000@rigpa.org.au
SUMMARY:Sunday Meditation\, every week
DESCRIPTION:Every Sunday\, all are welcome to join this 1-hour drop-in meditation session. Sit quietly with others and rest your mind before the week starts again. \nSimple instructions provided. \nSuggest donation $10 or $5 if concession. \nEnquiries: melbourne@rigpa.org.au
URL:https://rigpa.org.au/event/sunday-meditation-2/2024-10-20/
LOCATION:Rigpa Melbourne\, 803 Nicholson St\, Carlton North\, Melbourne\, Victoria\, 3054\, Australia
CATEGORIES:For Everyone,Melbourne - Everyone
ATTACH;FMTTYPE=image/png:https://rigpa.org.au/wp-content/uploads/2023/03/Melb-DIM-Sunday-com.png
ORGANIZER;CN="Rigpa Melbourne":MAILTO:melbourne@rigpa.org.au
END:VEVENT
BEGIN:VEVENT
DTSTART;TZID=Australia/Melbourne:20241021T183000
DTEND;TZID=Australia/Melbourne:20241021T203000
DTSTAMP:20260425T223112
CREATED:20240706T095610Z
LAST-MODIFIED:20241026T005251Z
UID:10003285-1729535400-1729542600@rigpa.org.au
SUMMARY:Module 8 | Inspiring a Revolution in Your Heart and Mind | Melbourne
DESCRIPTION:Module 8: Awakening Compassion\nJoin us as we take you an experiential journey through The Tibetan Book of Living and Dying. Discover a deep and universal wisdom explored in the major themes of the book\, and learn about their practical implications for living well. Suitable for people of any religion or of none\, this course encourages you to reflect on the Buddhist teachings\, to see what makes sense to you and to experiment with applying these teachings in your daily life. \nThe Tibetan Book of Living and Dying is widely regarded as one of the most complete and authoritative presentations of Tibetan Buddhism. A manual for life and death and a source of sacred inspiration from the heart of the Tibetan tradition\, The Tibetan Book of Living and Dying provides a lucid and inspiring introduction to the practice of meditation\, to the nature of mind\, to karma and rebirth\, and to the trials and rewards of the spiritual path. The teachings\, meditation and contemplations from this authentic tradition reveal how each of us can live a more meaningful\, connected and fulfilling life. \nYou will learn\n\nHow to meditate\nHow an acceptance of impermanence can help us understand death and change our attitude towards life\nHow meditation can transform our perception\, increase our confidence and fully connect us to the world around us\nThat mind is much more than just thoughts and emotions\nHow understanding the interdependency of all things and the principle of karma (that every action has an effect) gives us a logical basis for ethics and personal responsibility\n\nLed by Western meditation instructors with many years of experience\, each session consists of:\n\nVideo teachings from Tibetan and Western Buddhist masters including Sogyal Rinpoche\, Jetsün Khandro Rinpoche\, Ringu Tulku Rinpoche\, Mingyur Rinpoche\, Pema Chödrön and Sharon Salzberg.\nMeditation practice\nTime for contemplation\nGroup discussions and Q&A\, offering you the opportunity to explore the teachings and practices in an open supportive environment.
URL:https://rigpa.org.au/event/inspiring-a-revolution-in-your-heart-and-mind-melbourne-7/2024-10-21/
LOCATION:Rigpa Melbourne\, 803 Nicholson St\, Carlton North\, Melbourne\, Victoria\, 3054\, Australia
CATEGORIES:For Everyone,Melbourne - Everyone
ORGANIZER;CN="Rigpa Melbourne":MAILTO:melbourne@rigpa.org.au
END:VEVENT
BEGIN:VEVENT
DTSTART;TZID=Australia/Melbourne:20241022T190000
DTEND;TZID=Australia/Melbourne:20241022T210000
DTSTAMP:20260425T223112
CREATED:20240629T224025Z
LAST-MODIFIED:20241026T012913Z
UID:10003203-1729623600-1729630800@rigpa.org.au
SUMMARY:Bring a Big Heart to Everything that You Do
DESCRIPTION:Much as we may wish to be kind\, caring and loving\, often this may be difficult for us in practice. As we move from wishing to be more compassionate to grappling with how we put this into action\, the Buddhist teachings include six tools in a how-to guide: \n1. Generosity: cultivating the attitude of generosity. \n2. Discipline: refraining from harm. \n3. Patience: not being perturbed by anything. \n4. Diligence: finding joy in what is virtuous\, positive or wholesome. \n5. Meditative concentration: not being distracted. \n6. Wisdom: the perfect discrimination of all knowable things. \nThese are known as the Six Paramitas\, or transcendent perfections and contain all the vital skills needed for us to transform our mind \nand open our heart. \nThis ten-week course addresses each of the Six Paramitas in turn\, offering a wealth of practical advice to help us put our best biggest heart into \naction everyday. \nHeld over ten Tuesday evenings from 7 – 9pm\, from 15 October to 17 December\, 2024.\nMelbourne: 803 Nicholson St\, Carlton North\nSydney: 158 Australia St\, Newtown\nOnline via Zoom \nNote – this course is also known as Module 4 of the Wisdom of Compassion full year course. New students are welcome to join this module \nLed by western meditation instructors with many years of experience\, each session consists of: \n\nVideo teachings from Tibetan and Western Buddhist masters including Sogyal Rinpoche\, Jetsün Khandro Rinpoche\, Ringu Tulku Rinpoche\, Mingyur Rinpoche\, Pema Chödrön and Sharon Salzberg;\nMeditation practice;\nTime for contemplation;\nGroup discussions and Q&A\, offering each student the opportunity to explore the teachings and practices in an open supportive environment and to connect with a community of practitioners.\n\nFREE for Rigpa members/subscribers using a discount code. Email sydney@rigpa.org.au for the code.
URL:https://rigpa.org.au/event/bring-a-big-heart-to-everything-that-you-do/2024-10-22/
LOCATION:Rigpa Sydney\, 158 Australia St\, Newtown\, Sydney\, NSW\, 2042\, Australia
CATEGORIES:For Everyone,Melbourne - Everyone,Online,Sydney - Everyone
ORGANIZER;CN="Rigpa Sydney":MAILTO:sydney@rigpa.org.au
END:VEVENT
BEGIN:VEVENT
DTSTART;TZID=Australia/Melbourne:20241026T110000
DTEND;TZID=Australia/Melbourne:20241026T123000
DTSTAMP:20260425T223112
CREATED:20240922T015321Z
LAST-MODIFIED:20241026T011850Z
UID:10003569-1729940400-1729945800@rigpa.org.au
SUMMARY:Meditation in Action | Melbourne
DESCRIPTION:Meditation in Action\nAre you looking to cultivate a calm and clear mind amidst the pressures of your daily life? \nThis course is intended for those who want to realise the benefits of meditation\, wisdom and compassion\, here and now in their daily life\, to find more joy and spontaneity in every moment. \nMeditation in Action will present these themes: \n\nWeek 1: Opening our hearts\nWeek 2: Spaciousness\, mindfulness and awareness\nWeek 3: Thriving with change\nWeek 4: How to make everything spiritual\nWeek 5: Living in tune with reality\nWeek 6: Taking charge of your life\n\nMeditation in Action is a 6-week course: \n\nwith one session per week every Saturday morning from 11:00 am to 12:30pm\nfrom 26 October to 7 December\,\nin person at Rigpa Melbourne.\n\n(We’ll be taking a break on November 23) \nLearn and practice the ancient art of meditation\, working with your heart and mind\, to cultivate your awareness and spaciousness. \nAbout Bodhi \nAt Bodhi\, we explore together\, how each moment can be an opportunity to develop that peace and clarity\, for our own wellbeing and that of others. \nBodhi offers a comprehensive meditation\, compassion and wisdom program combining the essence of 2500 years of Buddhist mind training with the insights of modern science. Our aim is to contribute to greater mental clarity and compassionate and connected co-existence in the world. \nThis Bodhi project was created by experienced meditation practitioners and teachers as members of the Rigpa world-wide community. \nEach Bodhi event offers: \n\nInspiring short stories from the Buddha’s life\nGuided contemplations\nCreative group discussions\nTime for reflection and contemplation\nDifferent meditation methods\nAnswers to your personal questions\nPractical tips for integrating your meditation practice into daily life\n\n \nAbout Nigel Stone \nNigel has been engaged in Buddhist study and practice since 2004\, including completing Rigpa’s 8-year intensive program. He’s been a Rigpa instructor and spiritual carer since 2009. \nHe came to his spiritual path following episodes of depression. He has applied conventional therapy\, alongside Buddhist approaches of working with the mind\, to lead a healthy and contented life. \nHis Buddhist training and practice has underpinned his professional clinical spiritual care work in hospitals and the community for the past twenty years. Nigel has managed and facilitated the Rigpa Spiritual Care Education Programme. \nNigel lives with his wife\, Barb\, in a suburban sanctuary that houses their art studio and meditation space. \n \n  \nAbout Beth Buchannan \nBeth began studying and practising Buddhism in her twenties and is so grateful for the sanity and self-compassion it has brought to her personal and professional life. The Buddhist teachings have also given Beth confidence in being courageous and gentle when connecting with others in her practice as a social worker\, and has provided a profound framework of meaning to reference and take refuge in. Beth lives in Melbourne with her three sons and two cats and has worked as a social worker in mental health and family violence.
URL:https://rigpa.org.au/event/meditation-in-action-melbourne/2024-10-26/
LOCATION:Rigpa Melbourne\, 803 Nicholson St\, Carlton North\, Melbourne\, Victoria\, 3054\, Australia
CATEGORIES:For Everyone,Melbourne - Everyone
ORGANIZER;CN="Rigpa Melbourne":MAILTO:melbourne@rigpa.org.au
END:VEVENT
BEGIN:VEVENT
DTSTART;TZID=Australia/Melbourne:20241027T173000
DTEND;TZID=Australia/Melbourne:20241027T183000
DTSTAMP:20260425T223112
CREATED:20240415T120835Z
LAST-MODIFIED:20240819T014940Z
UID:10000978-1730050200-1730053800@rigpa.org.au
SUMMARY:Sunday Meditation\, every week
DESCRIPTION:Every Sunday\, all are welcome to join this 1-hour drop-in meditation session. Sit quietly with others and rest your mind before the week starts again. \nSimple instructions provided. \nSuggest donation $10 or $5 if concession. \nEnquiries: melbourne@rigpa.org.au
URL:https://rigpa.org.au/event/sunday-meditation-2/2024-10-27/
LOCATION:Rigpa Melbourne\, 803 Nicholson St\, Carlton North\, Melbourne\, Victoria\, 3054\, Australia
CATEGORIES:For Everyone,Melbourne - Everyone
ATTACH;FMTTYPE=image/png:https://rigpa.org.au/wp-content/uploads/2023/03/Melb-DIM-Sunday-com.png
ORGANIZER;CN="Rigpa Melbourne":MAILTO:melbourne@rigpa.org.au
END:VEVENT
BEGIN:VEVENT
DTSTART;TZID=Australia/Melbourne:20241028T183000
DTEND;TZID=Australia/Melbourne:20241028T203000
DTSTAMP:20260425T223112
CREATED:20240706T095610Z
LAST-MODIFIED:20241026T005251Z
UID:10003286-1730140200-1730147400@rigpa.org.au
SUMMARY:Module 8 | Inspiring a Revolution in Your Heart and Mind | Melbourne
DESCRIPTION:Module 8: Awakening Compassion\nJoin us as we take you an experiential journey through The Tibetan Book of Living and Dying. Discover a deep and universal wisdom explored in the major themes of the book\, and learn about their practical implications for living well. Suitable for people of any religion or of none\, this course encourages you to reflect on the Buddhist teachings\, to see what makes sense to you and to experiment with applying these teachings in your daily life. \nThe Tibetan Book of Living and Dying is widely regarded as one of the most complete and authoritative presentations of Tibetan Buddhism. A manual for life and death and a source of sacred inspiration from the heart of the Tibetan tradition\, The Tibetan Book of Living and Dying provides a lucid and inspiring introduction to the practice of meditation\, to the nature of mind\, to karma and rebirth\, and to the trials and rewards of the spiritual path. The teachings\, meditation and contemplations from this authentic tradition reveal how each of us can live a more meaningful\, connected and fulfilling life. \nYou will learn\n\nHow to meditate\nHow an acceptance of impermanence can help us understand death and change our attitude towards life\nHow meditation can transform our perception\, increase our confidence and fully connect us to the world around us\nThat mind is much more than just thoughts and emotions\nHow understanding the interdependency of all things and the principle of karma (that every action has an effect) gives us a logical basis for ethics and personal responsibility\n\nLed by Western meditation instructors with many years of experience\, each session consists of:\n\nVideo teachings from Tibetan and Western Buddhist masters including Sogyal Rinpoche\, Jetsün Khandro Rinpoche\, Ringu Tulku Rinpoche\, Mingyur Rinpoche\, Pema Chödrön and Sharon Salzberg.\nMeditation practice\nTime for contemplation\nGroup discussions and Q&A\, offering you the opportunity to explore the teachings and practices in an open supportive environment.
URL:https://rigpa.org.au/event/inspiring-a-revolution-in-your-heart-and-mind-melbourne-7/2024-10-28/
LOCATION:Rigpa Melbourne\, 803 Nicholson St\, Carlton North\, Melbourne\, Victoria\, 3054\, Australia
CATEGORIES:For Everyone,Melbourne - Everyone
ORGANIZER;CN="Rigpa Melbourne":MAILTO:melbourne@rigpa.org.au
END:VEVENT
BEGIN:VEVENT
DTSTART;TZID=Australia/Melbourne:20241029T190000
DTEND;TZID=Australia/Melbourne:20241029T210000
DTSTAMP:20260425T223112
CREATED:20240629T224025Z
LAST-MODIFIED:20241026T012913Z
UID:10003204-1730228400-1730235600@rigpa.org.au
SUMMARY:Bring a Big Heart to Everything that You Do
DESCRIPTION:Much as we may wish to be kind\, caring and loving\, often this may be difficult for us in practice. As we move from wishing to be more compassionate to grappling with how we put this into action\, the Buddhist teachings include six tools in a how-to guide: \n1. Generosity: cultivating the attitude of generosity. \n2. Discipline: refraining from harm. \n3. Patience: not being perturbed by anything. \n4. Diligence: finding joy in what is virtuous\, positive or wholesome. \n5. Meditative concentration: not being distracted. \n6. Wisdom: the perfect discrimination of all knowable things. \nThese are known as the Six Paramitas\, or transcendent perfections and contain all the vital skills needed for us to transform our mind \nand open our heart. \nThis ten-week course addresses each of the Six Paramitas in turn\, offering a wealth of practical advice to help us put our best biggest heart into \naction everyday. \nHeld over ten Tuesday evenings from 7 – 9pm\, from 15 October to 17 December\, 2024.\nMelbourne: 803 Nicholson St\, Carlton North\nSydney: 158 Australia St\, Newtown\nOnline via Zoom \nNote – this course is also known as Module 4 of the Wisdom of Compassion full year course. New students are welcome to join this module \nLed by western meditation instructors with many years of experience\, each session consists of: \n\nVideo teachings from Tibetan and Western Buddhist masters including Sogyal Rinpoche\, Jetsün Khandro Rinpoche\, Ringu Tulku Rinpoche\, Mingyur Rinpoche\, Pema Chödrön and Sharon Salzberg;\nMeditation practice;\nTime for contemplation;\nGroup discussions and Q&A\, offering each student the opportunity to explore the teachings and practices in an open supportive environment and to connect with a community of practitioners.\n\nFREE for Rigpa members/subscribers using a discount code. Email sydney@rigpa.org.au for the code.
URL:https://rigpa.org.au/event/bring-a-big-heart-to-everything-that-you-do/2024-10-29/
LOCATION:Rigpa Sydney\, 158 Australia St\, Newtown\, Sydney\, NSW\, 2042\, Australia
CATEGORIES:For Everyone,Melbourne - Everyone,Online,Sydney - Everyone
ORGANIZER;CN="Rigpa Sydney":MAILTO:sydney@rigpa.org.au
END:VEVENT
END:VCALENDAR