BEGIN:VCALENDAR
VERSION:2.0
PRODID:-//Rigpa Australia - ECPv6.15.20//NONSGML v1.0//EN
CALSCALE:GREGORIAN
METHOD:PUBLISH
X-WR-CALNAME:Rigpa Australia
X-ORIGINAL-URL:https://rigpa.org.au
X-WR-CALDESC:Events for Rigpa Australia
REFRESH-INTERVAL;VALUE=DURATION:PT1H
X-Robots-Tag:noindex
X-PUBLISHED-TTL:PT1H
BEGIN:VTIMEZONE
TZID:Australia/Melbourne
BEGIN:STANDARD
TZOFFSETFROM:+1100
TZOFFSETTO:+1000
TZNAME:AEST
DTSTART:20250405T160000
END:STANDARD
BEGIN:DAYLIGHT
TZOFFSETFROM:+1000
TZOFFSETTO:+1100
TZNAME:AEDT
DTSTART:20251004T160000
END:DAYLIGHT
BEGIN:STANDARD
TZOFFSETFROM:+1100
TZOFFSETTO:+1000
TZNAME:AEST
DTSTART:20260404T160000
END:STANDARD
BEGIN:DAYLIGHT
TZOFFSETFROM:+1000
TZOFFSETTO:+1100
TZNAME:AEDT
DTSTART:20261003T160000
END:DAYLIGHT
BEGIN:STANDARD
TZOFFSETFROM:+1100
TZOFFSETTO:+1000
TZNAME:AEST
DTSTART:20270403T160000
END:STANDARD
BEGIN:DAYLIGHT
TZOFFSETFROM:+1000
TZOFFSETTO:+1100
TZNAME:AEDT
DTSTART:20271002T160000
END:DAYLIGHT
END:VTIMEZONE
BEGIN:VEVENT
DTSTART;TZID=Australia/Melbourne:20260606T080000
DTEND;TZID=Australia/Melbourne:20260610T153000
DTSTAMP:20260424T044329
CREATED:20260306T090105Z
LAST-MODIFIED:20260318T103027Z
UID:10009305-1780732800-1781105400@rigpa.org.au
SUMMARY:The Power of Your Mind: Kindness\, Clarity & Insight
DESCRIPTION:This five-day retreat will present the Mahayana Seven Points of Mind Training\, to lay out a path of formal meditation practice\, accompanied by guidelines for extending that practice into everyday life. \nThese teachings are precious and unique in presenting the entire depth and breadth of the Buddha’s Mahayana teachings succinctly and practically. Mahayana mind training offers an approach to life that is straightforward\, grounded in sanity\, kindness\, and compassion. Yet it also offers a vision that completely transcends our ordinary way of viewing ourselves and others\, with an all-encompassing vision of enlightenment. \nAt the heart of this vision of enlightenment is the view that our innate\, fundamental identity is vast\, luminous and utterly awake. The Mahayana teachings refer to this as our enlightened heart\, or bodhicitta. Enlightenment is nothing other than who we really are. But for most of us\, our true nature is like a hidden treasure\, concealed behind layers of mental activity and preoccupation. \nMahayana mind training helps us give expression to our enlightened heart in everything we think\, say and do. The training particularly focuses on our relationships\, which are like a mirror that shows us exactly where we are at. Our relationships also provide us with a way to dissolve the limitations that prevent the vastness of our true nature from fully manifesting. \nFounded on a practice lineage that has been actively and continually practised for hundreds of years\, these teachings are completely relevant to the challenges posed by our modern\, globalised life. \nTopics covered in the retreat will include: \n\nfinding meaning in our lives\, and connectedness with our world\novercoming loneliness and isolation\nhow to thrive in the face of difficulties\nhow to contribute to creating a more sustainable\, kind\, and compassionate world\n\nWe strongly encourage you to join us in person to get the most out of your retreat time. For those unable to travel to Sydney this retreat will be streamed to Rigpa’s centres in Adelaide\, Brisbane and Melbourne. For those unable to attend a Rigpa centre\, a direct online option is also available. \nThis retreat will be led by Senior Teacher\, Jan van der Breggen\, along with a team of Rigpa Australia teachers and instructors. \nAbout Jan van der Breggen\n  \nJan is a teacher in the Tibetan Buddhist tradition and a scholar of Buddhist philosophy. He began the path of meditation at 17 years old\, touched by the tenderness of the human experience and filled with questions about what reality was all about. He soon encountered the writings of great masters from various traditions such as J Krishnamurti\, Suzuki Roshi\, Thich Nhat Hang and Sogyal Rinpoche. Thirty years later\, Jan continues to be moved by the vast profundity of the Buddhist path and its vision of the inherent wisdom\, loving kindness and strength that lies in the minds of each and everyone of us. \nJan was honoured to be entrusted by Khenchen Namdrol Rinpoche and Mindroling Jetsun Khandro Rinpoche as one of the twenty-five worldwide Rigpa Senior teachers. In 2017\, he was selected to be a participant in the Milinda program\, a 10-year\, international Buddhist teacher training program under the guidance of Dzongsar Khyentse Rinpoche. \nJan grew up in the Netherlands where he earned a Masters Degree in Historical Anthropology. He is fluent in English and Dutch. He lives in Brisbane where he works as a data analytics professional. Jan was instrumental in founding Rigpa Brisbane in 1999\, where he has served as a Dharma instructor for over 20 years.
URL:https://rigpa.org.au/event/the-power-of-your-mind-kindness-clarity-insight/
LOCATION:Rigpa Sydney\, 158 Australia St\, Newtown\, Sydney\, NSW\, 2042\, Australia
CATEGORIES:Featured Homepage,For Everyone,Newcastle - All welcome,Sydney - Everyone
ATTACH;FMTTYPE=image/png:https://rigpa.org.au/wp-content/uploads/2026/03/Power-of-Mind-square-for-web.png
END:VEVENT
END:VCALENDAR