BEGIN:VCALENDAR
VERSION:2.0
PRODID:-//Rigpa Australia - ECPv6.15.20//NONSGML v1.0//EN
CALSCALE:GREGORIAN
METHOD:PUBLISH
X-ORIGINAL-URL:https://rigpa.org.au
X-WR-CALDESC:Events for Rigpa Australia
REFRESH-INTERVAL;VALUE=DURATION:PT1H
X-Robots-Tag:noindex
X-PUBLISHED-TTL:PT1H
BEGIN:VTIMEZONE
TZID:Australia/Melbourne
BEGIN:STANDARD
TZOFFSETFROM:+1100
TZOFFSETTO:+1000
TZNAME:AEST
DTSTART:20250405T160000
END:STANDARD
BEGIN:DAYLIGHT
TZOFFSETFROM:+1000
TZOFFSETTO:+1100
TZNAME:AEDT
DTSTART:20251004T160000
END:DAYLIGHT
BEGIN:STANDARD
TZOFFSETFROM:+1100
TZOFFSETTO:+1000
TZNAME:AEST
DTSTART:20260404T160000
END:STANDARD
BEGIN:DAYLIGHT
TZOFFSETFROM:+1000
TZOFFSETTO:+1100
TZNAME:AEDT
DTSTART:20261003T160000
END:DAYLIGHT
BEGIN:STANDARD
TZOFFSETFROM:+1100
TZOFFSETTO:+1000
TZNAME:AEST
DTSTART:20270403T160000
END:STANDARD
BEGIN:DAYLIGHT
TZOFFSETFROM:+1000
TZOFFSETTO:+1100
TZNAME:AEDT
DTSTART:20271002T160000
END:DAYLIGHT
END:VTIMEZONE
BEGIN:VEVENT
DTSTART;TZID=Australia/Melbourne:20260211T183000
DTEND;TZID=Australia/Melbourne:20260211T203000
DTSTAMP:20260424T060733
CREATED:20251204T063417Z
LAST-MODIFIED:20260306T065859Z
UID:10006908-1770834600-1770841800@rigpa.org.au
SUMMARY:Inspiring a Revolution in Your Heart and Mind
DESCRIPTION:Join us on an experiential journey through The Tibetan Book of Living and Dying. Discover a deep and universal wisdom explored in the major themes of the book\, and learn about their practical implications for living well. Suitable for people of any religion or of none\, this course encourages you to reflect on the Buddhist teachings\, to see what makes sense to you and to experiment with applying these teachings in your daily life. \nThe Tibetan Book of Living and Dying is widely regarded as one of the most complete and authoritative presentations of Tibetan Buddhism. A manual for life and death and a source of sacred inspiration from the heart of the Tibetan tradition\, The Tibetan Book of Living and Dying provides a lucid and inspiring introduction to the practice of meditation\, to the nature of mind\, to karma and rebirth\, and to the trials and rewards of the spiritual path. The teachings\, meditation and contemplations from this authentic tradition reveal how each of us can live a more meaningful\, connected and fulfilling life. \nParticipants in this course will learn: \n\nHow to meditate\nHow an acceptance of impermanence can help us understand death and change our attitude towards life\nHow meditation can transform our perception\, increase our confidence and fully connect us to the world around us\nThat mind is much more than just thoughts and emotions\nHow understanding the interdependency of all things and the principle of karma (that every action has an effect) gives us a logical basis for ethics and personal responsibility\n\nLed by Western meditation instructors with many years of experience\, each session consists of: \n\nVideo teachings from Tibetan and Western Buddhist masters including Sogyal Rinpoche\, Jetsün Khandro Rinpoche\, Ringu Tulku Rinpoche\, Mingyur Rinpoche\, Pema Chödrön and Sharon Salzberg.\nMeditation practice\nTime for contemplation\nGroup discussions and Q&A\, offering you the opportunity to explore the teachings and practices in an open supportive environment.\n\nA year long course you can join at any time. \n📍 Online and Rigpa Sydney\, 158 Australia St\, Newtown.\n🗓️ Wednesday evenings\, for 5 weeks starting 11 February\n⏰ 6.30pm – 8.30pm (AEST)
URL:https://rigpa.org.au/event/inspiring-a-revolution-in-your-heart-and-mind-16/2026-02-11/
LOCATION:Rigpa Sydney\, 158 Australia St\, Newtown\, Sydney\, NSW\, 2042\, Australia
CATEGORIES:Featured Homepage,Featured Sydney,For Everyone,Online,Sydney - Everyone
ATTACH;FMTTYPE=image/png:https://rigpa.org.au/wp-content/uploads/2024/11/Inspiring.png
END:VEVENT
BEGIN:VEVENT
DTSTART;TZID=Australia/Melbourne:20260218T183000
DTEND;TZID=Australia/Melbourne:20260218T203000
DTSTAMP:20260424T060733
CREATED:20251204T063417Z
LAST-MODIFIED:20260306T065859Z
UID:10006909-1771439400-1771446600@rigpa.org.au
SUMMARY:Inspiring a Revolution in Your Heart and Mind
DESCRIPTION:Join us on an experiential journey through The Tibetan Book of Living and Dying. Discover a deep and universal wisdom explored in the major themes of the book\, and learn about their practical implications for living well. Suitable for people of any religion or of none\, this course encourages you to reflect on the Buddhist teachings\, to see what makes sense to you and to experiment with applying these teachings in your daily life. \nThe Tibetan Book of Living and Dying is widely regarded as one of the most complete and authoritative presentations of Tibetan Buddhism. A manual for life and death and a source of sacred inspiration from the heart of the Tibetan tradition\, The Tibetan Book of Living and Dying provides a lucid and inspiring introduction to the practice of meditation\, to the nature of mind\, to karma and rebirth\, and to the trials and rewards of the spiritual path. The teachings\, meditation and contemplations from this authentic tradition reveal how each of us can live a more meaningful\, connected and fulfilling life. \nParticipants in this course will learn: \n\nHow to meditate\nHow an acceptance of impermanence can help us understand death and change our attitude towards life\nHow meditation can transform our perception\, increase our confidence and fully connect us to the world around us\nThat mind is much more than just thoughts and emotions\nHow understanding the interdependency of all things and the principle of karma (that every action has an effect) gives us a logical basis for ethics and personal responsibility\n\nLed by Western meditation instructors with many years of experience\, each session consists of: \n\nVideo teachings from Tibetan and Western Buddhist masters including Sogyal Rinpoche\, Jetsün Khandro Rinpoche\, Ringu Tulku Rinpoche\, Mingyur Rinpoche\, Pema Chödrön and Sharon Salzberg.\nMeditation practice\nTime for contemplation\nGroup discussions and Q&A\, offering you the opportunity to explore the teachings and practices in an open supportive environment.\n\nA year long course you can join at any time. \n📍 Online and Rigpa Sydney\, 158 Australia St\, Newtown.\n🗓️ Wednesday evenings\, for 5 weeks starting 11 February\n⏰ 6.30pm – 8.30pm (AEST)
URL:https://rigpa.org.au/event/inspiring-a-revolution-in-your-heart-and-mind-16/2026-02-18/
LOCATION:Rigpa Sydney\, 158 Australia St\, Newtown\, Sydney\, NSW\, 2042\, Australia
CATEGORIES:Featured Homepage,Featured Sydney,For Everyone,Online,Sydney - Everyone
ATTACH;FMTTYPE=image/png:https://rigpa.org.au/wp-content/uploads/2024/11/Inspiring.png
END:VEVENT
BEGIN:VEVENT
DTSTART;TZID=Australia/Melbourne:20260225T183000
DTEND;TZID=Australia/Melbourne:20260225T203000
DTSTAMP:20260424T060733
CREATED:20251204T063417Z
LAST-MODIFIED:20260306T065859Z
UID:10006910-1772044200-1772051400@rigpa.org.au
SUMMARY:Inspiring a Revolution in Your Heart and Mind
DESCRIPTION:Join us on an experiential journey through The Tibetan Book of Living and Dying. Discover a deep and universal wisdom explored in the major themes of the book\, and learn about their practical implications for living well. Suitable for people of any religion or of none\, this course encourages you to reflect on the Buddhist teachings\, to see what makes sense to you and to experiment with applying these teachings in your daily life. \nThe Tibetan Book of Living and Dying is widely regarded as one of the most complete and authoritative presentations of Tibetan Buddhism. A manual for life and death and a source of sacred inspiration from the heart of the Tibetan tradition\, The Tibetan Book of Living and Dying provides a lucid and inspiring introduction to the practice of meditation\, to the nature of mind\, to karma and rebirth\, and to the trials and rewards of the spiritual path. The teachings\, meditation and contemplations from this authentic tradition reveal how each of us can live a more meaningful\, connected and fulfilling life. \nParticipants in this course will learn: \n\nHow to meditate\nHow an acceptance of impermanence can help us understand death and change our attitude towards life\nHow meditation can transform our perception\, increase our confidence and fully connect us to the world around us\nThat mind is much more than just thoughts and emotions\nHow understanding the interdependency of all things and the principle of karma (that every action has an effect) gives us a logical basis for ethics and personal responsibility\n\nLed by Western meditation instructors with many years of experience\, each session consists of: \n\nVideo teachings from Tibetan and Western Buddhist masters including Sogyal Rinpoche\, Jetsün Khandro Rinpoche\, Ringu Tulku Rinpoche\, Mingyur Rinpoche\, Pema Chödrön and Sharon Salzberg.\nMeditation practice\nTime for contemplation\nGroup discussions and Q&A\, offering you the opportunity to explore the teachings and practices in an open supportive environment.\n\nA year long course you can join at any time. \n📍 Online and Rigpa Sydney\, 158 Australia St\, Newtown.\n🗓️ Wednesday evenings\, for 5 weeks starting 11 February\n⏰ 6.30pm – 8.30pm (AEST)
URL:https://rigpa.org.au/event/inspiring-a-revolution-in-your-heart-and-mind-16/2026-02-25/
LOCATION:Rigpa Sydney\, 158 Australia St\, Newtown\, Sydney\, NSW\, 2042\, Australia
CATEGORIES:Featured Homepage,Featured Sydney,For Everyone,Online,Sydney - Everyone
ATTACH;FMTTYPE=image/png:https://rigpa.org.au/wp-content/uploads/2024/11/Inspiring.png
END:VEVENT
END:VCALENDAR