BEGIN:VCALENDAR
VERSION:2.0
PRODID:-//Rigpa Australia - ECPv6.15.20//NONSGML v1.0//EN
CALSCALE:GREGORIAN
METHOD:PUBLISH
X-ORIGINAL-URL:https://rigpa.org.au
X-WR-CALDESC:Events for Rigpa Australia
REFRESH-INTERVAL;VALUE=DURATION:PT1H
X-Robots-Tag:noindex
X-PUBLISHED-TTL:PT1H
BEGIN:VTIMEZONE
TZID:Australia/Adelaide
BEGIN:STANDARD
TZOFFSETFROM:+1030
TZOFFSETTO:+0930
TZNAME:ACST
DTSTART:20250405T163000
END:STANDARD
BEGIN:DAYLIGHT
TZOFFSETFROM:+0930
TZOFFSETTO:+1030
TZNAME:ACDT
DTSTART:20251004T163000
END:DAYLIGHT
BEGIN:STANDARD
TZOFFSETFROM:+1030
TZOFFSETTO:+0930
TZNAME:ACST
DTSTART:20260404T163000
END:STANDARD
BEGIN:DAYLIGHT
TZOFFSETFROM:+0930
TZOFFSETTO:+1030
TZNAME:ACDT
DTSTART:20261003T163000
END:DAYLIGHT
BEGIN:STANDARD
TZOFFSETFROM:+1030
TZOFFSETTO:+0930
TZNAME:ACST
DTSTART:20270403T163000
END:STANDARD
BEGIN:DAYLIGHT
TZOFFSETFROM:+0930
TZOFFSETTO:+1030
TZNAME:ACDT
DTSTART:20271002T163000
END:DAYLIGHT
END:VTIMEZONE
BEGIN:VTIMEZONE
TZID:Australia/Melbourne
BEGIN:STANDARD
TZOFFSETFROM:+1100
TZOFFSETTO:+1000
TZNAME:AEST
DTSTART:20250405T160000
END:STANDARD
BEGIN:DAYLIGHT
TZOFFSETFROM:+1000
TZOFFSETTO:+1100
TZNAME:AEDT
DTSTART:20251004T160000
END:DAYLIGHT
BEGIN:STANDARD
TZOFFSETFROM:+1100
TZOFFSETTO:+1000
TZNAME:AEST
DTSTART:20260404T160000
END:STANDARD
BEGIN:DAYLIGHT
TZOFFSETFROM:+1000
TZOFFSETTO:+1100
TZNAME:AEDT
DTSTART:20261003T160000
END:DAYLIGHT
BEGIN:STANDARD
TZOFFSETFROM:+1100
TZOFFSETTO:+1000
TZNAME:AEST
DTSTART:20270403T160000
END:STANDARD
BEGIN:DAYLIGHT
TZOFFSETFROM:+1000
TZOFFSETTO:+1100
TZNAME:AEDT
DTSTART:20271002T160000
END:DAYLIGHT
END:VTIMEZONE
BEGIN:VTIMEZONE
TZID:Australia/Brisbane
BEGIN:STANDARD
TZOFFSETFROM:+1000
TZOFFSETTO:+1000
TZNAME:AEST
DTSTART:20250101T000000
END:STANDARD
END:VTIMEZONE
BEGIN:VEVENT
DTSTART;TZID=Australia/Adelaide:20260331T183000
DTEND;TZID=Australia/Adelaide:20260428T203000
DTSTAMP:20260423T211218
CREATED:20260305T031314Z
LAST-MODIFIED:20260305T031314Z
UID:10009278-1774981800-1777408200@rigpa.org.au
SUMMARY:The Wisdom of Compassion
DESCRIPTION:Presenting key Buddhist teachings on the powerful logic of compassion and practical methods for developing a kinder relationship with ourselves\, those around us and ultimately all beings.\nOur innate capacity for empathy is the source of the very best of human qualities: love\, kindness\, generosity\, warm-heartedness\, courage\, compassion. Although we are born with a vast capacity to love\, we may not know how to do so unconditionally\, or how to express that love in practice.\nWhen our heart and mind are filled with love\, we find the greatest inner healing\, tranquillity and well-being. Modern research shows that with empathy and compassion we can be more fully ourselves\, connect more easily with others\, improve self-worth and reduce self-criticism\, and lead healthier lives. \nRegister here.
URL:https://rigpa.org.au/event/the-wisdom-of-compassion-4/2026-03-31/
LOCATION:Rigpa Adelaide\, 310 South Terrace\, Adelaide\, South Australia\, 5000\, Australia
CATEGORIES:Adelaide Everyone,For Everyone
ORGANIZER;CN="Rigpa Adelaide":MAILTO:adelaide@rigpa.org.au
END:VEVENT
BEGIN:VEVENT
DTSTART;TZID=Australia/Adelaide:20260331T183000
DTEND;TZID=Australia/Adelaide:20260428T203000
DTSTAMP:20260423T211218
CREATED:20260305T031420Z
LAST-MODIFIED:20260305T031544Z
UID:10009282-1774981800-1777408200@rigpa.org.au
SUMMARY:The Wisdom of Compassion
DESCRIPTION:Presenting key Buddhist teachings on the powerful logic of compassion and practical methods for developing a kinder relationship with ourselves\, those around us and ultimately all beings.\nOur innate capacity for empathy is the source of the very best of human qualities: love\, kindness\, generosity\, warm-heartedness\, courage\, compassion. Although we are born with a vast capacity to love\, we may not know how to do so unconditionally\, or how to express that love in practice.\nWhen our heart and mind are filled with love\, we find the greatest inner healing\, tranquillity and well-being. Modern research shows that with empathy and compassion we can be more fully ourselves\, connect more easily with others\, improve self-worth and reduce self-criticism\, and lead healthier lives.\nRegister here.
URL:https://rigpa.org.au/event/the-wisdom-of-compassion-4-2/2026-03-31/
LOCATION:Rigpa Adelaide\, 310 South Terrace\, Adelaide\, South Australia\, 5000\, Australia
CATEGORIES:Adelaide Everyone,For Everyone
ATTACH;FMTTYPE=image/jpeg:https://rigpa.org.au/wp-content/uploads/2026/01/The-Wisdom-of-Compassion-banner.jpg
ORGANIZER;CN="Rigpa Adelaide":MAILTO:adelaide@rigpa.org.au
END:VEVENT
BEGIN:VEVENT
DTSTART;TZID=Australia/Melbourne:20260407T183000
DTEND;TZID=Australia/Melbourne:20260505T203000
DTSTAMP:20260423T211218
CREATED:20260304T012332Z
LAST-MODIFIED:20260403T011115Z
UID:10009211-1775586600-1778013000@rigpa.org.au
SUMMARY:This Life: The Four Noble Truths - Sydney & Online\, March 2026
DESCRIPTION:This Module focuses on The Four Noble Truths – (a clear-eyed view of our suffering\, its causes\, the potential for that suffering to be brought to an end\, and how to  attain that cessation of suffering)\n\nThe Buddhist spiritual path centres on our own mind’s vast potential for peace\, compassion and wisdom. True lasting happiness does not depend on external factors but comes from looking inwards to better know our own mind and heart. This course presents key insights from the Buddha’s life and teachings to show how\, through meditation and shifting our focus inwards\, we can find true\, unending contentment.\nThis course presents key Buddhist frameworks that guide our path\, including:– The four noble truths (a clear-eyed view of our suffering\, its causes\, the potential for that suffering to be brought to an end\, and how to attain that cessation of suffering)– The three vehicles of Buddhism\, which progressively show how we can nurture our innate peace\, compassion and wisdom– The four seals\, which encapsulate what is unique about the Buddha’s teachings and sets them apart from other religions and philosophies.\nIncluding teachings from foremost Tibetan masters of our time\, space for contemplation\, reflection and discussion\, and guided meditations\, this course will give you practical tools to help you work with your mind and take charge of your spiritual path.\n\n Online and Rigpa Sydney\, 158 Australia St\, Newtown.
URL:https://rigpa.org.au/event/this-life-the-four-noble-truths-sydney-online-march-2026/
LOCATION:Rigpa Sydney\, 158 Australia St\, Newtown\, Sydney\, NSW\, 2042\, Australia
CATEGORIES:Featured Sydney,For Everyone,Sydney - Everyone
ATTACH;FMTTYPE=image/png:https://rigpa.org.au/wp-content/uploads/2025/12/This-Life-no-texg.png
END:VEVENT
BEGIN:VEVENT
DTSTART;TZID=Australia/Adelaide:20260407T183000
DTEND;TZID=Australia/Adelaide:20260505T213000
DTSTAMP:20260423T211218
CREATED:20260305T031314Z
LAST-MODIFIED:20260305T031314Z
UID:10009279-1775586600-1778016600@rigpa.org.au
SUMMARY:The Wisdom of Compassion
DESCRIPTION:Presenting key Buddhist teachings on the powerful logic of compassion and practical methods for developing a kinder relationship with ourselves\, those around us and ultimately all beings.\nOur innate capacity for empathy is the source of the very best of human qualities: love\, kindness\, generosity\, warm-heartedness\, courage\, compassion. Although we are born with a vast capacity to love\, we may not know how to do so unconditionally\, or how to express that love in practice.\nWhen our heart and mind are filled with love\, we find the greatest inner healing\, tranquillity and well-being. Modern research shows that with empathy and compassion we can be more fully ourselves\, connect more easily with others\, improve self-worth and reduce self-criticism\, and lead healthier lives. \nRegister here.
URL:https://rigpa.org.au/event/the-wisdom-of-compassion-4/2026-04-07/
LOCATION:Rigpa Adelaide\, 310 South Terrace\, Adelaide\, South Australia\, 5000\, Australia
CATEGORIES:Adelaide Everyone,For Everyone
ORGANIZER;CN="Rigpa Adelaide":MAILTO:adelaide@rigpa.org.au
END:VEVENT
BEGIN:VEVENT
DTSTART;TZID=Australia/Adelaide:20260407T183000
DTEND;TZID=Australia/Adelaide:20260505T213000
DTSTAMP:20260423T211218
CREATED:20260305T031420Z
LAST-MODIFIED:20260305T031544Z
UID:10009283-1775586600-1778016600@rigpa.org.au
SUMMARY:The Wisdom of Compassion
DESCRIPTION:Presenting key Buddhist teachings on the powerful logic of compassion and practical methods for developing a kinder relationship with ourselves\, those around us and ultimately all beings.\nOur innate capacity for empathy is the source of the very best of human qualities: love\, kindness\, generosity\, warm-heartedness\, courage\, compassion. Although we are born with a vast capacity to love\, we may not know how to do so unconditionally\, or how to express that love in practice.\nWhen our heart and mind are filled with love\, we find the greatest inner healing\, tranquillity and well-being. Modern research shows that with empathy and compassion we can be more fully ourselves\, connect more easily with others\, improve self-worth and reduce self-criticism\, and lead healthier lives.\nRegister here.
URL:https://rigpa.org.au/event/the-wisdom-of-compassion-4-2/2026-04-07/
LOCATION:Rigpa Adelaide\, 310 South Terrace\, Adelaide\, South Australia\, 5000\, Australia
CATEGORIES:Adelaide Everyone,For Everyone
ATTACH;FMTTYPE=image/jpeg:https://rigpa.org.au/wp-content/uploads/2026/01/The-Wisdom-of-Compassion-banner.jpg
ORGANIZER;CN="Rigpa Adelaide":MAILTO:adelaide@rigpa.org.au
END:VEVENT
BEGIN:VEVENT
DTSTART;TZID=Australia/Adelaide:20260414T183000
DTEND;TZID=Australia/Adelaide:20260512T213000
DTSTAMP:20260423T211218
CREATED:20260305T031314Z
LAST-MODIFIED:20260305T031314Z
UID:10009280-1776191400-1778621400@rigpa.org.au
SUMMARY:The Wisdom of Compassion
DESCRIPTION:Presenting key Buddhist teachings on the powerful logic of compassion and practical methods for developing a kinder relationship with ourselves\, those around us and ultimately all beings.\nOur innate capacity for empathy is the source of the very best of human qualities: love\, kindness\, generosity\, warm-heartedness\, courage\, compassion. Although we are born with a vast capacity to love\, we may not know how to do so unconditionally\, or how to express that love in practice.\nWhen our heart and mind are filled with love\, we find the greatest inner healing\, tranquillity and well-being. Modern research shows that with empathy and compassion we can be more fully ourselves\, connect more easily with others\, improve self-worth and reduce self-criticism\, and lead healthier lives. \nRegister here.
URL:https://rigpa.org.au/event/the-wisdom-of-compassion-4/2026-04-14/
LOCATION:Rigpa Adelaide\, 310 South Terrace\, Adelaide\, South Australia\, 5000\, Australia
CATEGORIES:Adelaide Everyone,For Everyone
ORGANIZER;CN="Rigpa Adelaide":MAILTO:adelaide@rigpa.org.au
END:VEVENT
BEGIN:VEVENT
DTSTART;TZID=Australia/Adelaide:20260414T183000
DTEND;TZID=Australia/Adelaide:20260512T213000
DTSTAMP:20260423T211218
CREATED:20260305T031420Z
LAST-MODIFIED:20260305T031544Z
UID:10009284-1776191400-1778621400@rigpa.org.au
SUMMARY:The Wisdom of Compassion
DESCRIPTION:Presenting key Buddhist teachings on the powerful logic of compassion and practical methods for developing a kinder relationship with ourselves\, those around us and ultimately all beings.\nOur innate capacity for empathy is the source of the very best of human qualities: love\, kindness\, generosity\, warm-heartedness\, courage\, compassion. Although we are born with a vast capacity to love\, we may not know how to do so unconditionally\, or how to express that love in practice.\nWhen our heart and mind are filled with love\, we find the greatest inner healing\, tranquillity and well-being. Modern research shows that with empathy and compassion we can be more fully ourselves\, connect more easily with others\, improve self-worth and reduce self-criticism\, and lead healthier lives.\nRegister here.
URL:https://rigpa.org.au/event/the-wisdom-of-compassion-4-2/2026-04-14/
LOCATION:Rigpa Adelaide\, 310 South Terrace\, Adelaide\, South Australia\, 5000\, Australia
CATEGORIES:Adelaide Everyone,For Everyone
ATTACH;FMTTYPE=image/jpeg:https://rigpa.org.au/wp-content/uploads/2026/01/The-Wisdom-of-Compassion-banner.jpg
ORGANIZER;CN="Rigpa Adelaide":MAILTO:adelaide@rigpa.org.au
END:VEVENT
BEGIN:VEVENT
DTSTART;TZID=Australia/Adelaide:20260421T183000
DTEND;TZID=Australia/Adelaide:20260519T203000
DTSTAMP:20260423T211218
CREATED:20260404T004721Z
LAST-MODIFIED:20260404T004721Z
UID:10009440-1776796200-1779222600@rigpa.org.au
SUMMARY:The Wisdom of Compassion
DESCRIPTION:The Wisdom of Compassion\nPresenting key Buddhist teachings on the powerful logic of compassion and practical methods for developing a kinder relationship with ourselves\, those around us and ultimately all beings. \nOur innate capacity for empathy is the source of the very best of human qualities: love\, kindness\, generosity\, warm-heartedness\, courage\, compassion. Although we are born with a vast capacity to love\, we may not know how to do so unconditionally\, or how to express that love in practice. \nWhen our heart and mind are filled with love\, we find the greatest inner healing\, tranquillity and well-being. Modern research shows that with empathy and compassion we can be more fully ourselves\, connect more easily with others\, improve self-worth and reduce self-criticism\, and lead healthier lives. \nRegistration: https://registration.rigpa.org.au/civicrm/event/info?reset=1&id=1371
URL:https://rigpa.org.au/event/the-wisdom-of-compassion-5/
LOCATION:Rigpa Adelaide\, 310 South Terrace\, Adelaide\, South Australia\, 5000\, Australia
CATEGORIES:Adelaide Everyone,For Everyone
ATTACH;FMTTYPE=image/jpeg:https://rigpa.org.au/wp-content/uploads/2026/04/The-Wisdom-of-Compassion-for-Registration-page-2.jpg
ORGANIZER;CN="Rigpa Adelaide":MAILTO:adelaide@rigpa.org.au
END:VEVENT
BEGIN:VEVENT
DTSTART;TZID=Australia/Melbourne:20260425T090000
DTEND;TZID=Australia/Melbourne:20260425T100000
DTSTAMP:20260423T211218
CREATED:20250110T012418Z
LAST-MODIFIED:20260307T234316Z
UID:10009318-1777107600-1777111200@rigpa.org.au
SUMMARY:Guided Meditation on Saturdays in Sydney 9 - 10am
DESCRIPTION:Join us in person at our National Center in Newtown on Saturday mornings for a guided meditation session 9-10 am. \nSessions are led by experienced meditation instructors for 1 hour\, divided into several shorter sessions with stretch breaks. \nAll welcome at 158 Australia St\, Newtown and there is no need to book. \nAttendance is by donation.
URL:https://rigpa.org.au/event/drop-in-meditation-on-saturdays-in-sydney-9-10am-from-1st-february-2025/2026-04-25/
LOCATION:Rigpa Sydney\, 158 Australia St\, Newtown\, Sydney\, NSW\, 2042\, Australia
CATEGORIES:For Everyone,Sydney - Everyone
ATTACH;FMTTYPE=image/png:https://rigpa.org.au/wp-content/uploads/2025/01/Sydney-Drop-In-Meditation-web-square.png
ORGANIZER;CN="Rigpa Sydney":MAILTO:sydney@rigpa.org.au
END:VEVENT
BEGIN:VEVENT
DTSTART;TZID=Australia/Brisbane:20260425T090000
DTEND;TZID=Australia/Brisbane:20260425T100000
DTSTAMP:20260423T211218
CREATED:20260107T010338Z
LAST-MODIFIED:20260415T104511Z
UID:10007878-1777107600-1777111200@rigpa.org.au
SUMMARY:Saturday Drop-in meditation/Brisbane
DESCRIPTION:These drop-in meditation sessions are a good opportunity to practice meditation in a supportive environment. \nAll are welcome and basic guidance is given. \nPre-booking is not required. \nEnquiries: brisbane@rigpa.org.au
URL:https://rigpa.org.au/event/saturday-drop-in-meditation-4/2026-04-25/
LOCATION:Rigpa Brisbane\, Unit 2/19 Enoggera Terrace\, Brisbane\, Queensland\, Australia
CATEGORIES:Brisbane Everyone,For Everyone
ATTACH;FMTTYPE=image/png:https://rigpa.org.au/wp-content/uploads/2025/03/Event-RB-Sat-Drop-In-4-1080px-x-1080px.png
ORGANIZER;CN="Rigpa Brisbane":MAILTO:brisbane@rigpa.org.au
END:VEVENT
BEGIN:VEVENT
DTSTART;TZID=Australia/Melbourne:20260426T173000
DTEND;TZID=Australia/Melbourne:20260426T183000
DTSTAMP:20260423T211218
CREATED:20250401T042647Z
LAST-MODIFIED:20260325T075227Z
UID:10005433-1777224600-1777228200@rigpa.org.au
SUMMARY:Sunday Meditation\, every week
DESCRIPTION:Every Sunday\, all are welcome to join this 1-hour drop-in meditation session. Sit quietly with others and rest your mind before the week starts again. \nSimple instructions provided. \nSuggest donation $10 or $5 if concession. \nEnquiries: melbourne@rigpa.org.au
URL:https://rigpa.org.au/event/sunday-meditation-2-2/2026-04-26/
LOCATION:Rigpa Melbourne\, 803 Nicholson St\, Carlton North\, Melbourne\, Victoria\, 3054\, Australia
CATEGORIES:Featured Melbourne,For Everyone,Melbourne - Everyone
ATTACH;FMTTYPE=image/png:https://rigpa.org.au/wp-content/uploads/2023/03/Melb-DIM-Sunday-com.png
ORGANIZER;CN="Rigpa Melbourne":MAILTO:melbourne@rigpa.org.au
END:VEVENT
BEGIN:VEVENT
DTSTART;TZID=Australia/Melbourne:20260428T183000
DTEND;TZID=Australia/Melbourne:20260428T203000
DTSTAMP:20260423T211218
CREATED:20260403T010924Z
LAST-MODIFIED:20260416T021852Z
UID:10009430-1777401000-1777408200@rigpa.org.au
SUMMARY:This Life: Key insights from the Buddha's life and teachings
DESCRIPTION:The Essence of the Three Yanas is the second module of the This Life course. It presents the key teachings and insights from the Buddha via the Three Vehicles: Peace\, Compassion & Wisdom. Through this nine week course\, we will explore how the treasure of this ancient wisdom may help us navigate the challenges in our modern society and learn to live a contented and meaningful life. \nThe course is aimed at people who have some experience of meditation and buddhist studies. \nThis course explores the Buddhist path to awakening through reflecting on the example of the Buddha\, understanding the fundamental message of his teachings\, the Dharma\, and looking into the value of the spiritual community—the Sangha —dedicated to following in the Buddha’s footsteps. \nThis course explores the life of the Buddha\, both in its historical context and from a spiritual perspective\, and reflects on the relevance that the Buddha’s life has for us now. \nIt presents the key principles of the Buddha’s Dharma teachings: including the four noble truths and the four seals\, which form the basis for all levels of practice on the Buddhist path. The course does not merely address these topics intellectually\, but rather gives students the opportunity to explore and internalize these crucial points through contemplation and practise. This will include examining: \n—The insights the Buddha’s teachings offer us about life and death. \n—How Buddhism is both a religion and a science of mind\, and how it differs from other religions and philosophies. \n—The Buddhist view of the nature of reality and ourselves. \nWe will also explore the idea and value of a spiritual community\, Sangha and the role it plays in the path to awakening. \nFor more experienced students this is a wonderful chance to clarify\, reinforce and deepen the crucial principles of our view and practice. \nRigpa’s policy is that financial difficulties should not be an obstacle to attending our courses. If this is an issue for you and attending this course\, please contact us at sydney@rigpa.org.au \nCurrent Sangha Members/Subscribers can register FREE using their discount code.
URL:https://rigpa.org.au/event/this-life-key-insights-from-the-buddhas-life-and-teachings/2026-04-28/
LOCATION:Rigpa Sydney\, 158 Australia St\, Newtown\, Sydney\, NSW\, 2042\, Australia
CATEGORIES:2026 - The Next Step - View,Featured Sydney,For Everyone,Sydney - Established,Sydney - Everyone
ATTACH;FMTTYPE=image/png:https://rigpa.org.au/wp-content/uploads/2026/04/This-Life-Sydney-April.png
ORGANIZER;CN="Rigpa Sydney":MAILTO:sydney@rigpa.org.au
END:VEVENT
BEGIN:VEVENT
DTSTART;TZID=Australia/Melbourne:20260428T184500
DTEND;TZID=Australia/Melbourne:20260428T193000
DTSTAMP:20260423T211218
CREATED:20240917T123632Z
LAST-MODIFIED:20240918T124847Z
UID:10002984-1777401900-1777404600@rigpa.org.au
SUMMARY:Tuesday Evening\, Drop in Meditation\, Rigpa Newcastle.
DESCRIPTION:Tuesday Evening Drop-in Meditation\n6:45pm to 7:30pm.\nHeld at and Supported by Infuse Health.\n4/10 William Street\, Adamstown. NSW. 2289.\n  \nThe first and basic practice of meditation is to allow the mind to settle into a state of ‘calm abiding’\, where it will find peace and stability. Training in mindfulness and calm abiding (shamatha) meditation pacifies our scattered minds\, defuses our powerful emotions and overcomes distraction. \nThese sessions are perfect for busy people without any meditation experience\, right through to seasoned meditators. Step by step guidance will help you build confidence in your own meditation practice and inspire you to establish a daily practice. \nDetails\n\n\nled by experienced meditators/ Rigpa instructors\nno booking required\nmultiple short sessions of meditation\nsome gentle guidance\nplease join the session no later than about 5 minutes before the session starts\ncushions and seats provided\nFree for Infuse Health members and Rigpa students\nOptional donation for others\n\n\n 
URL:https://rigpa.org.au/event/tuesday-evening-drop-in-meditation-rigpa-newcastle-2-2/2026-04-28/
LOCATION:Rigpa Newcastle at Infuse Health\, 4/10 William Street\, Adamstown\, Newcastle\, New South Wales\, 2289\, Australia
CATEGORIES:For Everyone,Newcastle,Newcastle - All welcome
ATTACH;FMTTYPE=image/png:https://rigpa.org.au/wp-content/uploads/2024/05/newcastle-drop-in-pic-180924.png
END:VEVENT
BEGIN:VEVENT
DTSTART;TZID=Australia/Melbourne:20260429T183000
DTEND;TZID=Australia/Melbourne:20260429T203000
DTSTAMP:20260423T211218
CREATED:20260416T021229Z
LAST-MODIFIED:20260416T022202Z
UID:10009778-1777487400-1777494600@rigpa.org.au
SUMMARY:Inspiring a Revolution in Your Heart and Mind: The Deathless  Unending Nature of Mind
DESCRIPTION:The Deathless Unending Nature of Mind \nWe have been taught to spend our lives chasing our thoughts and projections. Even when “mind” is talked about\, what is referred to is thoughts and emotions alone… We rarely look into the mind itself\, the ground from which all these expressions arise. \nIn this module\, we explore our thoughts\, emotions and mind to yield understandings that make meditation truly meaningful. The highest goal of meditation is to awaken in us the vast\, wise and compassionate\, sky-like nature of our mind and introduce to us who we really are: unchanging pure awareness. Instead of meditation being merely a way of bringing temporary relaxation\, it can become a powerful cause for your long-lasting happiness and the benefit of others. \nThis is part of a year long course based on The Tibetan Book of Living and Dying\, you can join at any time. This module explores The Deathless Unending Nature of Mind  (Module 3 of the full-year course). New students are welcome. \n📍 Online and Rigpa Sydney\, 158 Australia St\, Newtown.\n🗓️ Wednesday evenings\, this module runs for 5 weeks from 29 April to 27 May 2026\n⏰ 6.30pm – 8.30pm (AEST)
URL:https://rigpa.org.au/event/inspiring-a-revolution-in-your-heart-and-mind-the-deathless-unending-nature-of-mind/
LOCATION:Rigpa Sydney\, 158 Australia St\, Newtown\, Sydney\, NSW\, 2042\, Australia
CATEGORIES:2026 - Starting Your Journey,For Everyone,Online,Sydney - Everyone
ATTACH;FMTTYPE=image/png:https://rigpa.org.au/wp-content/uploads/2024/11/Inspiring.png
END:VEVENT
END:VCALENDAR