BEGIN:VCALENDAR
VERSION:2.0
PRODID:-//Rigpa Australia - ECPv6.15.20//NONSGML v1.0//EN
CALSCALE:GREGORIAN
METHOD:PUBLISH
X-WR-CALNAME:Rigpa Australia
X-ORIGINAL-URL:https://rigpa.org.au
X-WR-CALDESC:Events for Rigpa Australia
REFRESH-INTERVAL;VALUE=DURATION:PT1H
X-Robots-Tag:noindex
X-PUBLISHED-TTL:PT1H
BEGIN:VTIMEZONE
TZID:Australia/Melbourne
BEGIN:STANDARD
TZOFFSETFROM:+1100
TZOFFSETTO:+1000
TZNAME:AEST
DTSTART:20250405T160000
END:STANDARD
BEGIN:DAYLIGHT
TZOFFSETFROM:+1000
TZOFFSETTO:+1100
TZNAME:AEDT
DTSTART:20251004T160000
END:DAYLIGHT
BEGIN:STANDARD
TZOFFSETFROM:+1100
TZOFFSETTO:+1000
TZNAME:AEST
DTSTART:20260404T160000
END:STANDARD
BEGIN:DAYLIGHT
TZOFFSETFROM:+1000
TZOFFSETTO:+1100
TZNAME:AEDT
DTSTART:20261003T160000
END:DAYLIGHT
BEGIN:STANDARD
TZOFFSETFROM:+1100
TZOFFSETTO:+1000
TZNAME:AEST
DTSTART:20270403T160000
END:STANDARD
BEGIN:DAYLIGHT
TZOFFSETFROM:+1000
TZOFFSETTO:+1100
TZNAME:AEDT
DTSTART:20271002T160000
END:DAYLIGHT
END:VTIMEZONE
BEGIN:VEVENT
DTSTART;TZID=Australia/Melbourne:20260620T180000
DTEND;TZID=Australia/Melbourne:20260620T203000
DTSTAMP:20260424T073319
CREATED:20260220T021140Z
LAST-MODIFIED:20260306T070048Z
UID:10009022-1781978400-1781987400@rigpa.org.au
SUMMARY:Self-Forgiveness in the Light of Compassion
DESCRIPTION:Discover how to live with a lighter\, kinder heart. Many of us carry beliefs that we’re unworthy of love or beyond forgiveness\, leaving us trapped in guilt and self-blame. But punishing ourselves only deepens our suffering and prevents us from realizing our natural state. Through insight\, compassion\, and guided meditations\, you’ll learn to soften your “inner critic\,” release false beliefs\, and understand why you can let yourself off the hook—all of which frees your heart. As you cultivate forgiveness and compassion for yourself\, you’ll naturally feel a genuine compassion and understanding for others—and the world. \nSeminar topics: \n\nThe spiritual dimension of self-forgiveness\nDismantling the barriers to forgiving oneself\nUnderstanding your life with compassion and insight\nTransforming your ‘inner critic’\nReally good reasons you can let yourself off the hook  \nMeditations that deepen compassion and forgiveness for yourself and others\n\n  \nFeedback from past participants \n“It was helpful to be constantly reminded that no matter what\, we are fundamentally good and our mistakes do not define us. They are only a very small part and we can always shift towards the centre of ourselves with love.” \n“Forgiveness – of ourselves and others\, frees us. The seminar is a rich and deep dive into self-forgiveness using experiential learning in a supportive\, engaging and accessible format\, and is inclusive to people of all and no faith traditions. The content and guided meditations draw on different sources and this\, along with the kindness\, clarity and skill of Christine act as an invitation to a more profound connection with our own basic goodness.” \n“The seminar has brought profound understanding and healing. It was both liberating and extremely challenging with the emergence of once unacknowledged emotions. A moving and heartfelt experience.” \n“The seminar was timely as I’ve had a few new challenges\, while already living in a shut-down state. I’ve been able to offer my younger self love\, compassion and forgiveness which in turn has softened my heart to others I’d been closed off to. Now\, I feel more open and spacious.” \n  \n3 sessions:\n20 June 6:00pm-8:30pm AEST\n27 June 6:00pm-8:30pm AEST\n4 July 6:00pm-8:30pm AEST \n(6:00pm AEST = 4:00pm  Hong Kong Time\, 9:00am GMT\, and 9:00am Central European Time) \nTime and date converter\nhttps://www.timeanddate.com/worldclock/converter.html?iso=20260620T080000&p1=31&p2=240&p3=196&p4=102&p5=136&p6=103&p7=176 \nIf you need to miss one of these sessions\, you’ll be able to catch up by viewing a recording. \n  \nAbout Christine \nChristine Longaker is a pioneer of the hospice movement and author of Facing Death and Finding Hope \, translated into 9 languages. She’s  co-author of Are You Ready and of published research on the benefits of Spiritual Care Training. She founded Rigpa in the USA in 1981\, the Spiritual Care Education Program in 1993\, and co-produced an in-depth accredited Contemplative Palliative Care training at Naropa University. Christine has produced an album of meditations: “Joy\, Ease and Self-Forgiveness”\, guides self-compassion meditations online every Sunday and leads a yearly retreat in Sri Lanka. Christine infuses her seminars with heartfelt presence\, humor\, and clarity. Read more at www.christinelongaker.com.
URL:https://rigpa.org.au/event/self-forgiveness-in-the-light-of-compassion-3/2026-06-20/
LOCATION:Online via Zoom\, Australia
CATEGORIES:Featured Homepage,For Everyone,Online
ATTACH;FMTTYPE=image/png:https://rigpa.org.au/wp-content/uploads/2026/02/Self-Forgiveness-2026-text.png
END:VEVENT
END:VCALENDAR