BEGIN:VCALENDAR
VERSION:2.0
PRODID:-//Rigpa Australia - ECPv6.15.20//NONSGML v1.0//EN
CALSCALE:GREGORIAN
METHOD:PUBLISH
X-WR-CALNAME:Rigpa Australia
X-ORIGINAL-URL:https://rigpa.org.au
X-WR-CALDESC:Events for Rigpa Australia
REFRESH-INTERVAL;VALUE=DURATION:PT1H
X-Robots-Tag:noindex
X-PUBLISHED-TTL:PT1H
BEGIN:VTIMEZONE
TZID:Australia/Melbourne
BEGIN:STANDARD
TZOFFSETFROM:+1100
TZOFFSETTO:+1000
TZNAME:AEST
DTSTART:20250405T160000
END:STANDARD
BEGIN:DAYLIGHT
TZOFFSETFROM:+1000
TZOFFSETTO:+1100
TZNAME:AEDT
DTSTART:20251004T160000
END:DAYLIGHT
BEGIN:STANDARD
TZOFFSETFROM:+1100
TZOFFSETTO:+1000
TZNAME:AEST
DTSTART:20260404T160000
END:STANDARD
BEGIN:DAYLIGHT
TZOFFSETFROM:+1000
TZOFFSETTO:+1100
TZNAME:AEDT
DTSTART:20261003T160000
END:DAYLIGHT
BEGIN:STANDARD
TZOFFSETFROM:+1100
TZOFFSETTO:+1000
TZNAME:AEST
DTSTART:20270403T160000
END:STANDARD
BEGIN:DAYLIGHT
TZOFFSETFROM:+1000
TZOFFSETTO:+1100
TZNAME:AEDT
DTSTART:20271002T160000
END:DAYLIGHT
END:VTIMEZONE
BEGIN:VEVENT
DTSTART;TZID=Australia/Melbourne:20260428T183000
DTEND;TZID=Australia/Melbourne:20260428T203000
DTSTAMP:20260423T223850
CREATED:20260403T010924Z
LAST-MODIFIED:20260416T021852Z
UID:10009430-1777401000-1777408200@rigpa.org.au
SUMMARY:This Life: Key insights from the Buddha's life and teachings
DESCRIPTION:The Essence of the Three Yanas is the second module of the This Life course. It presents the key teachings and insights from the Buddha via the Three Vehicles: Peace\, Compassion & Wisdom. Through this nine week course\, we will explore how the treasure of this ancient wisdom may help us navigate the challenges in our modern society and learn to live a contented and meaningful life. \nThe course is aimed at people who have some experience of meditation and buddhist studies. \nThis course explores the Buddhist path to awakening through reflecting on the example of the Buddha\, understanding the fundamental message of his teachings\, the Dharma\, and looking into the value of the spiritual community—the Sangha —dedicated to following in the Buddha’s footsteps. \nThis course explores the life of the Buddha\, both in its historical context and from a spiritual perspective\, and reflects on the relevance that the Buddha’s life has for us now. \nIt presents the key principles of the Buddha’s Dharma teachings: including the four noble truths and the four seals\, which form the basis for all levels of practice on the Buddhist path. The course does not merely address these topics intellectually\, but rather gives students the opportunity to explore and internalize these crucial points through contemplation and practise. This will include examining: \n—The insights the Buddha’s teachings offer us about life and death. \n—How Buddhism is both a religion and a science of mind\, and how it differs from other religions and philosophies. \n—The Buddhist view of the nature of reality and ourselves. \nWe will also explore the idea and value of a spiritual community\, Sangha and the role it plays in the path to awakening. \nFor more experienced students this is a wonderful chance to clarify\, reinforce and deepen the crucial principles of our view and practice. \nRigpa’s policy is that financial difficulties should not be an obstacle to attending our courses. If this is an issue for you and attending this course\, please contact us at sydney@rigpa.org.au \nCurrent Sangha Members/Subscribers can register FREE using their discount code.
URL:https://rigpa.org.au/event/this-life-key-insights-from-the-buddhas-life-and-teachings/2026-04-28/
LOCATION:Rigpa Sydney\, 158 Australia St\, Newtown\, Sydney\, NSW\, 2042\, Australia
CATEGORIES:2026 - The Next Step - View,Featured Sydney,For Everyone,Sydney - Established,Sydney - Everyone
ATTACH;FMTTYPE=image/png:https://rigpa.org.au/wp-content/uploads/2026/04/This-Life-Sydney-April.png
ORGANIZER;CN="Rigpa Sydney":MAILTO:sydney@rigpa.org.au
END:VEVENT
BEGIN:VEVENT
DTSTART;TZID=Australia/Melbourne:20260428T184500
DTEND;TZID=Australia/Melbourne:20260428T193000
DTSTAMP:20260423T223850
CREATED:20240917T123632Z
LAST-MODIFIED:20240918T124847Z
UID:10002984-1777401900-1777404600@rigpa.org.au
SUMMARY:Tuesday Evening\, Drop in Meditation\, Rigpa Newcastle.
DESCRIPTION:Tuesday Evening Drop-in Meditation\n6:45pm to 7:30pm.\nHeld at and Supported by Infuse Health.\n4/10 William Street\, Adamstown. NSW. 2289.\n  \nThe first and basic practice of meditation is to allow the mind to settle into a state of ‘calm abiding’\, where it will find peace and stability. Training in mindfulness and calm abiding (shamatha) meditation pacifies our scattered minds\, defuses our powerful emotions and overcomes distraction. \nThese sessions are perfect for busy people without any meditation experience\, right through to seasoned meditators. Step by step guidance will help you build confidence in your own meditation practice and inspire you to establish a daily practice. \nDetails\n\n\nled by experienced meditators/ Rigpa instructors\nno booking required\nmultiple short sessions of meditation\nsome gentle guidance\nplease join the session no later than about 5 minutes before the session starts\ncushions and seats provided\nFree for Infuse Health members and Rigpa students\nOptional donation for others\n\n\n 
URL:https://rigpa.org.au/event/tuesday-evening-drop-in-meditation-rigpa-newcastle-2-2/2026-04-28/
LOCATION:Rigpa Newcastle at Infuse Health\, 4/10 William Street\, Adamstown\, Newcastle\, New South Wales\, 2289\, Australia
CATEGORIES:For Everyone,Newcastle,Newcastle - All welcome
ATTACH;FMTTYPE=image/png:https://rigpa.org.au/wp-content/uploads/2024/05/newcastle-drop-in-pic-180924.png
END:VEVENT
END:VCALENDAR