BEGIN:VCALENDAR
VERSION:2.0
PRODID:-//Rigpa Australia - ECPv6.15.20//NONSGML v1.0//EN
CALSCALE:GREGORIAN
METHOD:PUBLISH
X-ORIGINAL-URL:https://rigpa.org.au
X-WR-CALDESC:Events for Rigpa Australia
REFRESH-INTERVAL;VALUE=DURATION:PT1H
X-Robots-Tag:noindex
X-PUBLISHED-TTL:PT1H
BEGIN:VTIMEZONE
TZID:Australia/Melbourne
BEGIN:STANDARD
TZOFFSETFROM:+1100
TZOFFSETTO:+1000
TZNAME:AEST
DTSTART:20220402T160000
END:STANDARD
BEGIN:DAYLIGHT
TZOFFSETFROM:+1000
TZOFFSETTO:+1100
TZNAME:AEDT
DTSTART:20221001T160000
END:DAYLIGHT
BEGIN:STANDARD
TZOFFSETFROM:+1100
TZOFFSETTO:+1000
TZNAME:AEST
DTSTART:20230401T160000
END:STANDARD
BEGIN:DAYLIGHT
TZOFFSETFROM:+1000
TZOFFSETTO:+1100
TZNAME:AEDT
DTSTART:20230930T160000
END:DAYLIGHT
BEGIN:STANDARD
TZOFFSETFROM:+1100
TZOFFSETTO:+1000
TZNAME:AEST
DTSTART:20240406T160000
END:STANDARD
BEGIN:DAYLIGHT
TZOFFSETFROM:+1000
TZOFFSETTO:+1100
TZNAME:AEDT
DTSTART:20241005T160000
END:DAYLIGHT
BEGIN:STANDARD
TZOFFSETFROM:+1100
TZOFFSETTO:+1000
TZNAME:AEST
DTSTART:20250405T160000
END:STANDARD
BEGIN:DAYLIGHT
TZOFFSETFROM:+1000
TZOFFSETTO:+1100
TZNAME:AEDT
DTSTART:20251004T160000
END:DAYLIGHT
END:VTIMEZONE
BEGIN:VTIMEZONE
TZID:Australia/Adelaide
BEGIN:STANDARD
TZOFFSETFROM:+1030
TZOFFSETTO:+0930
TZNAME:ACST
DTSTART:20220402T163000
END:STANDARD
BEGIN:DAYLIGHT
TZOFFSETFROM:+0930
TZOFFSETTO:+1030
TZNAME:ACDT
DTSTART:20221001T163000
END:DAYLIGHT
BEGIN:STANDARD
TZOFFSETFROM:+1030
TZOFFSETTO:+0930
TZNAME:ACST
DTSTART:20230401T163000
END:STANDARD
BEGIN:DAYLIGHT
TZOFFSETFROM:+0930
TZOFFSETTO:+1030
TZNAME:ACDT
DTSTART:20230930T163000
END:DAYLIGHT
BEGIN:STANDARD
TZOFFSETFROM:+1030
TZOFFSETTO:+0930
TZNAME:ACST
DTSTART:20240406T163000
END:STANDARD
BEGIN:DAYLIGHT
TZOFFSETFROM:+0930
TZOFFSETTO:+1030
TZNAME:ACDT
DTSTART:20241005T163000
END:DAYLIGHT
BEGIN:STANDARD
TZOFFSETFROM:+1030
TZOFFSETTO:+0930
TZNAME:ACST
DTSTART:20250405T163000
END:STANDARD
BEGIN:DAYLIGHT
TZOFFSETFROM:+0930
TZOFFSETTO:+1030
TZNAME:ACDT
DTSTART:20251004T163000
END:DAYLIGHT
END:VTIMEZONE
BEGIN:VEVENT
DTSTART;TZID=Australia/Melbourne:20240416T183000
DTEND;TZID=Australia/Melbourne:20240514T203000
DTSTAMP:20260424T112353
CREATED:20240310T003957Z
LAST-MODIFIED:20240310T003957Z
UID:10001120-1713292200-1715718600@rigpa.org.au
SUMMARY:Inspiring a Revolution in your Heart and Mind - Adelaide
DESCRIPTION:Inspiring a Revolution in your Heart and Mind\nContinuing the journey through\nThe Tibetan Book of Living and Dying\n5-week course\nBeginning Tuesdays 16 April to 14 May\n6.30pm to 8.30pm \nThe course follows the themes of The Tibetan Book of Living and Dying and is suitable both for complete beginners as well as established students. \nFREE for Rigpa subscribers. \nLocation\nRigpa Adelaide\, 1st Floor Theosophical Society Building\,\n310 South Terrace\, Adelaide\, \nEvent Fee(s)\n5 weeks – full ($15 per session) A$75.00\n5 weeks – concession ($10 per session) A$50.00\nOne session only (full) A$15.00\nOne session only (concession) A$10.00 \nRegister here. \nThe Tibetan Book of Living and Dying is available for purchase at our centre for $20. (Please bring cash – we do not have credit card facilities) \nWe hope that you can join us and we look forward to seeing you there.
URL:https://rigpa.org.au/event/inspiring-a-revolution-in-your-heart-and-mind-adelaide/
LOCATION:Rigpa Adelaide\, 310 South Terrace\, Adelaide\, South Australia\, 5000\, Australia
CATEGORIES:Adelaide Everyone,For Everyone
ATTACH;FMTTYPE=image/png:https://rigpa.org.au/wp-content/uploads/2024/03/Inspiring-a-Revolution-16-April-.png
ORGANIZER;CN="Rigpa Adelaide":MAILTO:adelaide@rigpa.org.au
END:VEVENT
BEGIN:VEVENT
DTSTART;TZID=Australia/Adelaide:20240302T093000
DTEND;TZID=Australia/Adelaide:20240302T120000
DTSTAMP:20260424T112353
CREATED:20240111T042722Z
LAST-MODIFIED:20240226T054346Z
UID:10001100-1709371800-1709380800@rigpa.org.au
SUMMARY:Transforming Daily Life into Meditation
DESCRIPTION:Transforming Daily Life into Meditation\nSaturday 2 March  |  9.30am – 12.00 noon\n  \nHow to Survive Your Mind – mindfulness\, awareness and compassion practices for yourself in everyday life. \nA monthly program on the first Saturday of the month that introduces you to meditation and discusses a topic of general interest. \nThis month’s topic is Transforming Daily Life into Meditation. \nFeel free to come along to any session that suit you. No need to register\, just drop in. \nFee: Standard $15\, Concession/Student $10\nWe do not have credit card facilities\, please bring cash.\nCost negotiable depending on your financial circumstances. \n  \nLocation: Rigpa Adelaide\nThe Theosophical Society Building\n1st Floor\, Upper Hall\n310 South Terrace\, Adelaide \nThe door on the ground floor will be open from 9.15am.\nIf you arrive after 9.30am\, please text the mobile number on the door and someone will come downstairs and let you in.
URL:https://rigpa.org.au/event/transforming-daily-life-into-meditation-2/
LOCATION:Rigpa Adelaide\, 310 South Terrace\, Adelaide\, South Australia\, 5000\, Australia
CATEGORIES:Adelaide Everyone,For Everyone
ORGANIZER;CN="Rigpa Adelaide":MAILTO:adelaide@rigpa.org.au
END:VEVENT
BEGIN:VEVENT
DTSTART;TZID=Australia/Melbourne:20240206T183000
DTEND;TZID=Australia/Melbourne:20240305T203000
DTSTAMP:20260424T112353
CREATED:20240108T031939Z
LAST-MODIFIED:20240111T043543Z
UID:10001099-1707244200-1709670600@rigpa.org.au
SUMMARY:Inspiring a Revolution in your Heart and Mind
DESCRIPTION:Inspiring a Revolution in your Heart and Mind\nContinuing the journey through\nThe Tibetan Book of Living and Dying\n5-week course\nBeginning Tuesdays 6 February to 5 March\n6.30pm to 8.30pm\n  \nThis next module will explore ‘Who we really are’ and the nature of self. \nThe course follows the themes of The Tibetan Book of Living and Dying and is suitable both for complete beginners as well as established students. \nFREE for Rigpa subscribers. \nLocation\nRigpa Adelaide\, 1st Floor Theosophical Society Building\,\n310 South Terrace\, Adelaide \nEvent Fee(s)\n5 weeks – full ($15 per session) A$75.00\n5 weeks – concession ($10 per session) A$50.00\nOne session only (full) A$15.00\nOne session only (concession) A$10.00 \nRegister here. \nThe Tibetan Book of Living and Dying is available for purchase at our centre for $20. (Please bring cash – we do not have credit card facilities) \nWe hope that you can join us and we look forward to seeing you there.
URL:https://rigpa.org.au/event/inspiring-a-revolution-in-your-heart-and-mind-7/
LOCATION:Rigpa Adelaide\, 310 South Terrace\, Adelaide\, South Australia\, 5000\, Australia
CATEGORIES:Adelaide Everyone,For Everyone
ORGANIZER;CN="Rigpa Adelaide":MAILTO:adelaide@rigpa.org.au
END:VEVENT
BEGIN:VEVENT
DTSTART;TZID=Australia/Adelaide:20240203T093000
DTEND;TZID=Australia/Adelaide:20240203T120000
DTSTAMP:20260424T112353
CREATED:20240108T014615Z
LAST-MODIFIED:20240226T054654Z
UID:10001098-1706952600-1706961600@rigpa.org.au
SUMMARY:How To Survive Your Mind
DESCRIPTION:What part does Awareness play in meditation?\nSaturday 3rd February  |  9.30am – 12.00 noon\nHow to Survive Your Mind – mindfulness\, awareness and compassion practices for yourself in everyday life. \nA monthly program on the first Saturday of the month that introduces you to meditation and discusses a topic of general interest.\nThis month’s topic is What part does Awareness play in meditation? \nFeel free to come along to any session that suit you. No need to register\, just drop in. \nFee: Standard $15\, Concession/Student $10\nWe do not have credit card facilities\, please bring cash.\nCost negotiable depending on your financial circumstances. \nLocation: Rigpa Adelaide\nThe Theosophical Society Building\n1st Floor\, Upper Hall\n310 South Terrace\, Adelaide \nThe door on the ground floor will be open from 9.15am.\nIf you arrive after 9.30am\, please text the mobile number on the door and someone will come downstairs and let you in.
URL:https://rigpa.org.au/event/how-to-survive-your-mind-3/
LOCATION:Rigpa Adelaide\, 310 South Terrace\, Adelaide\, South Australia\, 5000\, Australia
CATEGORIES:Adelaide Everyone,For Everyone
ORGANIZER;CN="Rigpa Adelaide":MAILTO:adelaide@rigpa.org.au
END:VEVENT
BEGIN:VEVENT
DTSTART;TZID=Australia/Adelaide:20231104T093000
DTEND;TZID=Australia/Adelaide:20231104T120000
DTSTAMP:20260424T112353
CREATED:20231016T032754Z
LAST-MODIFIED:20231017T231408Z
UID:10001056-1699090200-1699099200@rigpa.org.au
SUMMARY:Meditation is all about you and your mind
DESCRIPTION:Meditation is all about you and your mind\nSaturday 4 November  |  9.30am – 12.00 noon\nHow to Survive Your Mind – mindfulness\, awareness and compassion practices for yourself in everyday life. \nA monthly program on the first Saturday of the month that introduces you to meditation and discusses a topic of general interest.\nThis month’s topic is Meditation is all about you and your mind. \nFeel free to come along to any session that suit you. No need to register\, just drop in. \nFee: Standard $15\, Concession/Student $10\nWe do not have credit card facilities\, please bring cash.\nCost negotiable depending on your financial circumstances. \nLocation: Rigpa Adelaide\nThe Theosophical Society Building\n1st Floor\, Upper Hall\n310 South Terrace\, Adelaide \nThe door on the ground floor will be open from 9.15am.\nIf you arrive after 9.30am\, please text the mobile number on the door and someone will come downstairs and let you in.
URL:https://rigpa.org.au/event/meditation-is-all-about-you-and-your-mind/
LOCATION:Rigpa Adelaide\, 310 South Terrace\, Adelaide\, South Australia\, 5000\, Australia
CATEGORIES:Adelaide Everyone,For Everyone
ORGANIZER;CN="Rigpa Adelaide":MAILTO:adelaide@rigpa.org.au
END:VEVENT
BEGIN:VEVENT
DTSTART;TZID=Australia/Adelaide:20230902T093000
DTEND;TZID=Australia/Adelaide:20230902T120000
DTSTAMP:20260424T112353
CREATED:20230720T051320Z
LAST-MODIFIED:20230823T002454Z
UID:10001027-1693647000-1693656000@rigpa.org.au
SUMMARY:Parting and New Beginning - How we can meet impermanence with equanimity
DESCRIPTION:Parting and New Beginning – How we can meet impermanence with equanimity\nSaturday 2 September | 9.30am – 12.00 noon \nHow to Survive Your Mind – mindfulness\, awareness and compassion practices for yourself in everyday life. \nA monthly program on the first Saturday of the month that introduces you to meditation and discusses a topic of general interest. \nFeel free to come along to any session that suit you. No need to register\, just drop in. \nFee: Standard $15\, Concession/Student $10\nWe do not have credit card facilities\, please bring cash.\nCost negotiable depending on your financial circumstances. \nLocation: Rigpa Adelaide\nThe Theosophical Society Building\n1st Floor\, Upper Hall\n310 South Terrace\, Adelaide \nThe door on the ground floor will be open from 9.15am.\nIf you arrive after 9.30am\, please text the mobile number on the door and someone will come downstairs and let you in.
URL:https://rigpa.org.au/event/how-to-survive-your-mind-2/
LOCATION:Rigpa Adelaide\, 310 South Terrace\, Adelaide\, South Australia\, 5000\, Australia
CATEGORIES:Adelaide Everyone,For Everyone
ORGANIZER;CN="Rigpa Adelaide":MAILTO:adelaide@rigpa.org.au
END:VEVENT
BEGIN:VEVENT
DTSTART;TZID=Australia/Melbourne:20230822T063000
DTEND;TZID=Australia/Melbourne:20230919T203000
DTSTAMP:20260424T112353
CREATED:20230809T055807Z
LAST-MODIFIED:20230809T064757Z
UID:10001030-1692685800-1695155400@rigpa.org.au
SUMMARY:Inspiring a Revolution in your Heart and Mind
DESCRIPTION:Inspiring a Revolution in your Heart and Mind\nTuesdays 22 August to 19 September\n6.30pm to 8.30pm \nThis course takes participants on an experiential journey through The Tibetan Book of Living and Dying\, giving you a taste of its major themes and their practical implications. Suitable for people of any religion or of none\, the course encourages you to reflect on the Buddhist teachings\, to see what makes sense to you and to experiment with applying these teachings in your daily life. \nFREE for Rigpa subscribers. \nLocation\nRigpa Adelaide\, 310 South Terrace\, Adelaide \nEvent Fee(s)\n5 weeks – full ($15 per session) A$75.00\n5 weeks – concession ($10 per session) A$50.00\n5 weeks – under 35 years ($5 per session A$25.00\nOne session only (full) A$15.00\nOne session only (concession) A$10.00\nOne session only (under 35 years) A$5.00 \nRegister here
URL:https://rigpa.org.au/event/inspiring-a-revolution-in-your-heart-and-mind-6/
LOCATION:Rigpa Adelaide\, 310 South Terrace\, Adelaide\, South Australia\, 5000\, Australia
CATEGORIES:Adelaide Everyone,For Everyone
ORGANIZER;CN="Rigpa Adelaide":MAILTO:adelaide@rigpa.org.au
END:VEVENT
BEGIN:VEVENT
DTSTART;TZID=Australia/Adelaide:20230805T093000
DTEND;TZID=Australia/Adelaide:20230805T120000
DTSTAMP:20260424T112353
CREATED:20230720T050624Z
LAST-MODIFIED:20230726T020645Z
UID:10000747-1691227800-1691236800@rigpa.org.au
SUMMARY:Transforming Daily Life Into Meditation
DESCRIPTION:Saturday 5 August | 9.30am – 12.00 noon \nHow to Survive Your Mind – mindfulness\, awareness and compassion practices for yourself in everyday life. \nA monthly program on the first Saturday of the month that introduces you to meditation and discusses a topic of general interest.\nThis month’s topic is Transforming Daily Life Into Meditation. \nFeel free to come along to any session that suit you. No need to register\, just drop in. \nFee: Standard $15\, Concession/Student $10\nWe do not have credit card facilities\, please bring cash.\nCost negotiable depending on your financial circumstances. \nLocation: Rigpa Adelaide\nThe Theosophical Society Building\n1st Floor\, Upper Hall\n310 South Terrace\, Adelaide\nWeb: http://www.adelaide.rigpa.org.au \nThe door on the ground floor will be open from 9.15am.\nIf you arrive after 9.30am\, please text the mobile number on the door and someone will come downstairs and let you in.
URL:https://rigpa.org.au/event/transforming-daily-life-into-meditation/
LOCATION:Rigpa Adelaide\, 310 South Terrace\, Adelaide\, South Australia\, 5000\, Australia
CATEGORIES:Adelaide Everyone,For Everyone
ORGANIZER;CN="Rigpa Adelaide":MAILTO:adelaide@rigpa.org.au
END:VEVENT
BEGIN:VEVENT
DTSTART;TZID=Australia/Adelaide:20230704T183000
DTEND;TZID=Australia/Adelaide:20230801T203000
DTSTAMP:20260424T112353
CREATED:20230622T050527Z
LAST-MODIFIED:20230622T050527Z
UID:10001010-1688495400-1690921800@rigpa.org.au
SUMMARY:Inspiring a Revolution in Your Heart and Mind
DESCRIPTION:Inspiring a Revolution in your Heart and Mind \nTuesdays 4 July to 1 August  |  6.30pm to 8.30pm \nThis course takes participants on an experiential journey through The Tibetan Book of Living and Dying\, giving you a taste of its major themes and their practical implications. Suitable for people of any religion or of none\, the course encourages you to reflect on the Buddhist teachings\, to see what makes sense to you and to experiment with applying these teachings in your daily life. \nFREE for Rigpa subscribers. \nLocation\nRigpa Adelaide\, 310 South Terrace\, Adelaide \nEvent Fee(s)\n5 weeks ($15 per session) A$75.00\n5 weeks – concession ($10 per session) A$50.00\n5 weeks – under 35 years ($5 per session A$25.00\nFirst session only (full) A$15.00\nFirst session only (concession) A$10.00\nFirst session only (under 35 years) A$5.00 \nRegister here
URL:https://rigpa.org.au/event/inspiring-a-revolution-in-your-heart-and-mind-5/
LOCATION:Rigpa Adelaide\, 310 South Terrace\, Adelaide\, South Australia\, 5000\, Australia
CATEGORIES:Adelaide Everyone,For Everyone
ATTACH;FMTTYPE=image/jpeg:https://rigpa.org.au/wp-content/uploads/2023/06/Inspiring-a-Revolution-3.jpg
ORGANIZER;CN="Rigpa Adelaide":MAILTO:adelaide@rigpa.org.au
END:VEVENT
BEGIN:VEVENT
DTSTART;TZID=Australia/Adelaide:20230701T093000
DTEND;TZID=Australia/Adelaide:20230701T120000
DTSTAMP:20260424T112353
CREATED:20230619T041845Z
LAST-MODIFIED:20230623T014300Z
UID:10001009-1688203800-1688212800@rigpa.org.au
SUMMARY:Basic Sanity
DESCRIPTION:Basic Sanity \nSaturday 1 July | 9.30am – 12.00 noon \nHow to Survive Your Mind – mindfulness\, awareness and compassion practices for yourself in everyday life. \nA monthly program on the first Saturday of the month that introduces you to meditation and discusses a topic of general interest. \nFeel free to come along to any session that suit you. No need to register\, just drop in. \nFee: Standard $15\, Concession/Student $10\nWe do not have credit card facilities\, please bring cash.\nCost negotiable depending on your financial circumstances. \nLocation: Rigpa Adelaide\nThe Theosophical Society Building\n1st Floor\, Upper Hall\n310 South Terrace\, Adelaide \nThe door on the ground floor will be open from 9.15am. \nIf you arrive after 9.30am\, please text the mobile number on the door and someone will come downstairs and let you in.
URL:https://rigpa.org.au/event/basic-sanity/
LOCATION:Rigpa Adelaide\, 310 South Terrace\, Adelaide\, South Australia\, 5000\, Australia
CATEGORIES:Adelaide Everyone,For Everyone
ORGANIZER;CN="Rigpa Adelaide":MAILTO:adelaide@rigpa.org.au
END:VEVENT
BEGIN:VEVENT
DTSTART;TZID=Australia/Melbourne:20230523T063000
DTEND;TZID=Australia/Melbourne:20230620T203000
DTSTAMP:20260424T112353
CREATED:20230510T025641Z
LAST-MODIFIED:20230511T042123Z
UID:10001002-1684823400-1687293000@rigpa.org.au
SUMMARY:Inspiring a Revolution in Your Heart and Mind
DESCRIPTION:Inspiring a Revolution in your Heart and Mind \nTuesdays 23rd May to 20th June\n6.30pm to 8.30pm \nThis course takes participants on an experiential journey through The Tibetan Book of Living and Dying\, giving you a taste of its major themes and their practical implications. Suitable for people of any religion or of none\, the course encourages you to reflect on the Buddhist teachings\, to see what makes sense to you and to experiment with applying these teachings in your daily life. \nFREE for Rigpa subscribers.  \nLocation\nRigpa Adelaide\, 310 South Terrace\, Adelaide\,  \nEvent Fee(s)\n5 weeks ($15 per session)	          A$75.00\n5 weeks – concession ($10 per session)	  A$50.00\n5 weeks – under 35 years ($5 per session  A$25.00\nFirst session only (full)	          A$15.00\nFirst session only (concession)	          A$10.00\nFirst session only (under 35 years)	  A$5.00 \nRegister here
URL:https://rigpa.org.au/event/inspiring-a-revolution-in-your-heart-and-mind-4/
LOCATION:Rigpa Adelaide\, 310 South Terrace\, Adelaide\, South Australia\, 5000\, Australia
CATEGORIES:Adelaide Everyone,For Everyone
ATTACH;FMTTYPE=image/png:https://rigpa.org.au/wp-content/uploads/2023/05/Inspiring-a-Revolution-beginning-23rd-May.png
ORGANIZER;CN="Rigpa Adelaide":MAILTO:adelaide@rigpa.org.au
END:VEVENT
BEGIN:VEVENT
DTSTART;TZID=Australia/Melbourne:20230407T110000
DTEND;TZID=Australia/Melbourne:20230410T160000
DTSTAMP:20260424T112353
CREATED:20230305T025150Z
LAST-MODIFIED:20230324T025208Z
UID:10000987-1680865200-1681142400@rigpa.org.au
SUMMARY:Mind in Comfort and Ease | An Easter meditation retreat with Dr Ian Gawler
DESCRIPTION:Online and in person in Sydney\, Melbourne\, Adelaide\, Brisbane and Newcastle\nWe invite you to spend this Easter bringing your mind home in the supportive company of a community of meditators\, to go deeply into the practice of shamatha (calm abiding or peacefully remaining) meditation. Spend four days letting your mind settle naturally and simply resting in pure awareness. \nThe gift of learning to meditate is the greatest gift you can give yourself. It is only through meditation that you can discover your true nature and find the stability and confidence you will need to live and die well.  \nGenerally\, we waste our lives\, distracted from our true selves\, in endless activity. Meditation is the way to bring us back to ourselves\, where we can really experience and taste our full being\, beyond all habitual patterns. \nJoin us at one of our city centres each day for: \n\nTalks about the practice and benefits of meditation\nGuided shamatha meditation practices\nTime for contemplation\nBreak periods in supportive silence\nQuestion and answer sessions where you can clarify your practice\n\nIan Gawler will be presenting in person at our Melbourne centre\, with all sessions streamed live to all our city centres. \nAbout Dr Ian Gawler  \nDr Ian Gawler\, is a retired veterinarian\, long term cancer survivor and international best-selling author who has written and taught widely on meditation for over 30 years. Ian has been a student of Sogyal Rinpoche since 1985 and from 2006 to 2013 trained in the study and practice of authentic Buddhist teachings on meditation\, mind\, compassion and wisdom in Rigpa via the Institute of Wisdom and Compassion in France. He has also received teachings from His Holiness the Dalai Lama and many other teachers from across all traditions. Ian is closely involved with the Inter-Faith movement. \nIan has a long-term interest in the mind and wellbeing and his books include the ground breaking You Can Conquer Cancer and Blue Sky Mind. He co-founded the world’s first lifestyle-based self help programs for both cancer and MS and worked at the Gawler Foundation as therapeutic director for nearly 30 years. More recently he has been involved in developing a therapeutic meditation app Allevi8\, and in establishing Centres for Contemplative Studies at the University of Melbourne and Monash University. Ian has appeared widely in the media and been a keynote speaker at many conferences including Practical Wisdom and Happiness and its Causes. \nDr Gawler holds a Masters in Counselling and in 1987 he received the Order of Australia Medal for his contribution to the community. \n  \nThis retreat is suitable for \n\nPeople who have been enjoying Rigpa’s 20 Minutes a Day Meditation program\nThose who attended Inspiring a Revolution in Your Heart and Mind – A transformative course presenting the ancient wisdom of Tibetan Buddhism\nRigpa All Encompassing Path students\nAnyone who would like to develop or deepen their meditation practice – whether you are experienced or not\n\nLocations \nAdelaide: 310 South Terrace\, Adelaide\nBrisbane: 2/19 Enoggera Terrace\, Red Hill\nMelbourne: 803 Nicholson Street\, Carlton North\nSydney: 158 Australia Street\, Newtown\nNewcastle: Multifencing\, Unit 18/26 Oakdale Rd\, Gateshead \nThe event will be available online for those who are unable to get to a centre. If you aren’t able to join at a centre in your city and you are a Rigpa member\, we strongly encourage you to meet together with other sangha members to practice together. \n  \nSchedule \nFriday 11.00am – 6.00pm\nSaturday 9.15am – 6.00pm\nSunday 9.15am – 6.00pm\nMonday 9.15 – 4.00pm \n  \nPricing \nBenefactor: $500\nSubscribers $180\nNon-Subscribers $380\nNon-Subscribers Concession $200 \n  \nPartial attendance is possible\, daily rates:\nSubscribers $45\nNon-Subscribers $95\nNon-Subscribers Concession $50 \n  \nhttps://registration.rigpa.org.au/civicrm/event/info?id=1034&reset=1
URL:https://rigpa.org.au/event/mind-in-comfort-and-ease-an-easter-retreat-with-dr-ian-gawler/
LOCATION:South Australia
CATEGORIES:Adelaide Established,Adelaide Everyone,Established Students,For Everyone,Melbourne - Everyone,Melbourne Established Students,Online,Sydney - Established,Sydney - Everyone
ATTACH;FMTTYPE=image/png:https://rigpa.org.au/wp-content/uploads/2023/03/Easter-Reteat-2023-Insta-No-logo.png
ORGANIZER;CN="Rigpa Melbourne":MAILTO:melbourne@rigpa.org.au
END:VEVENT
END:VCALENDAR