BEGIN:VCALENDAR
VERSION:2.0
PRODID:-//Rigpa Australia - ECPv6.15.20//NONSGML v1.0//EN
CALSCALE:GREGORIAN
METHOD:PUBLISH
X-WR-CALNAME:Rigpa Australia
X-ORIGINAL-URL:https://rigpa.org.au
X-WR-CALDESC:Events for Rigpa Australia
REFRESH-INTERVAL;VALUE=DURATION:PT1H
X-Robots-Tag:noindex
X-PUBLISHED-TTL:PT1H
BEGIN:VTIMEZONE
TZID:Australia/Adelaide
BEGIN:STANDARD
TZOFFSETFROM:+1030
TZOFFSETTO:+0930
TZNAME:ACST
DTSTART:20250405T163000
END:STANDARD
BEGIN:DAYLIGHT
TZOFFSETFROM:+0930
TZOFFSETTO:+1030
TZNAME:ACDT
DTSTART:20251004T163000
END:DAYLIGHT
BEGIN:STANDARD
TZOFFSETFROM:+1030
TZOFFSETTO:+0930
TZNAME:ACST
DTSTART:20260404T163000
END:STANDARD
BEGIN:DAYLIGHT
TZOFFSETFROM:+0930
TZOFFSETTO:+1030
TZNAME:ACDT
DTSTART:20261003T163000
END:DAYLIGHT
BEGIN:STANDARD
TZOFFSETFROM:+1030
TZOFFSETTO:+0930
TZNAME:ACST
DTSTART:20270403T163000
END:STANDARD
BEGIN:DAYLIGHT
TZOFFSETFROM:+0930
TZOFFSETTO:+1030
TZNAME:ACDT
DTSTART:20271002T163000
END:DAYLIGHT
END:VTIMEZONE
BEGIN:VEVENT
DTSTART;TZID=Australia/Adelaide:20260207T093000
DTEND;TZID=Australia/Adelaide:20260207T120000
DTSTAMP:20260424T063512
CREATED:20260108T235121Z
LAST-MODIFIED:20260108T235122Z
UID:10007956-1770456600-1770465600@rigpa.org.au
SUMMARY:Meditation and Wisdom to Transform Everyday Life
DESCRIPTION:Make Friends with Your Mind\nSaturday 7 February | 9.30am – 12.00 noon\nThese Saturday morning sessions offer an introduction to meditation and practical advice from some of the foremost Tibetan Buddhist teachers of our age. \nYour mind can be your best friend or your worst nightmare. This session will introduce simple meditation practices that allow us to glimpse the pure mind that underlies all our emotions so that we can find lasting peace and sanity. \nFeel free to come along to any session that suits you. No need to register\, just drop in. \nFee: Standard $15\, Concession/Student $10\nWe do not have credit card facilities\, please bring cash.\nCost negotiable depending on your financial circumstances.
URL:https://rigpa.org.au/event/meditation-and-wisdom-to-transform-everyday-life-2-2/
LOCATION:Rigpa Adelaide\, 310 South Terrace\, Adelaide\, South Australia\, 5000\, Australia
CATEGORIES:Adelaide Everyone,For Everyone
ATTACH;FMTTYPE=image/jpeg:https://rigpa.org.au/wp-content/uploads/2026/01/MaWtTel-02-Make-Friends-With-Your-Mind.jpg
ORGANIZER;CN="Rigpa Adelaide":MAILTO:adelaide@rigpa.org.au
END:VEVENT
BEGIN:VEVENT
DTSTART;TZID=Australia/Adelaide:20260211T113000
DTEND;TZID=Australia/Adelaide:20260211T123000
DTSTAMP:20260424T063512
CREATED:20260107T033251Z
LAST-MODIFIED:20260107T033251Z
UID:10008016-1770809400-1770813000@rigpa.org.au
SUMMARY:Guided Meditation
DESCRIPTION:Returning of 11 February 2026\nEvery Wednesday\, all are welcome to join this 1-hour drop-in meditation session. Sit quietly with others and rest your mind. \nSimple instructions provided. \nNo need to register\, just drop in. \nBy donation.
URL:https://rigpa.org.au/event/guided-meditation/2026-02-11/
LOCATION:Rigpa Adelaide\, 310 South Terrace\, Adelaide\, South Australia\, 5000\, Australia
CATEGORIES:Adelaide Everyone,For Everyone
ATTACH;FMTTYPE=image/jpeg:https://rigpa.org.au/wp-content/uploads/2026/01/Wednesday-Meditations-Continuing.jpg
ORGANIZER;CN="Rigpa Adelaide":MAILTO:adelaide@rigpa.org.au
END:VEVENT
BEGIN:VEVENT
DTSTART;TZID=Australia/Adelaide:20260218T113000
DTEND;TZID=Australia/Adelaide:20260218T123000
DTSTAMP:20260424T063512
CREATED:20260107T033251Z
LAST-MODIFIED:20260107T033251Z
UID:10008017-1771414200-1771417800@rigpa.org.au
SUMMARY:Guided Meditation
DESCRIPTION:Returning of 11 February 2026\nEvery Wednesday\, all are welcome to join this 1-hour drop-in meditation session. Sit quietly with others and rest your mind. \nSimple instructions provided. \nNo need to register\, just drop in. \nBy donation.
URL:https://rigpa.org.au/event/guided-meditation/2026-02-18/
LOCATION:Rigpa Adelaide\, 310 South Terrace\, Adelaide\, South Australia\, 5000\, Australia
CATEGORIES:Adelaide Everyone,For Everyone
ATTACH;FMTTYPE=image/jpeg:https://rigpa.org.au/wp-content/uploads/2026/01/Wednesday-Meditations-Continuing.jpg
ORGANIZER;CN="Rigpa Adelaide":MAILTO:adelaide@rigpa.org.au
END:VEVENT
BEGIN:VEVENT
DTSTART;TZID=Australia/Adelaide:20260225T113000
DTEND;TZID=Australia/Adelaide:20260225T123000
DTSTAMP:20260424T063512
CREATED:20260107T033251Z
LAST-MODIFIED:20260107T033251Z
UID:10008018-1772019000-1772022600@rigpa.org.au
SUMMARY:Guided Meditation
DESCRIPTION:Returning of 11 February 2026\nEvery Wednesday\, all are welcome to join this 1-hour drop-in meditation session. Sit quietly with others and rest your mind. \nSimple instructions provided. \nNo need to register\, just drop in. \nBy donation.
URL:https://rigpa.org.au/event/guided-meditation/2026-02-25/
LOCATION:Rigpa Adelaide\, 310 South Terrace\, Adelaide\, South Australia\, 5000\, Australia
CATEGORIES:Adelaide Everyone,For Everyone
ATTACH;FMTTYPE=image/jpeg:https://rigpa.org.au/wp-content/uploads/2026/01/Wednesday-Meditations-Continuing.jpg
ORGANIZER;CN="Rigpa Adelaide":MAILTO:adelaide@rigpa.org.au
END:VEVENT
END:VCALENDAR