BEGIN:VCALENDAR
VERSION:2.0
PRODID:-//Rigpa Australia - ECPv6.15.20//NONSGML v1.0//EN
CALSCALE:GREGORIAN
METHOD:PUBLISH
X-ORIGINAL-URL:https://rigpa.org.au
X-WR-CALDESC:Events for Rigpa Australia
REFRESH-INTERVAL;VALUE=DURATION:PT1H
X-Robots-Tag:noindex
X-PUBLISHED-TTL:PT1H
BEGIN:VTIMEZONE
TZID:Australia/Adelaide
BEGIN:STANDARD
TZOFFSETFROM:+1030
TZOFFSETTO:+0930
TZNAME:ACST
DTSTART:20240406T163000
END:STANDARD
BEGIN:DAYLIGHT
TZOFFSETFROM:+0930
TZOFFSETTO:+1030
TZNAME:ACDT
DTSTART:20241005T163000
END:DAYLIGHT
BEGIN:STANDARD
TZOFFSETFROM:+1030
TZOFFSETTO:+0930
TZNAME:ACST
DTSTART:20250405T163000
END:STANDARD
BEGIN:DAYLIGHT
TZOFFSETFROM:+0930
TZOFFSETTO:+1030
TZNAME:ACDT
DTSTART:20251004T163000
END:DAYLIGHT
BEGIN:STANDARD
TZOFFSETFROM:+1030
TZOFFSETTO:+0930
TZNAME:ACST
DTSTART:20260404T163000
END:STANDARD
BEGIN:DAYLIGHT
TZOFFSETFROM:+0930
TZOFFSETTO:+1030
TZNAME:ACDT
DTSTART:20261003T163000
END:DAYLIGHT
END:VTIMEZONE
BEGIN:VEVENT
DTSTART;TZID=Australia/Adelaide:20251104T183000
DTEND;TZID=Australia/Adelaide:20251202T203000
DTSTAMP:20260424T092648
CREATED:20251014T032744Z
LAST-MODIFIED:20251014T033014Z
UID:10006816-1762281000-1764707400@rigpa.org.au
SUMMARY:Inspiring a Revolution in Your Heart and Mind
DESCRIPTION:Module 8 – Awakening Compassion\n5-week course\nTuesdays Beginning 4 November to 2 December\n6.30pm to 8.30pm\n\nInspiring a Revolution in Your Heart and Mind presents an experiential journey through The Tibetan Book of Living and Dying\, its major themes and their practical implications. Suitable for people of any religion or none\, the course encourages you to experiment with applying the Buddhist teachings in your daily life. \nThis module explores the Buddhist approach to practicing compassion and how to apply it in all situations. The first step to compassion is to realize that other people are just like you. They too wish to be happy and free from suffering. Then\, though the practice of Tonglen (giving and receiving)\, we begin to mentally take on the suffering of others with compassion and give your happiness and wellbeing with love. So that ultimately our every action can be an act of compassion. \nFREE for Rigpa subscribers. \nLocation\nRigpa Adelaide\, 1st Floor Theosophical Society Building\,\n310 South Terrace\, Adelaide \nEvent Fee(s)\n5 weeks – full ($15 per session) A$75.00\n5 weeks – concession ($10 per session) A$50.00\nOne session only (full) A$15.00\nOne session only (concession) A$10.00 \nRegister here.
URL:https://rigpa.org.au/event/inspiring-a-revolution-in-your-heart-and-mind-15/
LOCATION:Rigpa Adelaide\, 310 South Terrace\, Adelaide\, South Australia\, 5000\, Australia
CATEGORIES:Adelaide Everyone,For Everyone
ATTACH;FMTTYPE=image/jpeg:https://rigpa.org.au/wp-content/uploads/2025/10/Inspiring-a-Revolution-4-November.jpg
ORGANIZER;CN="Rigpa Adelaide":MAILTO:adelaide@rigpa.org.au
END:VEVENT
BEGIN:VEVENT
DTSTART;TZID=Australia/Adelaide:20251206T093000
DTEND;TZID=Australia/Adelaide:20251206T120000
DTSTAMP:20260424T092648
CREATED:20251018T052934Z
LAST-MODIFIED:20251018T052934Z
UID:10006818-1765013400-1765022400@rigpa.org.au
SUMMARY:How to Survive Your Mind
DESCRIPTION:Awakening Love Within\nSaturday 6 December | 9.30am – 12.00 noon\n  \nHow to Survive Your Mind – mindfulness\, awareness and compassion practices for yourself in everyday life. \nA monthly program on the first Saturday of the month that introduces you to meditation and discusses a topic of general interest. \nThis month’s topic is Awakening Love Within \nFeel free to come along to any session that suit you. No need to register\, just drop in. \nFee: Standard $15\, Concession/Student $10\nWe do not have credit card facilities\, please bring cash.\nCost negotiable depending on your financial circumstances. \nLocation: Rigpa Adelaide\nThe Theosophical Society Building\n1st Floor\, Upper Hall\n310 South Terrace\, Adelaide
URL:https://rigpa.org.au/event/how-to-survive-your-mind-8/
LOCATION:Rigpa Adelaide\, 310 South Terrace\, Adelaide\, South Australia\, 5000\, Australia
CATEGORIES:Adelaide Everyone,For Everyone
ATTACH;FMTTYPE=image/jpeg:https://rigpa.org.au/wp-content/uploads/2025/10/20251206-HTSYM-6-Dec-2025.jpg
ORGANIZER;CN="Rigpa Adelaide":MAILTO:adelaide@rigpa.org.au
END:VEVENT
END:VCALENDAR