BEGIN:VCALENDAR
VERSION:2.0
PRODID:-//Rigpa Australia - ECPv6.15.20//NONSGML v1.0//EN
CALSCALE:GREGORIAN
METHOD:PUBLISH
X-ORIGINAL-URL:https://rigpa.org.au
X-WR-CALDESC:Events for Rigpa Australia
REFRESH-INTERVAL;VALUE=DURATION:PT1H
X-Robots-Tag:noindex
X-PUBLISHED-TTL:PT1H
BEGIN:VTIMEZONE
TZID:Australia/Adelaide
BEGIN:STANDARD
TZOFFSETFROM:+1030
TZOFFSETTO:+0930
TZNAME:ACST
DTSTART:20240406T163000
END:STANDARD
BEGIN:DAYLIGHT
TZOFFSETFROM:+0930
TZOFFSETTO:+1030
TZNAME:ACDT
DTSTART:20241005T163000
END:DAYLIGHT
BEGIN:STANDARD
TZOFFSETFROM:+1030
TZOFFSETTO:+0930
TZNAME:ACST
DTSTART:20250405T163000
END:STANDARD
BEGIN:DAYLIGHT
TZOFFSETFROM:+0930
TZOFFSETTO:+1030
TZNAME:ACDT
DTSTART:20251004T163000
END:DAYLIGHT
BEGIN:STANDARD
TZOFFSETFROM:+1030
TZOFFSETTO:+0930
TZNAME:ACST
DTSTART:20260404T163000
END:STANDARD
BEGIN:DAYLIGHT
TZOFFSETFROM:+0930
TZOFFSETTO:+1030
TZNAME:ACDT
DTSTART:20261003T163000
END:DAYLIGHT
END:VTIMEZONE
BEGIN:VTIMEZONE
TZID:Australia/Melbourne
BEGIN:STANDARD
TZOFFSETFROM:+1100
TZOFFSETTO:+1000
TZNAME:AEST
DTSTART:20240406T160000
END:STANDARD
BEGIN:DAYLIGHT
TZOFFSETFROM:+1000
TZOFFSETTO:+1100
TZNAME:AEDT
DTSTART:20241005T160000
END:DAYLIGHT
BEGIN:STANDARD
TZOFFSETFROM:+1100
TZOFFSETTO:+1000
TZNAME:AEST
DTSTART:20250405T160000
END:STANDARD
BEGIN:DAYLIGHT
TZOFFSETFROM:+1000
TZOFFSETTO:+1100
TZNAME:AEDT
DTSTART:20251004T160000
END:DAYLIGHT
BEGIN:STANDARD
TZOFFSETFROM:+1100
TZOFFSETTO:+1000
TZNAME:AEST
DTSTART:20260404T160000
END:STANDARD
BEGIN:DAYLIGHT
TZOFFSETFROM:+1000
TZOFFSETTO:+1100
TZNAME:AEDT
DTSTART:20261003T160000
END:DAYLIGHT
END:VTIMEZONE
BEGIN:VEVENT
DTSTART;TZID=Australia/Adelaide:20250930T183000
DTEND;TZID=Australia/Adelaide:20251028T203000
DTSTAMP:20260424T134839
CREATED:20250923T053405Z
LAST-MODIFIED:20250923T054815Z
UID:10006614-1759257000-1761683400@rigpa.org.au
SUMMARY:Inspiring a Revolution in Your Heart and Mind
DESCRIPTION:Module 7 – Open Heart\n5-week course\nTuesdays Beginning 30 September to 28 October – 6.30pm to 8.30pm\nInspiring a Revolution in Your Heart and Mind presents an experiential journey through The Tibetan Book of Living and Dying\, its major themes and their practical implications. Suitable for people of any religion or none\, the course encourages you to experiment with applying the Buddhist teachings in your daily life. \nThis module provides an introduction to the Tibetan Buddhist compassion practices with a particular focus on loving kindness practice. Meditating on loving kindness can help us restore our love and confidence and heal unresolved emotional wounds. It also puts us back in touch with the fundamental goodness of our core being\, and once that has happened\, we are able to love ourselves and others. \nFREE for Rigpa subscribers. \nLocation\nRigpa Adelaide\, 1st Floor Theosophical Society Building\,\n310 South Terrace\, Adelaide \nEvent Fee(s)\n5 weeks – full ($15 per session) A$75.00\n5 weeks – concession ($10 per session) A$50.00\nOne session only (full) A$15.00\nOne session only (concession) A$10.00 \nRegister here \nThe Tibetan Book of Living and Dying is available for purchase at our centre for $20. (Please bring cash – we do not have credit card facilities) \nWe hope that you can join us and we look forward to seeing you there.
URL:https://rigpa.org.au/event/inspiring-a-revolution-in-your-heart-and-mind-14/
LOCATION:Rigpa Adelaide\, 310 South Terrace\, Adelaide\, South Australia\, 5000\, Australia
CATEGORIES:Adelaide Everyone,For Everyone
ATTACH;FMTTYPE=image/jpeg:https://rigpa.org.au/wp-content/uploads/2025/09/Inspiring-a-Revolution-30-September.jpg
ORGANIZER;CN="Rigpa Adelaide":MAILTO:adelaide@rigpa.org.au
END:VEVENT
BEGIN:VEVENT
DTSTART;TZID=Australia/Melbourne:20251004T093000
DTEND;TZID=Australia/Melbourne:20251004T120000
DTSTAMP:20260424T134839
CREATED:20250804T045449Z
LAST-MODIFIED:20250804T045747Z
UID:10006536-1759570200-1759579200@rigpa.org.au
SUMMARY:How to Survive Your Mind
DESCRIPTION:How to be happy and find stability\nSaturday 4 October | 9.30am – 12.00 noon\n  \nHow to Survive Your Mind – mindfulness\, awareness and compassion practices for yourself in everyday life. \nA monthly program on the first Saturday of the month that introduces you to meditation and discusses a topic of general interest. \nThis month’s topic is How to be happy and find stability \nFeel free to come along to any session that suit you. No need to register\, just drop in. \nFee: Standard $15\, Concession/Student $10\nWe do not have credit card facilities\, please bring cash.\nCost negotiable depending on your financial circumstances. \nLocation: Rigpa Adelaide\nThe Theosophical Society Building\n1st Floor\, Upper Hall\n310 South Terrace\, Adelaide
URL:https://rigpa.org.au/event/how-to-survive-your-mind-6/
LOCATION:Rigpa Adelaide\, 310 South Terrace\, Adelaide\, South Australia\, 5000\, Australia
CATEGORIES:Adelaide Everyone,For Everyone
ORGANIZER;CN="Rigpa Adelaide":MAILTO:adelaide@rigpa.org.au
END:VEVENT
BEGIN:VEVENT
DTSTART;TZID=Australia/Melbourne:20251006T190000
DTEND;TZID=Australia/Melbourne:20251006T210000
DTSTAMP:20260424T134839
CREATED:20251009T030007Z
LAST-MODIFIED:20251009T030007Z
UID:10006476-1759777200-1759784400@rigpa.org.au
SUMMARY:Practical Wisdom: Wisdom & Compassion in Action
DESCRIPTION:How can we apply the wisdom and compassion of the Buddha’s teachings to our daily lives? How can we translate the presence and awareness which we cultivate on the meditation cushion into action? How can we use our everyday activities to strengthen and deepen our view and understanding of reality? \nIn this day and age\, many of us find ourselves feeling busier and more stressed and it seems more difficult to find time for meditation practice. If we really wish to progress on the spiritual path\, we need to bridge the separation between our study and practice and our everyday life. Based on the wisdom of the Buddhadharma\, Sogyal Rinpoche’s Practical Wisdom teachings provide us with a rich array of advice and skilful tools to help us in our task of integrating the dharma into our lives in order to bring benefit to others. \nThe Practical Wisdom teachings show us how to dissolve the separation between our practice and our everyday life; how to use every opportunity of our day to progress on the spiritual path; and how to accomplish our everyday tasks more effortlessly and efficiently by applying the principles of the Buddhist teachings to our actions. These teachings are practical\, relevant\, and even life changing. \nParticipants of the course will need basic understanding of the principles of Mahayana Buddhism\, as well as some familiarity with meditation and compassion practices. It is recommended for student who have completed a course or retreat with Rigpa. \nLed by Western meditation instructors with many years of experience\, each session consists of: \n\nVideo teachings from Sogyal Rinpoche.\nMeditation practice\nTime for contemplation\nGroup discussions and Q&A\, offering each student the opportunity to explore the teachings and practices in an open supportive environment and to connect with a community of practitioners.\n\nThis is a FREE event\, however a donation would be gratefully received.
URL:https://rigpa.org.au/event/practical-wisdom-wisdom-compassion-in-action-3/
LOCATION:Online via Zoom\, Australia
CATEGORIES:Adelaide Everyone,Brisbane Everyone,For Everyone,Melbourne - Everyone,Online,Sydney - Everyone
ATTACH;FMTTYPE=image/png:https://rigpa.org.au/wp-content/uploads/2025/07/Practical-Wisdom.png
END:VEVENT
END:VCALENDAR