BEGIN:VCALENDAR
VERSION:2.0
PRODID:-//Rigpa Australia - ECPv6.15.20//NONSGML v1.0//EN
CALSCALE:GREGORIAN
METHOD:PUBLISH
X-ORIGINAL-URL:https://rigpa.org.au
X-WR-CALDESC:Events for Rigpa Australia
REFRESH-INTERVAL;VALUE=DURATION:PT1H
X-Robots-Tag:noindex
X-PUBLISHED-TTL:PT1H
BEGIN:VTIMEZONE
TZID:Australia/Melbourne
BEGIN:STANDARD
TZOFFSETFROM:+1100
TZOFFSETTO:+1000
TZNAME:AEST
DTSTART:20240406T160000
END:STANDARD
BEGIN:DAYLIGHT
TZOFFSETFROM:+1000
TZOFFSETTO:+1100
TZNAME:AEDT
DTSTART:20241005T160000
END:DAYLIGHT
BEGIN:STANDARD
TZOFFSETFROM:+1100
TZOFFSETTO:+1000
TZNAME:AEST
DTSTART:20250405T160000
END:STANDARD
BEGIN:DAYLIGHT
TZOFFSETFROM:+1000
TZOFFSETTO:+1100
TZNAME:AEDT
DTSTART:20251004T160000
END:DAYLIGHT
BEGIN:STANDARD
TZOFFSETFROM:+1100
TZOFFSETTO:+1000
TZNAME:AEST
DTSTART:20260404T160000
END:STANDARD
BEGIN:DAYLIGHT
TZOFFSETFROM:+1000
TZOFFSETTO:+1100
TZNAME:AEDT
DTSTART:20261003T160000
END:DAYLIGHT
END:VTIMEZONE
BEGIN:VTIMEZONE
TZID:Australia/Adelaide
BEGIN:STANDARD
TZOFFSETFROM:+1030
TZOFFSETTO:+0930
TZNAME:ACST
DTSTART:20240406T163000
END:STANDARD
BEGIN:DAYLIGHT
TZOFFSETFROM:+0930
TZOFFSETTO:+1030
TZNAME:ACDT
DTSTART:20241005T163000
END:DAYLIGHT
BEGIN:STANDARD
TZOFFSETFROM:+1030
TZOFFSETTO:+0930
TZNAME:ACST
DTSTART:20250405T163000
END:STANDARD
BEGIN:DAYLIGHT
TZOFFSETFROM:+0930
TZOFFSETTO:+1030
TZNAME:ACDT
DTSTART:20251004T163000
END:DAYLIGHT
BEGIN:STANDARD
TZOFFSETFROM:+1030
TZOFFSETTO:+0930
TZNAME:ACST
DTSTART:20260404T163000
END:STANDARD
BEGIN:DAYLIGHT
TZOFFSETFROM:+0930
TZOFFSETTO:+1030
TZNAME:ACDT
DTSTART:20261003T163000
END:DAYLIGHT
END:VTIMEZONE
BEGIN:VEVENT
DTSTART;TZID=Australia/Melbourne:20250603T183000
DTEND;TZID=Australia/Melbourne:20250701T203000
DTSTAMP:20260424T203600
CREATED:20250524T014931Z
LAST-MODIFIED:20250524T015241Z
UID:10005983-1748975400-1751401800@rigpa.org.au
SUMMARY:Inspiring a Revolution in your Heart and Mind
DESCRIPTION:Inspiring a Revolution in your Heart and Mind \nModule 4 – Bringing the Mind Home \n5-week course\nTuesdays Beginning 3 June to 1 July\n6.30pm to 8.30pm \nInspiring a Revolution in Your Heart and Mind presents an experiential journey through The Tibetan Book of Living and Dying\, its major themes and their practical implications. Suitable for people of any religion or none\, the course encourages you to experiment with applying the Buddhist teachings in your daily life. \nThis module takes a deep dive into a range of meditation techniques to enable us to access a rich variety of methods to transform our moods and emotions. This shows us how the whole purpose of meditation is to transcend our ordinary mind\, to discover our fundamental nature\, which we have lost touch with. The highest goal of meditation is to awake in us the sky-like nature of mind and introduce to us who we really are – our unchanging pure awareness. \nFREE for Rigpa subscribers. \nLocation\nRigpa Adelaide\, 1st Floor Theosophical Society Building\,\n310 South Terrace\, Adelaide \nEvent Fee(s)\n5 weeks – full ($15 per session) A$75.00\n5 weeks – concession ($10 per session) A$50.00\nOne session only (full) A$15.00\nOne session only (concession) A$10.00 \nRegister here. \nThe Tibetan Book of Living and Dying is available for purchase at our centre for $20. (Please bring cash – we do not have credit card facilities) \nWe hope that you can join us and we look forward to seeing you there.
URL:https://rigpa.org.au/event/inspiring-a-revolution-in-your-heart-and-mind-11/
LOCATION:Rigpa Adelaide\, 310 South Terrace\, Adelaide\, South Australia\, 5000\, Australia
CATEGORIES:Adelaide Everyone,For Everyone
ORGANIZER;CN="Rigpa Adelaide":MAILTO:adelaide@rigpa.org.au
END:VEVENT
BEGIN:VEVENT
DTSTART;TZID=Australia/Adelaide:20250705T093000
DTEND;TZID=Australia/Adelaide:20250705T120000
DTSTAMP:20260424T203600
CREATED:20250615T054729Z
LAST-MODIFIED:20250615T054729Z
UID:10006356-1751707800-1751716800@rigpa.org.au
SUMMARY:How To Survive Your Mind
DESCRIPTION:Overcoming the Conceptual Mind\nSaturday 5 July  |  9.30am – 12.00 noon\n  \nHow to Survive Your Mind – mindfulness\, awareness and compassion practices for yourself in everyday life. \nA monthly program on the first Saturday of the month that introduces you to meditation and discusses a topic of general interest. \nThis month’s topic is Overcoming the Conceptual Mind \nFeel free to come along to any session that suit you. No need to register\, just drop in. \nFee: Standard $15\, Concession/Student $10\nWe do not have credit card facilities\, please bring cash.\nCost negotiable depending on your financial circumstances. \nLocation: Rigpa Adelaide\nThe Theosophical Society Building\n1st Floor\, Upper Hall\n310 South Terrace\, Adelaide
URL:https://rigpa.org.au/event/how-to-survive-your-mind/
LOCATION:Rigpa Adelaide\, 310 South Terrace\, Adelaide\, South Australia\, 5000\, Australia
CATEGORIES:Adelaide Everyone,For Everyone
ORGANIZER;CN="Rigpa Adelaide":MAILTO:adelaide@rigpa.org.au
END:VEVENT
BEGIN:VEVENT
DTSTART;TZID=Australia/Adelaide:20250708T183000
DTEND;TZID=Australia/Adelaide:20250805T203000
DTSTAMP:20260424T203600
CREATED:20250627T051810Z
LAST-MODIFIED:20250627T052311Z
UID:10006359-1751999400-1754425800@rigpa.org.au
SUMMARY:Inspiring a Revolution in Your Heart and Mind
DESCRIPTION:Module 5 – Rebirth\, Karma and This Life  \n5-week course\nTuesdays Beginning 8 July to 5 August\n6.30pm to 8.30pm\n  \nInspiring a Revolution in Your Heart and Mind presents an experiential journey through The Tibetan Book of Living and Dying\, its major themes and their practical implications. Suitable for people of any religion or none\, the course encourages you to experiment with applying the Buddhist teachings in your daily life.\nThis module explores the Buddhist reasoning for the acceptance of rebirth and reincarnation. We will use the Buddha’s Four Noble Truths as a framework to help us take stock of our lives\, inspire a shift in the way we see ourselves and the way we relate to the world around us. Lastly\, the module investigates Karma. Karma is often misunderstood in as fate or pre-destination. Karma however\, if understood well\, presents us with an opportunity to be free from our suffering.\n  \nFREE for Rigpa subscribers. \nLocation\nRigpa Adelaide\, 1st Floor Theosophical Society Building\,\n310 South Terrace\, Adelaide \nEvent Fee(s)\n5 weeks – full ($15 per session) A$75.00\n5 weeks – concession ($10 per session) A$50.00\nOne session only (full) A$15.00\nOne session only (concession) A$10.00 \nRegister here. \nThe Tibetan Book of Living and Dying is available for purchase at our centre for $20. (Please bring cash – we do not have credit card facilities) \nWe hope that you can join us and we look forward to seeing you there.
URL:https://rigpa.org.au/event/inspiring-a-revolution-in-your-heart-and-mind-12/
LOCATION:Rigpa Adelaide\, 310 South Terrace\, Adelaide\, South Australia\, 5000\, Australia
CATEGORIES:Adelaide Everyone,For Everyone
ORGANIZER;CN="Rigpa Adelaide":MAILTO:adelaide@rigpa.org.au
END:VEVENT
END:VCALENDAR