BEGIN:VCALENDAR
VERSION:2.0
PRODID:-//Rigpa Australia - ECPv6.15.20//NONSGML v1.0//EN
CALSCALE:GREGORIAN
METHOD:PUBLISH
X-WR-CALNAME:Rigpa Australia
X-ORIGINAL-URL:https://rigpa.org.au
X-WR-CALDESC:Events for Rigpa Australia
REFRESH-INTERVAL;VALUE=DURATION:PT1H
X-Robots-Tag:noindex
X-PUBLISHED-TTL:PT1H
BEGIN:VTIMEZONE
TZID:Australia/Adelaide
BEGIN:STANDARD
TZOFFSETFROM:+1030
TZOFFSETTO:+0930
TZNAME:ACST
DTSTART:20240406T163000
END:STANDARD
BEGIN:DAYLIGHT
TZOFFSETFROM:+0930
TZOFFSETTO:+1030
TZNAME:ACDT
DTSTART:20241005T163000
END:DAYLIGHT
BEGIN:STANDARD
TZOFFSETFROM:+1030
TZOFFSETTO:+0930
TZNAME:ACST
DTSTART:20250405T163000
END:STANDARD
BEGIN:DAYLIGHT
TZOFFSETFROM:+0930
TZOFFSETTO:+1030
TZNAME:ACDT
DTSTART:20251004T163000
END:DAYLIGHT
BEGIN:STANDARD
TZOFFSETFROM:+1030
TZOFFSETTO:+0930
TZNAME:ACST
DTSTART:20260404T163000
END:STANDARD
BEGIN:DAYLIGHT
TZOFFSETFROM:+0930
TZOFFSETTO:+1030
TZNAME:ACDT
DTSTART:20261003T163000
END:DAYLIGHT
END:VTIMEZONE
BEGIN:VTIMEZONE
TZID:Australia/Melbourne
BEGIN:STANDARD
TZOFFSETFROM:+1100
TZOFFSETTO:+1000
TZNAME:AEST
DTSTART:20240406T160000
END:STANDARD
BEGIN:DAYLIGHT
TZOFFSETFROM:+1000
TZOFFSETTO:+1100
TZNAME:AEDT
DTSTART:20241005T160000
END:DAYLIGHT
BEGIN:STANDARD
TZOFFSETFROM:+1100
TZOFFSETTO:+1000
TZNAME:AEST
DTSTART:20250405T160000
END:STANDARD
BEGIN:DAYLIGHT
TZOFFSETFROM:+1000
TZOFFSETTO:+1100
TZNAME:AEDT
DTSTART:20251004T160000
END:DAYLIGHT
BEGIN:STANDARD
TZOFFSETFROM:+1100
TZOFFSETTO:+1000
TZNAME:AEST
DTSTART:20260404T160000
END:STANDARD
BEGIN:DAYLIGHT
TZOFFSETFROM:+1000
TZOFFSETTO:+1100
TZNAME:AEDT
DTSTART:20261003T160000
END:DAYLIGHT
END:VTIMEZONE
BEGIN:VEVENT
DTSTART;TZID=Australia/Adelaide:20250204T183000
DTEND;TZID=Australia/Adelaide:20250304T203000
DTSTAMP:20260425T105717
CREATED:20241224T033335Z
LAST-MODIFIED:20241224T061821Z
UID:10004136-1738693800-1741120200@rigpa.org.au
SUMMARY:Inspiring a Revolution in your Heart and Mind
DESCRIPTION:Module 1 – The Heart of the Tibetan Book of Living and Dying\nAnd Module 2 – The Great Deception – Understanding death and impermanence\n  \n5-week course\nTuesdays Beginning 4 February to 4 March\n6.30pm to 8.30pm \nInspiring a Revolution in Your Heart and Mind presents an experiential journey through The Tibetan Book of Living and Dying\, its major themes and their practical implications. Suitable for people of any religion or none\, the course encourages you to experiment with applying the Buddhist teachings in your daily life. \nFREE for Rigpa subscribers. \nLocation\nRigpa Adelaide\, 1st Floor Theosophical Society Building\,\n310 South Terrace\, Adelaide \nEvent Fee(s)\n5 weeks – full ($15 per session) A$75.00\n5 weeks – concession ($10 per session) A$50.00\nOne session only (full) A$15.00\nOne session only (concession) A$10.00 \nRegister here. \nThe Tibetan Book of Living and Dying is available for purchase at our centre for $20. (Please bring cash – we do not have credit card facilities) \nWe hope that you can join us and we look forward to seeing you there.
URL:https://rigpa.org.au/event/inspiring-a-revolution-in-your-heart-and-mind-8/2025-02-04/
LOCATION:Rigpa Adelaide\, 310 South Terrace\, Adelaide\, South Australia\, 5000\, Australia
CATEGORIES:Adelaide Everyone,For Everyone
ATTACH;FMTTYPE=image/jpeg:https://rigpa.org.au/wp-content/uploads/2024/12/Inspiring-a-Revolution-4-Feb.jpg
ORGANIZER;CN="Rigpa Adelaide":MAILTO:adelaide@rigpa.org.au
END:VEVENT
BEGIN:VEVENT
DTSTART;TZID=Australia/Adelaide:20250211T183000
DTEND;TZID=Australia/Adelaide:20250311T203000
DTSTAMP:20260425T105717
CREATED:20241224T033335Z
LAST-MODIFIED:20241224T061821Z
UID:10004437-1739298600-1741725000@rigpa.org.au
SUMMARY:Inspiring a Revolution in your Heart and Mind
DESCRIPTION:Module 1 – The Heart of the Tibetan Book of Living and Dying\nAnd Module 2 – The Great Deception – Understanding death and impermanence\n  \n5-week course\nTuesdays Beginning 4 February to 4 March\n6.30pm to 8.30pm \nInspiring a Revolution in Your Heart and Mind presents an experiential journey through The Tibetan Book of Living and Dying\, its major themes and their practical implications. Suitable for people of any religion or none\, the course encourages you to experiment with applying the Buddhist teachings in your daily life. \nFREE for Rigpa subscribers. \nLocation\nRigpa Adelaide\, 1st Floor Theosophical Society Building\,\n310 South Terrace\, Adelaide \nEvent Fee(s)\n5 weeks – full ($15 per session) A$75.00\n5 weeks – concession ($10 per session) A$50.00\nOne session only (full) A$15.00\nOne session only (concession) A$10.00 \nRegister here. \nThe Tibetan Book of Living and Dying is available for purchase at our centre for $20. (Please bring cash – we do not have credit card facilities) \nWe hope that you can join us and we look forward to seeing you there.
URL:https://rigpa.org.au/event/inspiring-a-revolution-in-your-heart-and-mind-8/2025-02-11/
LOCATION:Rigpa Adelaide\, 310 South Terrace\, Adelaide\, South Australia\, 5000\, Australia
CATEGORIES:Adelaide Everyone,For Everyone
ATTACH;FMTTYPE=image/jpeg:https://rigpa.org.au/wp-content/uploads/2024/12/Inspiring-a-Revolution-4-Feb.jpg
ORGANIZER;CN="Rigpa Adelaide":MAILTO:adelaide@rigpa.org.au
END:VEVENT
BEGIN:VEVENT
DTSTART;TZID=Australia/Adelaide:20250218T183000
DTEND;TZID=Australia/Adelaide:20250318T203000
DTSTAMP:20260425T105717
CREATED:20241224T033335Z
LAST-MODIFIED:20241224T061821Z
UID:10004438-1739903400-1742329800@rigpa.org.au
SUMMARY:Inspiring a Revolution in your Heart and Mind
DESCRIPTION:Module 1 – The Heart of the Tibetan Book of Living and Dying\nAnd Module 2 – The Great Deception – Understanding death and impermanence\n  \n5-week course\nTuesdays Beginning 4 February to 4 March\n6.30pm to 8.30pm \nInspiring a Revolution in Your Heart and Mind presents an experiential journey through The Tibetan Book of Living and Dying\, its major themes and their practical implications. Suitable for people of any religion or none\, the course encourages you to experiment with applying the Buddhist teachings in your daily life. \nFREE for Rigpa subscribers. \nLocation\nRigpa Adelaide\, 1st Floor Theosophical Society Building\,\n310 South Terrace\, Adelaide \nEvent Fee(s)\n5 weeks – full ($15 per session) A$75.00\n5 weeks – concession ($10 per session) A$50.00\nOne session only (full) A$15.00\nOne session only (concession) A$10.00 \nRegister here. \nThe Tibetan Book of Living and Dying is available for purchase at our centre for $20. (Please bring cash – we do not have credit card facilities) \nWe hope that you can join us and we look forward to seeing you there.
URL:https://rigpa.org.au/event/inspiring-a-revolution-in-your-heart-and-mind-8/2025-02-18/
LOCATION:Rigpa Adelaide\, 310 South Terrace\, Adelaide\, South Australia\, 5000\, Australia
CATEGORIES:Adelaide Everyone,For Everyone
ATTACH;FMTTYPE=image/jpeg:https://rigpa.org.au/wp-content/uploads/2024/12/Inspiring-a-Revolution-4-Feb.jpg
ORGANIZER;CN="Rigpa Adelaide":MAILTO:adelaide@rigpa.org.au
END:VEVENT
BEGIN:VEVENT
DTSTART;TZID=Australia/Adelaide:20250225T183000
DTEND;TZID=Australia/Adelaide:20250325T203000
DTSTAMP:20260425T105717
CREATED:20241224T033335Z
LAST-MODIFIED:20241224T061821Z
UID:10004439-1740508200-1742934600@rigpa.org.au
SUMMARY:Inspiring a Revolution in your Heart and Mind
DESCRIPTION:Module 1 – The Heart of the Tibetan Book of Living and Dying\nAnd Module 2 – The Great Deception – Understanding death and impermanence\n  \n5-week course\nTuesdays Beginning 4 February to 4 March\n6.30pm to 8.30pm \nInspiring a Revolution in Your Heart and Mind presents an experiential journey through The Tibetan Book of Living and Dying\, its major themes and their practical implications. Suitable for people of any religion or none\, the course encourages you to experiment with applying the Buddhist teachings in your daily life. \nFREE for Rigpa subscribers. \nLocation\nRigpa Adelaide\, 1st Floor Theosophical Society Building\,\n310 South Terrace\, Adelaide \nEvent Fee(s)\n5 weeks – full ($15 per session) A$75.00\n5 weeks – concession ($10 per session) A$50.00\nOne session only (full) A$15.00\nOne session only (concession) A$10.00 \nRegister here. \nThe Tibetan Book of Living and Dying is available for purchase at our centre for $20. (Please bring cash – we do not have credit card facilities) \nWe hope that you can join us and we look forward to seeing you there.
URL:https://rigpa.org.au/event/inspiring-a-revolution-in-your-heart-and-mind-8/2025-02-25/
LOCATION:Rigpa Adelaide\, 310 South Terrace\, Adelaide\, South Australia\, 5000\, Australia
CATEGORIES:Adelaide Everyone,For Everyone
ATTACH;FMTTYPE=image/jpeg:https://rigpa.org.au/wp-content/uploads/2024/12/Inspiring-a-Revolution-4-Feb.jpg
ORGANIZER;CN="Rigpa Adelaide":MAILTO:adelaide@rigpa.org.au
END:VEVENT
BEGIN:VEVENT
DTSTART;TZID=Australia/Adelaide:20250301T093000
DTEND;TZID=Australia/Adelaide:20250301T120000
DTSTAMP:20260425T105717
CREATED:20241226T044641Z
LAST-MODIFIED:20241226T045237Z
UID:10004696-1740821400-1740830400@rigpa.org.au
SUMMARY:Awakening Love Within
DESCRIPTION:Awakening Love Within\nSaturday 1 March  |  9.30am – 12.00 noon\nHow to Survive Your Mind – mindfulness\, awareness and compassion practices for yourself in everyday life.\nA monthly program on the first Saturday of the month that introduces you to meditation and discusses a topic of general interest. \n\nThis month’s topic is Awakening Love Within\nFeel free to come along to any session that suit you. No need to register\, just drop in.\nFee: Standard $15\, Concession/Student $10\nWe do not have credit card facilities\, please bring cash.\nCost negotiable depending on your financial circumstances.\n\nLocation: Rigpa Adelaide\nThe Theosophical Society Building\n1st Floor\, Upper Hall\n310 South Terrace\, Adelaide
URL:https://rigpa.org.au/event/awakening-love-within/
LOCATION:Rigpa Adelaide\, 310 South Terrace\, Adelaide\, South Australia\, 5000\, Australia
CATEGORIES:Adelaide Everyone,For Everyone
ORGANIZER;CN="Rigpa Adelaide":MAILTO:adelaide@rigpa.org.au
END:VEVENT
BEGIN:VEVENT
DTSTART;TZID=Australia/Adelaide:20250304T183000
DTEND;TZID=Australia/Adelaide:20250401T203000
DTSTAMP:20260425T105717
CREATED:20241224T033335Z
LAST-MODIFIED:20241224T061821Z
UID:10004440-1741113000-1743539400@rigpa.org.au
SUMMARY:Inspiring a Revolution in your Heart and Mind
DESCRIPTION:Module 1 – The Heart of the Tibetan Book of Living and Dying\nAnd Module 2 – The Great Deception – Understanding death and impermanence\n  \n5-week course\nTuesdays Beginning 4 February to 4 March\n6.30pm to 8.30pm \nInspiring a Revolution in Your Heart and Mind presents an experiential journey through The Tibetan Book of Living and Dying\, its major themes and their practical implications. Suitable for people of any religion or none\, the course encourages you to experiment with applying the Buddhist teachings in your daily life. \nFREE for Rigpa subscribers. \nLocation\nRigpa Adelaide\, 1st Floor Theosophical Society Building\,\n310 South Terrace\, Adelaide \nEvent Fee(s)\n5 weeks – full ($15 per session) A$75.00\n5 weeks – concession ($10 per session) A$50.00\nOne session only (full) A$15.00\nOne session only (concession) A$10.00 \nRegister here. \nThe Tibetan Book of Living and Dying is available for purchase at our centre for $20. (Please bring cash – we do not have credit card facilities) \nWe hope that you can join us and we look forward to seeing you there.
URL:https://rigpa.org.au/event/inspiring-a-revolution-in-your-heart-and-mind-8/2025-03-04/
LOCATION:Rigpa Adelaide\, 310 South Terrace\, Adelaide\, South Australia\, 5000\, Australia
CATEGORIES:Adelaide Everyone,For Everyone
ATTACH;FMTTYPE=image/jpeg:https://rigpa.org.au/wp-content/uploads/2024/12/Inspiring-a-Revolution-4-Feb.jpg
ORGANIZER;CN="Rigpa Adelaide":MAILTO:adelaide@rigpa.org.au
END:VEVENT
BEGIN:VEVENT
DTSTART;TZID=Australia/Melbourne:20250318T183000
DTEND;TZID=Australia/Melbourne:20250415T203000
DTSTAMP:20260425T105717
CREATED:20250221T013900Z
LAST-MODIFIED:20250221T021033Z
UID:10005242-1742322600-1744749000@rigpa.org.au
SUMMARY:Inspiring a Revolution in your Heart and Mind
DESCRIPTION:Module 2 – The Great Deception – Understanding death and impermanence\n5-week course \nTuesdays Beginning 18 March to 15 April \n6.30pm to 8.30pm \nInspiring a Revolution in Your Heart and Mind presents an experiential journey through The Tibetan Book of Living and Dying\, its major themes and their practical implications. Suitable for people of any religion or none\, the course encourages you to experiment with applying the Buddhist teachings in your daily life. \nFREE for Rigpa subscribers. \nLocation:\nRigpa Adelaide\, 1st Floor Theosophical Society Building\,\n310 South Terrace\, Adelaide. \nEvent Fee(s):\n5 weeks – full ($15 per session) A$75.00\n5 weeks – concession ($10 per session) A$50.00\nOne session only (full) A$15.00\nOne session only (concession) A$10.00 \nRegister here. \nThe Tibetan Book of Living and Dying is available for purchase at our centre for $20. (Please bring cash – we do not have credit card facilities). \nWe hope that you can join us and we look forward to seeing you there.
URL:https://rigpa.org.au/event/inspiring-a-revolution-in-your-heart-and-mind-9/
LOCATION:Rigpa Adelaide\, 310 South Terrace\, Adelaide\, South Australia\, 5000\, Australia
CATEGORIES:Adelaide Everyone,For Everyone
ORGANIZER;CN="Rigpa Adelaide":MAILTO:adelaide@rigpa.org.au
END:VEVENT
END:VCALENDAR