BEGIN:VCALENDAR
VERSION:2.0
PRODID:-//Rigpa Australia - ECPv6.15.20//NONSGML v1.0//EN
CALSCALE:GREGORIAN
METHOD:PUBLISH
X-WR-CALNAME:Rigpa Australia
X-ORIGINAL-URL:https://rigpa.org.au
X-WR-CALDESC:Events for Rigpa Australia
REFRESH-INTERVAL;VALUE=DURATION:PT1H
X-Robots-Tag:noindex
X-PUBLISHED-TTL:PT1H
BEGIN:VTIMEZONE
TZID:Australia/Melbourne
BEGIN:STANDARD
TZOFFSETFROM:+1100
TZOFFSETTO:+1000
TZNAME:AEST
DTSTART:20230401T160000
END:STANDARD
BEGIN:DAYLIGHT
TZOFFSETFROM:+1000
TZOFFSETTO:+1100
TZNAME:AEDT
DTSTART:20230930T160000
END:DAYLIGHT
BEGIN:STANDARD
TZOFFSETFROM:+1100
TZOFFSETTO:+1000
TZNAME:AEST
DTSTART:20240406T160000
END:STANDARD
BEGIN:DAYLIGHT
TZOFFSETFROM:+1000
TZOFFSETTO:+1100
TZNAME:AEDT
DTSTART:20241005T160000
END:DAYLIGHT
BEGIN:STANDARD
TZOFFSETFROM:+1100
TZOFFSETTO:+1000
TZNAME:AEST
DTSTART:20250405T160000
END:STANDARD
BEGIN:DAYLIGHT
TZOFFSETFROM:+1000
TZOFFSETTO:+1100
TZNAME:AEDT
DTSTART:20251004T160000
END:DAYLIGHT
END:VTIMEZONE
BEGIN:VEVENT
DTSTART;TZID=Australia/Melbourne:20241105T080000
DTEND;TZID=Australia/Melbourne:20241203T170000
DTSTAMP:20260426T012146
CREATED:20241030T035100Z
LAST-MODIFIED:20241030T051326Z
UID:10003579-1730793600-1733245200@rigpa.org.au
SUMMARY:Inspiring a Revolution in Your Heart and Mind
DESCRIPTION:The Great Deception – Understanding death and impermanence\nThis module takes us on a journey from an investigation of death and impermanence\, through deep reflection on change and interdependence\, to an appreciation of the immeasurable\, indefinable potential of the true nature of our mind that is revealed beyond a mind that grasps at simple appearance.\n\n“So\, learn to die. And thou shall learn how to live. They shall non learn how to live\,\nthat had not learned to die”.\n  \n5-week course\nTuesdays Beginning 5 November to 3 December\n6.30pm to 8.30pm
URL:https://rigpa.org.au/event/inspiring-a-revolution-in-your-heart-and-mind-3/
LOCATION:Rigpa Adelaide\, 310 South Terrace\, Adelaide\, South Australia\, 5000\, Australia
CATEGORIES:Adelaide Everyone,For Everyone
ORGANIZER;CN="Rigpa Adelaide":MAILTO:adelaide@rigpa.org.au
END:VEVENT
END:VCALENDAR