BEGIN:VCALENDAR
VERSION:2.0
PRODID:-//Rigpa Australia - ECPv6.15.20//NONSGML v1.0//EN
CALSCALE:GREGORIAN
METHOD:PUBLISH
X-WR-CALNAME:Rigpa Australia
X-ORIGINAL-URL:https://rigpa.org.au
X-WR-CALDESC:Events for Rigpa Australia
REFRESH-INTERVAL;VALUE=DURATION:PT1H
X-Robots-Tag:noindex
X-PUBLISHED-TTL:PT1H
BEGIN:VTIMEZONE
TZID:Australia/Brisbane
BEGIN:STANDARD
TZOFFSETFROM:+1000
TZOFFSETTO:+1000
TZNAME:AEST
DTSTART:20250101T000000
END:STANDARD
END:VTIMEZONE
BEGIN:VEVENT
DTSTART;TZID=Australia/Brisbane:20260521T190000
DTEND;TZID=Australia/Brisbane:20260521T200000
DTSTAMP:20260424T050811
CREATED:20260107T010737Z
LAST-MODIFIED:20260415T104605Z
UID:10007890-1779390000-1779393600@rigpa.org.au
SUMMARY:Thursday Drop-in meditation/Brisbane
DESCRIPTION:These drop-in meditation sessions are a good opportunity to practice meditation in a supportive environment. \nAll are welcome and basic guidance is given. \nPre-booking is not required. \nEnquiries: brisbane@rigpa.org.au
URL:https://rigpa.org.au/event/thursday-drop-in-meditation-5/2026-05-21/
LOCATION:Rigpa Brisbane\, Unit 2/19 Enoggera Terrace\, Brisbane\, Queensland\, Australia
CATEGORIES:Brisbane Everyone,For Everyone
ATTACH;FMTTYPE=image/png:https://rigpa.org.au/wp-content/uploads/2025/03/Event-RB-Thurs-Drop-In-4-1080px-x-1080px.png
ORGANIZER;CN="Rigpa Brisbane":MAILTO:brisbane@rigpa.org.au
END:VEVENT
END:VCALENDAR