BEGIN:VCALENDAR
VERSION:2.0
PRODID:-//Rigpa Australia - ECPv6.15.20//NONSGML v1.0//EN
CALSCALE:GREGORIAN
METHOD:PUBLISH
X-WR-CALNAME:Rigpa Australia
X-ORIGINAL-URL:https://rigpa.org.au
X-WR-CALDESC:Events for Rigpa Australia
REFRESH-INTERVAL;VALUE=DURATION:PT1H
X-Robots-Tag:noindex
X-PUBLISHED-TTL:PT1H
BEGIN:VTIMEZONE
TZID:Australia/Melbourne
BEGIN:STANDARD
TZOFFSETFROM:+1100
TZOFFSETTO:+1000
TZNAME:AEST
DTSTART:20250405T160000
END:STANDARD
BEGIN:DAYLIGHT
TZOFFSETFROM:+1000
TZOFFSETTO:+1100
TZNAME:AEDT
DTSTART:20251004T160000
END:DAYLIGHT
BEGIN:STANDARD
TZOFFSETFROM:+1100
TZOFFSETTO:+1000
TZNAME:AEST
DTSTART:20260404T160000
END:STANDARD
BEGIN:DAYLIGHT
TZOFFSETFROM:+1000
TZOFFSETTO:+1100
TZNAME:AEDT
DTSTART:20261003T160000
END:DAYLIGHT
BEGIN:STANDARD
TZOFFSETFROM:+1100
TZOFFSETTO:+1000
TZNAME:AEST
DTSTART:20270403T160000
END:STANDARD
BEGIN:DAYLIGHT
TZOFFSETFROM:+1000
TZOFFSETTO:+1100
TZNAME:AEDT
DTSTART:20271002T160000
END:DAYLIGHT
END:VTIMEZONE
BEGIN:VEVENT
DTSTART;TZID=Australia/Melbourne:20260505T100000
DTEND;TZID=Australia/Melbourne:20260505T120000
DTSTAMP:20260424T062754
CREATED:20260319T061512Z
LAST-MODIFIED:20260327T220105Z
UID:10009366-1777975200-1777982400@rigpa.org.au
SUMMARY:Inspiring a Revolution in Your Heart and Mind: Impermanence\, Reflection and Change / Newcastle/ Day Class
DESCRIPTION:Join us on an experiential journey through The Tibetan Book of Living and Dying. Discover a deep and universal wisdom explored in the major themes of the book\, and learn about their practical implications for living well. Suitable for people of any religion or of none\, this course encourages you to reflect on the Buddhist teachings\, to see what makes sense to you and to experiment with applying these teachings in your daily life. \nThe Tibetan Book of Living and Dying is widely regarded as one of the most complete and authoritative presentations of Tibetan Buddhism. A manual for life and death and a source of sacred inspiration from the heart of the Tibetan tradition\, The Tibetan Book of Living and Dying provides a lucid and inspiring introduction to the practice of meditation\, to the nature of mind\, to karma and rebirth\, and to the trials and rewards of the spiritual path. The teachings\, meditation and contemplations from this authentic tradition reveal how each of us can live a more meaningful\, connected and fulfilling life. \nParticipants in this course will learn: \n\nHow to meditate\nHow an acceptance of impermanence can help us understand death and change our attitude towards life\nHow meditation can transform our perception\, increase our confidence and fully connect us to the world around us\nThat mind is much more than just thoughts and emotions\nHow understanding the interdependency of all things and the principle of karma (that every action has an effect) gives us a logical basis for ethics and personal responsibility\n\nLed by Western meditation instructors with many years of experience\, each session consists of: \n\nVideo teachings from Tibetan and Western Buddhist masters including Sogyal Rinpoche\, Jetsün Khandro Rinpoche\, Ringu Tulku Rinpoche\, Mingyur Rinpoche\, Pema Chödrön and Sharon Salzberg.\nMeditation practice\nTime for contemplation\nGroup discussions and Q&A\, offering you the opportunity to explore the teachings and practices in an open supportive environment.\n\nThis is module two of a year-long course that students can join at any stage. Each module focuses on a different topic. \nDetails \nModule Two – Impermanence\, Reflection and Change \nAll of us are touched by death in one way or another.  The Buddha said\, “If you want to know the truth of life and death\, you must reflect continuously on this: there is only one law in the universe that never changes—that all things change\, and that all things are impermanent.” \nIn the Buddhist approach\, life and death are seen as one whole. Death is a mirror in which the entire meaning of life is reflected. And we do not have to wait for the death of someone close to us to force us into looking at our lives. We can begin\, here and now\, to find meaning in our lives. \nCome with us on a journey investigating death and impermanence\, through deep reflection on change and interconnectedness\, to arrive at an appreciation of the vast potential of our own mind that is revealed when we let go of grasping at surface appearances. \nWhen: Tuesday mornings\, 5 May to 2 June. \nTime: 10.00am – 12.00pm (Australian Eastern Standard Time) \nWho: All welcome \nCost: 5 session module: Full $100\, Concession $50 \nFREE for Rigpa members/subscribers who may email newcastle@rigpa.org.au to request the discount code. \nIf you are experiencing financial hardship please email us at newcastle@rigpa.org.au to request a further concession.
URL:https://rigpa.org.au/event/inspiring-a-revolution-in-your-heart-and-mind-impermanence-reflection-and-change-newcastle-day-class/2026-05-05/
LOCATION:Rigpa Newcastle\, 2/2 Smith Street\, Charlestown\, nsw\, 2290\, Australia
CATEGORIES:For Everyone,Newcastle - All welcome
ATTACH;FMTTYPE=image/png:https://rigpa.org.au/wp-content/uploads/2026/03/Inspiring-Module-2-Newcastle.png
ORGANIZER;CN="Rigpa Newcastle":MAILTO:newcastle@rigpa.org.au
END:VEVENT
END:VCALENDAR