BEGIN:VCALENDAR
VERSION:2.0
PRODID:-//Rigpa Australia - ECPv6.15.20//NONSGML v1.0//EN
CALSCALE:GREGORIAN
METHOD:PUBLISH
X-WR-CALNAME:Rigpa Australia
X-ORIGINAL-URL:https://rigpa.org.au
X-WR-CALDESC:Events for Rigpa Australia
REFRESH-INTERVAL;VALUE=DURATION:PT1H
X-Robots-Tag:noindex
X-PUBLISHED-TTL:PT1H
BEGIN:VTIMEZONE
TZID:Australia/Melbourne
BEGIN:STANDARD
TZOFFSETFROM:+1100
TZOFFSETTO:+1000
TZNAME:AEST
DTSTART:20250405T160000
END:STANDARD
BEGIN:DAYLIGHT
TZOFFSETFROM:+1000
TZOFFSETTO:+1100
TZNAME:AEDT
DTSTART:20251004T160000
END:DAYLIGHT
BEGIN:STANDARD
TZOFFSETFROM:+1100
TZOFFSETTO:+1000
TZNAME:AEST
DTSTART:20260404T160000
END:STANDARD
BEGIN:DAYLIGHT
TZOFFSETFROM:+1000
TZOFFSETTO:+1100
TZNAME:AEDT
DTSTART:20261003T160000
END:DAYLIGHT
BEGIN:STANDARD
TZOFFSETFROM:+1100
TZOFFSETTO:+1000
TZNAME:AEST
DTSTART:20270403T160000
END:STANDARD
BEGIN:DAYLIGHT
TZOFFSETFROM:+1000
TZOFFSETTO:+1100
TZNAME:AEDT
DTSTART:20271002T160000
END:DAYLIGHT
END:VTIMEZONE
BEGIN:VEVENT
DTSTART;TZID=Australia/Melbourne:20260423T180000
DTEND;TZID=Australia/Melbourne:20260423T193000
DTSTAMP:20260423T210352
CREATED:20241118T042813Z
LAST-MODIFIED:20241120T083842Z
UID:10003747-1776967200-1776972600@rigpa.org.au
SUMMARY:The All Encompassing Path to Enlightenment
DESCRIPTION:The All-Encompassing Path to Enlightenment (AEPE) is the main study programme in Rigpa\, for students of all levels: new\, more advanced or in-between. This year\, the AEPE will explore the main principles of the preliminary practices\, called Ngöndro in Tibetan. Our most experienced Rigpa teachers will guide us through the key principles of the Ngöndro\, helping us to explore these principles in a fresh\, up-to-date\, real life way\, while preserving their authenticity. \nThese practices are a complete path in themselves and also the foundation for Vajrayana and Dzogchen practice\, encompassing all the elements needed to prepare us to fully receive the Great Perfection teachings of Dzogchen\, the highest and most direct stream of wisdom within the Tibetan Buddhist tradition. So no matter where we are on our path\, the AEPE will support us in taking it to completion.  \nThursday evenings\, all year\n 6:00-7:30pm AEDT (8:00am CET\, 2:00am Mon US East) \nOnline via Zoom
URL:https://rigpa.org.au/event/the-all-encompassing-path-to-enlightenment/2026-04-23/
LOCATION:Online via Zoom\, Australia
CATEGORIES:Established Students,Newcastle - Established Students,Online
ATTACH;FMTTYPE=image/png:https://rigpa.org.au/wp-content/uploads/2024/11/The-All-Encompassing-Path.png
END:VEVENT
END:VCALENDAR